BEGIN:VCALENDAR
VERSION:2.0
PRODID:-//Clapp Memorial Library - ECPv6.15.20//NONSGML v1.0//EN
CALSCALE:GREGORIAN
METHOD:PUBLISH
X-WR-CALNAME:Clapp Memorial Library
X-ORIGINAL-URL:https://clapplibrary.org
X-WR-CALDESC:Events for Clapp Memorial Library
REFRESH-INTERVAL;VALUE=DURATION:PT1H
X-Robots-Tag:noindex
X-PUBLISHED-TTL:PT1H
BEGIN:VTIMEZONE
TZID:America/New_York
BEGIN:DAYLIGHT
TZOFFSETFROM:-0500
TZOFFSETTO:-0400
TZNAME:EDT
DTSTART:20200308T070000
END:DAYLIGHT
BEGIN:STANDARD
TZOFFSETFROM:-0400
TZOFFSETTO:-0500
TZNAME:EST
DTSTART:20201101T060000
END:STANDARD
BEGIN:DAYLIGHT
TZOFFSETFROM:-0500
TZOFFSETTO:-0400
TZNAME:EDT
DTSTART:20210314T070000
END:DAYLIGHT
BEGIN:STANDARD
TZOFFSETFROM:-0400
TZOFFSETTO:-0500
TZNAME:EST
DTSTART:20211107T060000
END:STANDARD
BEGIN:DAYLIGHT
TZOFFSETFROM:-0500
TZOFFSETTO:-0400
TZNAME:EDT
DTSTART:20220313T070000
END:DAYLIGHT
BEGIN:STANDARD
TZOFFSETFROM:-0400
TZOFFSETTO:-0500
TZNAME:EST
DTSTART:20221106T060000
END:STANDARD
END:VTIMEZONE
BEGIN:VEVENT
DTSTART;TZID=America/New_York:20210720T103000
DTEND;TZID=America/New_York:20210720T120000
DTSTAMP:20260423T145255
CREATED:20210628T142231Z
LAST-MODIFIED:20210628T142231Z
UID:10000987-1626777000-1626782400@clapplibrary.org
SUMMARY:Virtual Libby Training
DESCRIPTION:Libby experts from OverDrive are coming to help you access our library’s digital collection of ebooks and audiobooks through the free Libby app on July 20th! You can sign-up to join here: https://bit.ly/belchertowntrain. \nIf you haven’t used the FREE Libby app yet to borrow digital titles from our library\, join at 10:30 to learn how to Get Started with Libby. \nThis virtual session will get you up to speed on everything you need to know to get started with Libby\, including:\n• Finding your library and signing in\n• Navigating the app\n• Browsing and searching for titles\n• Borrowing titles and placing holds • Managing notifications\n• And much more\n(Live\, runtime approx.: 35 minutes) \nWant to learn the experts’ favorite tips and tricks? Join us at 11:15 for the Libby Deep Dive session\, where OverDrive experts will show you how to get even more out of our Digital Collection.\n(Live\, runtime approx..: 30 minutes). \nJust have a few minutes? Want to ask the experts a few questions? Joe and Marissa have an open period at 11:05 (following Getting Started and before the Deep Dive) to chat!\n(Live\, approx..: 10 minutes) \nYou can sign-up here: https://bit.ly/belchertowntrain and come whenever you like!
URL:https://clapplibrary.org/event/virtual-libby-training/
LOCATION:Virtual\, MA
CATEGORIES:Classes & Lessons,Community Event
ATTACH;FMTTYPE=image/jpeg:https://clapplibrary.org/wp-content/uploads/2021/06/Patron-Training-Graphic.jpg
ORGANIZER;CN="Tegan M":MAILTO:tmannino@cwmars.org
END:VEVENT
END:VCALENDAR