BEGIN:VCALENDAR
VERSION:2.0
PRODID:-//Clapp Memorial Library - ECPv6.15.20//NONSGML v1.0//EN
CALSCALE:GREGORIAN
METHOD:PUBLISH
X-ORIGINAL-URL:https://clapplibrary.org
X-WR-CALDESC:Events for Clapp Memorial Library
REFRESH-INTERVAL;VALUE=DURATION:PT1H
X-Robots-Tag:noindex
X-PUBLISHED-TTL:PT1H
BEGIN:VTIMEZONE
TZID:America/New_York
BEGIN:DAYLIGHT
TZOFFSETFROM:-0500
TZOFFSETTO:-0400
TZNAME:EDT
DTSTART:20200308T070000
END:DAYLIGHT
BEGIN:STANDARD
TZOFFSETFROM:-0400
TZOFFSETTO:-0500
TZNAME:EST
DTSTART:20201101T060000
END:STANDARD
BEGIN:DAYLIGHT
TZOFFSETFROM:-0500
TZOFFSETTO:-0400
TZNAME:EDT
DTSTART:20210314T070000
END:DAYLIGHT
BEGIN:STANDARD
TZOFFSETFROM:-0400
TZOFFSETTO:-0500
TZNAME:EST
DTSTART:20211107T060000
END:STANDARD
BEGIN:DAYLIGHT
TZOFFSETFROM:-0500
TZOFFSETTO:-0400
TZNAME:EDT
DTSTART:20220313T070000
END:DAYLIGHT
BEGIN:STANDARD
TZOFFSETFROM:-0400
TZOFFSETTO:-0500
TZNAME:EST
DTSTART:20221106T060000
END:STANDARD
END:VTIMEZONE
BEGIN:VEVENT
DTSTART;TZID=America/New_York:20211117T163000
DTEND;TZID=America/New_York:20211117T173000
DTSTAMP:20260423T033113
CREATED:20211104T194437Z
LAST-MODIFIED:20211104T194437Z
UID:10001071-1637166600-1637170200@clapplibrary.org
SUMMARY:Teen Advisory Board - Nov 2021
DESCRIPTION:The Clapp Memorial Library’s Teen Advisory Board (TAB) will meet virtually on Wednesday\, November 17th\, at 4:30PM. The Teen Advisory Board is a group of 7th-12th grade students who propose library programming for teens and provide input on teen services. To receive the link to join the meeting\, teens must e-mail clapplibrarytab@gmail.com to register. Teens are encouraged to bring any suggestions for future library programs to this meeting! Bonus points if they have an idea for a virtual program as we head into winter! New members are welcome.
URL:https://clapplibrary.org/event/teen-advisory-board-nov-2021/
LOCATION:Virtual\, MA
CATEGORIES:Teen Events
ATTACH;FMTTYPE=image/jpeg:https://clapplibrary.org/wp-content/uploads/2015/06/Teen-Logo-FINAL-RGB_WEB.jpg
END:VEVENT
BEGIN:VEVENT
DTSTART;TZID=America/New_York:20211117T190000
DTEND;TZID=America/New_York:20211117T200000
DTSTAMP:20260423T033113
CREATED:20211021T225030Z
LAST-MODIFIED:20211021T225030Z
UID:10001068-1637175600-1637179200@clapplibrary.org
SUMMARY:Teen Write Night
DESCRIPTION:Calling all young writers\, poets\, playwrights\, and novelists! \nTeens in grades 7-12 are invited to attend weekly\, virtual Teen Write Nights throughout November as part of the library’s annual program for young writers during National Novel Writing Month. This is a great opportunity for teen writers to get feedback\, build community\, participate in writing exercises\, and grow their word count! \nCan’t make one of the dates? No problem! Attend as many of our Teen Write Nights as you want! Keep in mind that frequent attendance means more chances to win at our final party in December! \nYoung writers should e-mail clapplibrarytab@gmail.com for more information about the program and to register.
URL:https://clapplibrary.org/event/teen-write-night-2/2021-11-17/
LOCATION:Virtual\, MA
CATEGORIES:Teen Events,Writing Groups
ATTACH;FMTTYPE=image/png:https://clapplibrary.org/wp-content/uploads/2020/01/teens-planning.png
END:VEVENT
END:VCALENDAR