BEGIN:VCALENDAR
VERSION:2.0
PRODID:-//Clapp Memorial Library - ECPv6.15.20//NONSGML v1.0//EN
CALSCALE:GREGORIAN
METHOD:PUBLISH
X-ORIGINAL-URL:https://clapplibrary.org
X-WR-CALDESC:Events for Clapp Memorial Library
REFRESH-INTERVAL;VALUE=DURATION:PT1H
X-Robots-Tag:noindex
X-PUBLISHED-TTL:PT1H
BEGIN:VTIMEZONE
TZID:America/New_York
BEGIN:DAYLIGHT
TZOFFSETFROM:-0500
TZOFFSETTO:-0400
TZNAME:EDT
DTSTART:20210314T070000
END:DAYLIGHT
BEGIN:STANDARD
TZOFFSETFROM:-0400
TZOFFSETTO:-0500
TZNAME:EST
DTSTART:20211107T060000
END:STANDARD
BEGIN:DAYLIGHT
TZOFFSETFROM:-0500
TZOFFSETTO:-0400
TZNAME:EDT
DTSTART:20220313T070000
END:DAYLIGHT
BEGIN:STANDARD
TZOFFSETFROM:-0400
TZOFFSETTO:-0500
TZNAME:EST
DTSTART:20221106T060000
END:STANDARD
BEGIN:DAYLIGHT
TZOFFSETFROM:-0500
TZOFFSETTO:-0400
TZNAME:EDT
DTSTART:20230312T070000
END:DAYLIGHT
BEGIN:STANDARD
TZOFFSETFROM:-0400
TZOFFSETTO:-0500
TZNAME:EST
DTSTART:20231105T060000
END:STANDARD
END:VTIMEZONE
BEGIN:VEVENT
DTSTART;TZID=America/New_York:20221116T130000
DTEND;TZID=America/New_York:20221116T140000
DTSTAMP:20260423T090229
CREATED:20200410T191139Z
LAST-MODIFIED:20221018T200500Z
UID:10001354-1668603600-1668607200@clapplibrary.org
SUMMARY:Wednesday Whodunnits
DESCRIPTION:Our Mystery Book Group is held on the second Wednesday of each month at 1:00 p.m.  Book Club members should email akuchieski@cwmars.org for meeting details.
URL:https://clapplibrary.org/event/wednesday-whodunnits-virtual/2022-11-16/
LOCATION:Clapp Memorial Library\, 19 South Main Street\, Belchertown\, MA\, 01007\, United States
CATEGORIES:Book Discussion Groups
ATTACH;FMTTYPE=image/png:https://clapplibrary.org/wp-content/uploads/2020/04/mystery-banner.png
ORGANIZER;CN="Ann Kuchieski":MAILTO:akuchieski@cwmars.org
GEO:42.2761978;-72.3998528
X-APPLE-STRUCTURED-LOCATION;VALUE=URI;X-ADDRESS=Clapp Memorial Library 19 South Main Street Belchertown MA 01007 United States;X-APPLE-RADIUS=500;X-TITLE=19 South Main Street:geo:-72.3998528,42.2761978
END:VEVENT
BEGIN:VEVENT
DTSTART;TZID=America/New_York:20221116T170000
DTEND;TZID=America/New_York:20221116T183000
DTSTAMP:20260423T090229
CREATED:20221021T191548Z
LAST-MODIFIED:20221021T191548Z
UID:10001414-1668618000-1668623400@clapplibrary.org
SUMMARY:Teen Write Nights (November 2022)
DESCRIPTION:Teens in grades 7-12 are invited to weekly Teen Write Nights throughout November as part of the Clapp Memorial Library’s annual program for young writers during National Novel Writing Month. This is a great opportunity for teen writers to get feedback\, build community\, participate in writing exercises\, and grow their word count! Attend as many Teen Write Nights as you want\, but frequent attendance means more chances to win awesome prizes at our final party in December. Young writers can e-mail clapplibrarytab@gmail.com for more information about the program and to register. \nTeen Write Night #1\nNovember 2\, 5:00-6:30PM \nTeen Write Night #2\nNovember 9\, 5:00-6:30PM \nTeen Write Night #3\nNovember 16\, 5:00-6:30PM \nTeen Write Night #4\nNovember 23\, 5:00-6:30PM \nT.G.I.O. Party!\nDecember 7\, 5:00-6:30PM
URL:https://clapplibrary.org/event/teen-write-nights-november-2022/2022-11-16/
LOCATION:Clapp Memorial Library\, 19 South Main Street\, Belchertown\, MA\, 01007\, United States
CATEGORIES:Teen Events
ATTACH;FMTTYPE=image/png:https://clapplibrary.org/wp-content/uploads/2020/01/teens-planning.png
GEO:42.2761978;-72.3998528
X-APPLE-STRUCTURED-LOCATION;VALUE=URI;X-ADDRESS=Clapp Memorial Library 19 South Main Street Belchertown MA 01007 United States;X-APPLE-RADIUS=500;X-TITLE=19 South Main Street:geo:-72.3998528,42.2761978
END:VEVENT
END:VCALENDAR