BEGIN:VCALENDAR
VERSION:2.0
PRODID:-//Clapp Memorial Library - ECPv6.15.20//NONSGML v1.0//EN
CALSCALE:GREGORIAN
METHOD:PUBLISH
X-ORIGINAL-URL:https://clapplibrary.org
X-WR-CALDESC:Events for Clapp Memorial Library
REFRESH-INTERVAL;VALUE=DURATION:PT1H
X-Robots-Tag:noindex
X-PUBLISHED-TTL:PT1H
BEGIN:VTIMEZONE
TZID:America/New_York
BEGIN:DAYLIGHT
TZOFFSETFROM:-0500
TZOFFSETTO:-0400
TZNAME:EDT
DTSTART:20210314T070000
END:DAYLIGHT
BEGIN:STANDARD
TZOFFSETFROM:-0400
TZOFFSETTO:-0500
TZNAME:EST
DTSTART:20211107T060000
END:STANDARD
BEGIN:DAYLIGHT
TZOFFSETFROM:-0500
TZOFFSETTO:-0400
TZNAME:EDT
DTSTART:20220313T070000
END:DAYLIGHT
BEGIN:STANDARD
TZOFFSETFROM:-0400
TZOFFSETTO:-0500
TZNAME:EST
DTSTART:20221106T060000
END:STANDARD
BEGIN:DAYLIGHT
TZOFFSETFROM:-0500
TZOFFSETTO:-0400
TZNAME:EDT
DTSTART:20230312T070000
END:DAYLIGHT
BEGIN:STANDARD
TZOFFSETFROM:-0400
TZOFFSETTO:-0500
TZNAME:EST
DTSTART:20231105T060000
END:STANDARD
END:VTIMEZONE
BEGIN:VEVENT
DTSTART;TZID=America/New_York:20221118T140000
DTEND;TZID=America/New_York:20221118T173000
DTSTAMP:20260419T184153
CREATED:20220909T185526Z
LAST-MODIFIED:20221017T172533Z
UID:10001299-1668780000-1668792600@clapplibrary.org
SUMMARY:Games Day 2022
DESCRIPTION:Fun at the library\, bring a board game or try out one of ours!  All welcome. \nPart of International Games Month!
URL:https://clapplibrary.org/event/games-day-2022/
LOCATION:Clapp Memorial Library\, 19 South Main Street\, Belchertown\, MA\, 01007\, United States
CATEGORIES:Games
ATTACH;FMTTYPE=image/jpeg:https://clapplibrary.org/wp-content/uploads/2022/09/games-month.jpg
ORGANIZER;CN="Tegan M":MAILTO:tmannino@cwmars.org
GEO:42.2761978;-72.3998528
X-APPLE-STRUCTURED-LOCATION;VALUE=URI;X-ADDRESS=Clapp Memorial Library 19 South Main Street Belchertown MA 01007 United States;X-APPLE-RADIUS=500;X-TITLE=19 South Main Street:geo:-72.3998528,42.2761978
END:VEVENT
BEGIN:VEVENT
DTSTART;TZID=America/New_York:20221118T160000
DTEND;TZID=America/New_York:20221118T170000
DTSTAMP:20260419T184153
CREATED:20221108T185306Z
LAST-MODIFIED:20221108T185306Z
UID:10001453-1668787200-1668790800@clapplibrary.org
SUMMARY:Teen Advisory Board (Nov 2022)
DESCRIPTION:The library is bringing back our Games Day celebration on Friday\, November 18th from 2:00-5:30PM. Stop by and play one of the library’s board games\, or bring your own! Our Teen Advisory Board will have its monthly meeting this day from 4:00-5:00PM. There will be games and snacks as we talk about exciting things to come! You do not have to register for Games Day\, but TAB members should register for the meeting by emailing clapplibrarytab@gmail.com. \nThe Teen Advisory Board is a group of 7th-12th grade students who propose library programming for teens and provide input on teen services. New members are welcome.
URL:https://clapplibrary.org/event/teen-advisory-board-nov-2022/
LOCATION:Clapp Memorial Library\, 19 South Main Street\, Belchertown\, MA\, 01007\, United States
CATEGORIES:Teen Events
ATTACH;FMTTYPE=image/jpeg:https://clapplibrary.org/wp-content/uploads/2015/06/Teen-Logo-FINAL-RGB_WEB.jpg
GEO:42.2761978;-72.3998528
X-APPLE-STRUCTURED-LOCATION;VALUE=URI;X-ADDRESS=Clapp Memorial Library 19 South Main Street Belchertown MA 01007 United States;X-APPLE-RADIUS=500;X-TITLE=19 South Main Street:geo:-72.3998528,42.2761978
END:VEVENT
END:VCALENDAR