BEGIN:VCALENDAR
VERSION:2.0
PRODID:-//Clapp Memorial Library - ECPv6.15.20//NONSGML v1.0//EN
CALSCALE:GREGORIAN
METHOD:PUBLISH
X-WR-CALNAME:Clapp Memorial Library
X-ORIGINAL-URL:https://clapplibrary.org
X-WR-CALDESC:Events for Clapp Memorial Library
REFRESH-INTERVAL;VALUE=DURATION:PT1H
X-Robots-Tag:noindex
X-PUBLISHED-TTL:PT1H
BEGIN:VTIMEZONE
TZID:America/New_York
BEGIN:DAYLIGHT
TZOFFSETFROM:-0500
TZOFFSETTO:-0400
TZNAME:EDT
DTSTART:20230312T070000
END:DAYLIGHT
BEGIN:STANDARD
TZOFFSETFROM:-0400
TZOFFSETTO:-0500
TZNAME:EST
DTSTART:20231105T060000
END:STANDARD
BEGIN:DAYLIGHT
TZOFFSETFROM:-0500
TZOFFSETTO:-0400
TZNAME:EDT
DTSTART:20240310T070000
END:DAYLIGHT
BEGIN:STANDARD
TZOFFSETFROM:-0400
TZOFFSETTO:-0500
TZNAME:EST
DTSTART:20241103T060000
END:STANDARD
BEGIN:DAYLIGHT
TZOFFSETFROM:-0500
TZOFFSETTO:-0400
TZNAME:EDT
DTSTART:20250309T070000
END:DAYLIGHT
BEGIN:STANDARD
TZOFFSETFROM:-0400
TZOFFSETTO:-0500
TZNAME:EST
DTSTART:20251102T060000
END:STANDARD
END:VTIMEZONE
BEGIN:VEVENT
DTSTART;TZID=America/New_York:20240731T093000
DTEND;TZID=America/New_York:20240731T103000
DTSTAMP:20260419T143728
CREATED:20240517T203622Z
LAST-MODIFIED:20240517T203726Z
UID:10003110-1722418200-1722421800@clapplibrary.org
SUMMARY:Getting Ready for Kindergarten Summer 2024
DESCRIPTION:9:30-10:30 am\, Wednesdays\, July 10\, 17\, 24\, 31\, August 6 & 12\, \nGetting Ready for Kindergarten is for children entering Kindergarten this fall and beings at 9:30 AM. Getting Ready for Kindergarten feature age-appropriate stories\, songs\, finger plays and art activities independent of their caregivers to prepare young children for school. Program will be held in the Children’s Activity Room. \nRegistration and confirmation required\, click here to sign up. Registration open until all slots are filled. If the program is full you will be placed on a wait list. Confirmations and program information will be sent out several days before the program starts. \nSummer Story Times are part of our Summer Reading Program\, starting June 15th. Make sure to sign your child up for Summer Reading at clapplibrary.beanstack.com or via the Beanstack app.
URL:https://clapplibrary.org/event/getting-ready-for-kindergarten-summer-2024/2024-07-31/
LOCATION:Clapp Memorial Library\, 19 South Main Street\, Belchertown\, MA\, 01007\, United States
CATEGORIES:Children's Events
GEO:42.2761978;-72.3998528
X-APPLE-STRUCTURED-LOCATION;VALUE=URI;X-ADDRESS=Clapp Memorial Library 19 South Main Street Belchertown MA 01007 United States;X-APPLE-RADIUS=500;X-TITLE=19 South Main Street:geo:-72.3998528,42.2761978
END:VEVENT
BEGIN:VEVENT
DTSTART;TZID=America/New_York:20240731T150000
DTEND;TZID=America/New_York:20240731T160000
DTSTAMP:20260419T143728
CREATED:20240529T211643Z
LAST-MODIFIED:20240529T211644Z
UID:10003176-1722438000-1722441600@clapplibrary.org
SUMMARY:Teen Book Club - July Meeting
DESCRIPTION:The Clapp Memorial Library has started a book club for teens in/entering grades 7-12! This Teen Book Club will be in conjunction with the MA Teen Choice Book Awards (MTCBA)\, the only book award in the state selected by teens. Each month teens will read and meet to discuss one book from the nominee list. On Wednesday\, July 31st from 3:00-4:00PM\, teens will discuss Throwback by Maurene Goo. Copies of the book are available for checkout at the library’s circulation desk and on the hoopla app. Snacks will be provided at the meeting. Attendees will receive a raffle ticket for the Summer Reading Program.
URL:https://clapplibrary.org/event/teen-book-club-july-meeting/
LOCATION:Clapp Memorial Library\, 19 South Main Street\, Belchertown\, MA\, 01007\, United States
CATEGORIES:Book Discussion Groups,Teen Events
GEO:42.2761978;-72.3998528
X-APPLE-STRUCTURED-LOCATION;VALUE=URI;X-ADDRESS=Clapp Memorial Library 19 South Main Street Belchertown MA 01007 United States;X-APPLE-RADIUS=500;X-TITLE=19 South Main Street:geo:-72.3998528,42.2761978
END:VEVENT
BEGIN:VEVENT
DTSTART;TZID=America/New_York:20240731T160000
DTEND;TZID=America/New_York:20240731T170000
DTSTAMP:20260419T143728
CREATED:20240515T142801Z
LAST-MODIFIED:20240515T142802Z
UID:10003092-1722441600-1722445200@clapplibrary.org
SUMMARY:Teen Crafternoon: DIY Puzzle Piece Jewelry
DESCRIPTION:The Clapp Memorial Library is hosting a Teen Crafternoon for teens ages 12-18 from 4:00-5:00PM on Wednesday\, July 31st in the library’s Activity Room. Teens will learn how to upcycle puzzle pieces into jewelry. Attendees will leave the program with their jewelry pieces and with an additional raffle ticket for the Teen Summer Reading Program. Email clapplibrarytab@gmail.com or visit the library to register.
URL:https://clapplibrary.org/event/teen-crafternoon-diy-puzzle-piece-jewelry/
LOCATION:Clapp Memorial Library\, 19 South Main Street\, Belchertown\, MA\, 01007\, United States
CATEGORIES:Crafts,Teen Events
GEO:42.2761978;-72.3998528
X-APPLE-STRUCTURED-LOCATION;VALUE=URI;X-ADDRESS=Clapp Memorial Library 19 South Main Street Belchertown MA 01007 United States;X-APPLE-RADIUS=500;X-TITLE=19 South Main Street:geo:-72.3998528,42.2761978
END:VEVENT
BEGIN:VEVENT
DTSTART;TZID=America/New_York:20240731T180000
DTEND;TZID=America/New_York:20240731T200000
DTSTAMP:20260419T143728
CREATED:20240321T142722Z
LAST-MODIFIED:20240717T194708Z
UID:10003039-1722448800-1722456000@clapplibrary.org
SUMMARY:Needle Felted Whales
DESCRIPTION:Come learn the art of needle felting at the Clapp Memorial Library on Monday\, July 29 OR Wednesday\, July 31\, 6-8pm. Local fiber artist Anna Sunschauer will teach you how to sculpt fluffy wool fiber into a whale using felting needles. No prior needle felting experience is necessary\, but it is recommended that all participants have good fine motor skills to avoid injury with the sharp needles. All necessary tools and materials will be provided. \nPROGRAM FULL\, WAITLIST ONLY.  This workshop is open to adults and teens.\nSign up here: https://forms.gle/xwXxN9gFcrC44PmZ6 \nThis program is made possible by the Friends of the Clapp Memorial Library.
URL:https://clapplibrary.org/event/needle-felted-whales/2024-07-31/
LOCATION:Clapp Memorial Library\, 19 South Main Street\, Belchertown\, MA\, 01007\, United States
CATEGORIES:Classes & Lessons,Crafts
ORGANIZER;CN="Cyndi Harbeson":MAILTO:charbeson@cwmars.org
GEO:42.2761978;-72.3998528
X-APPLE-STRUCTURED-LOCATION;VALUE=URI;X-ADDRESS=Clapp Memorial Library 19 South Main Street Belchertown MA 01007 United States;X-APPLE-RADIUS=500;X-TITLE=19 South Main Street:geo:-72.3998528,42.2761978
END:VEVENT
BEGIN:VEVENT
DTSTART;TZID=America/New_York:20240731T180000
DTEND;TZID=America/New_York:20240731T203000
DTSTAMP:20260419T143728
CREATED:20240603T152051Z
LAST-MODIFIED:20240731T145314Z
UID:10003178-1722448800-1722457800@clapplibrary.org
SUMMARY:Whalemobile
DESCRIPTION:PROGRAM FULL \nFor ages 5 to 11. Children under age 10 must be accompanied by a caregiver age 14 or older. \nDo you love marine life\, but don’t have time to make it to the ocean this summer? Have no fear\, Nile is here! This 43 foot life sized inflatable humpback whale is swimming to your local library for a fun\, educational experience. Discover the remarkable similarities between whales and humans\, and have the hands-on-experience of touching real whale artifacts! \nSign up for a 30 minute visit inside Nile the Whale at the Town Hall Auditorium! Visit followed by hands-on activities\, so plan for a full hour for this interactive and fun program.  Visits starting at 6:00PM\, 6:30PM\, 7:00PM\, and 7:30PM! \nRegistration Required – sign up here: https://forms.gle/gUU8ogztPa2p4X857 \nhttps://thewhalemobile.com/
URL:https://clapplibrary.org/event/whalemobile/
LOCATION:Lawrence Memorial Hall (Town Hall) Auditorium\, Belchertown\, 01007\, United States
CATEGORIES:Children's Events,Classes & Lessons
GEO:42.2770346;-72.4008884
END:VEVENT
END:VCALENDAR