BEGIN:VCALENDAR
VERSION:2.0
PRODID:-//Clapp Memorial Library - ECPv6.15.20//NONSGML v1.0//EN
CALSCALE:GREGORIAN
METHOD:PUBLISH
X-ORIGINAL-URL:https://clapplibrary.org
X-WR-CALDESC:Events for Clapp Memorial Library
REFRESH-INTERVAL;VALUE=DURATION:PT1H
X-Robots-Tag:noindex
X-PUBLISHED-TTL:PT1H
BEGIN:VTIMEZONE
TZID:America/New_York
BEGIN:DAYLIGHT
TZOFFSETFROM:-0500
TZOFFSETTO:-0400
TZNAME:EDT
DTSTART:20230312T070000
END:DAYLIGHT
BEGIN:STANDARD
TZOFFSETFROM:-0400
TZOFFSETTO:-0500
TZNAME:EST
DTSTART:20231105T060000
END:STANDARD
BEGIN:DAYLIGHT
TZOFFSETFROM:-0500
TZOFFSETTO:-0400
TZNAME:EDT
DTSTART:20240310T070000
END:DAYLIGHT
BEGIN:STANDARD
TZOFFSETFROM:-0400
TZOFFSETTO:-0500
TZNAME:EST
DTSTART:20241103T060000
END:STANDARD
BEGIN:DAYLIGHT
TZOFFSETFROM:-0500
TZOFFSETTO:-0400
TZNAME:EDT
DTSTART:20250309T070000
END:DAYLIGHT
BEGIN:STANDARD
TZOFFSETFROM:-0400
TZOFFSETTO:-0500
TZNAME:EST
DTSTART:20251102T060000
END:STANDARD
END:VTIMEZONE
BEGIN:VEVENT
DTSTART;TZID=America/New_York:20240930T090000
DTEND;TZID=America/New_York:20240930T100000
DTSTAMP:20260419T093805
CREATED:20240905T204707Z
LAST-MODIFIED:20241004T145608Z
UID:10003548-1727686800-1727690400@clapplibrary.org
SUMMARY:Babytime Story time (3-12 mo) Fall 2024
DESCRIPTION:Babytime Story time (3-12 mo) Fall 2024\n9:00-9:45 AM\, Mondays\, Sep 30\, Oct 7\, 21\, 28\, Nov 4 & 18 \nBabytime is for ages 3 – 12 months and begins @ 9:00 AM. Registration is required. Our story times feature age-appropriate stories\, songs\, finger plays and art activities. \nRegistration and confirmation required\, sign up here: https://forms.gle/mcZ5J6jKN45yG6b7A. Registration open until all slots are filled. \nIf the program is full you will be placed on a wait list. Confirmations and program information will be sent out several days before the program starts.
URL:https://clapplibrary.org/event/babytime-story-time-3-12-mo-fall-2024/2024-09-30/
LOCATION:Clapp Memorial Library\, 19 South Main Street\, Belchertown\, MA\, 01007\, United States
CATEGORIES:Children's Events
ATTACH;FMTTYPE=image/jpeg:https://clapplibrary.org/wp-content/uploads/2015/08/StoryHour2.jpg
GEO:42.2761978;-72.3998528
X-APPLE-STRUCTURED-LOCATION;VALUE=URI;X-ADDRESS=Clapp Memorial Library 19 South Main Street Belchertown MA 01007 United States;X-APPLE-RADIUS=500;X-TITLE=19 South Main Street:geo:-72.3998528,42.2761978
END:VEVENT
BEGIN:VEVENT
DTSTART;TZID=America/New_York:20240930T100000
DTEND;TZID=America/New_York:20240930T110000
DTSTAMP:20260419T093805
CREATED:20240905T205004Z
LAST-MODIFIED:20240905T205004Z
UID:10003554-1727690400-1727694000@clapplibrary.org
SUMMARY:First Steps Storytime (12-24 months) Fall 2024
DESCRIPTION:Monday Firststeps (12-24 months) Fall 2024\n10:00-10:45 AM\, Mondays\, Sep 30\, Oct 7\, 21\, 28\, Nov 4 & 18 \nFirststeps is for ages 12 – 24 months and begins @ 10:00 AM. Registration is required. Our story times feature age-appropriate stories\, songs\, finger plays and art activities. \nRegistration and confirmation required\, sign up here: https://forms.gle/9yf3619iGU1pxuco8. Registration open until all slots are filled. If the program is full you will be placed on a wait list. Confirmations and program information will be sent out several days before the program starts.
URL:https://clapplibrary.org/event/first-steps-storytime-12-24-months-fall-2024/2024-09-30/
LOCATION:Clapp Memorial Library\, 19 South Main Street\, Belchertown\, MA\, 01007\, United States
CATEGORIES:Children's Events
ATTACH;FMTTYPE=image/jpeg:https://clapplibrary.org/wp-content/uploads/2015/08/StoryHour2.jpg
GEO:42.2761978;-72.3998528
X-APPLE-STRUCTURED-LOCATION;VALUE=URI;X-ADDRESS=Clapp Memorial Library 19 South Main Street Belchertown MA 01007 United States;X-APPLE-RADIUS=500;X-TITLE=19 South Main Street:geo:-72.3998528,42.2761978
END:VEVENT
END:VCALENDAR