BEGIN:VCALENDAR
VERSION:2.0
PRODID:-//Clapp Memorial Library - ECPv6.15.20//NONSGML v1.0//EN
CALSCALE:GREGORIAN
METHOD:PUBLISH
X-WR-CALNAME:Clapp Memorial Library
X-ORIGINAL-URL:https://clapplibrary.org
X-WR-CALDESC:Events for Clapp Memorial Library
REFRESH-INTERVAL;VALUE=DURATION:PT1H
X-Robots-Tag:noindex
X-PUBLISHED-TTL:PT1H
BEGIN:VTIMEZONE
TZID:America/New_York
BEGIN:DAYLIGHT
TZOFFSETFROM:-0500
TZOFFSETTO:-0400
TZNAME:EDT
DTSTART:20230312T070000
END:DAYLIGHT
BEGIN:STANDARD
TZOFFSETFROM:-0400
TZOFFSETTO:-0500
TZNAME:EST
DTSTART:20231105T060000
END:STANDARD
BEGIN:DAYLIGHT
TZOFFSETFROM:-0500
TZOFFSETTO:-0400
TZNAME:EDT
DTSTART:20240310T070000
END:DAYLIGHT
BEGIN:STANDARD
TZOFFSETFROM:-0400
TZOFFSETTO:-0500
TZNAME:EST
DTSTART:20241103T060000
END:STANDARD
BEGIN:DAYLIGHT
TZOFFSETFROM:-0500
TZOFFSETTO:-0400
TZNAME:EDT
DTSTART:20250309T070000
END:DAYLIGHT
BEGIN:STANDARD
TZOFFSETFROM:-0400
TZOFFSETTO:-0500
TZNAME:EST
DTSTART:20251102T060000
END:STANDARD
END:VTIMEZONE
BEGIN:VEVENT
DTSTART;TZID=America/New_York:20241216T090000
DTEND;TZID=America/New_York:20241216T100000
DTSTAMP:20260422T114609
CREATED:20241112T174333Z
LAST-MODIFIED:20241112T175211Z
UID:10003748-1734339600-1734343200@clapplibrary.org
SUMMARY:Babytime Storytime (3-12 mo) Winter 2025
DESCRIPTION:Babytime Story time (3-12 mo) Winter 2024\n9:00-9:45 AM\, Mondays\, Dec 9\, 12\, Jan 6\, 13\, 27\, Feb 3 & 10 \nBabytime is for ages 3 – 12 months and begins @ 9:00 AM. Registration is required. Our story times feature age-appropriate stories\, songs\, finger plays and art activities. \nRegistration and confirmation required\, sign up here: https://forms.gle/jRT4QmiCVsHQw5p1A. Registration open until all slots are filled. \nIf the program is full you will be placed on a wait list. Confirmations and program information will be sent out several days before the program starts.
URL:https://clapplibrary.org/event/babytime-story-time-3-12-mo-fall-2025/2024-12-16/
LOCATION:Clapp Memorial Library\, 19 South Main Street\, Belchertown\, MA\, 01007\, United States
CATEGORIES:Children's Events
ATTACH;FMTTYPE=image/jpeg:https://clapplibrary.org/wp-content/uploads/2015/08/StoryHour2.jpg
GEO:42.2761978;-72.3998528
X-APPLE-STRUCTURED-LOCATION;VALUE=URI;X-ADDRESS=Clapp Memorial Library 19 South Main Street Belchertown MA 01007 United States;X-APPLE-RADIUS=500;X-TITLE=19 South Main Street:geo:-72.3998528,42.2761978
END:VEVENT
BEGIN:VEVENT
DTSTART;TZID=America/New_York:20241216T100000
DTEND;TZID=America/New_York:20241216T110000
DTSTAMP:20260422T114609
CREATED:20241112T175053Z
LAST-MODIFIED:20241112T175053Z
UID:10003755-1734343200-1734346800@clapplibrary.org
SUMMARY:First Steps Storytime (12-24 months) Winter 2024
DESCRIPTION:Monday Firststeps (12-24 months) Winter 2024\n10:00-10:45 AM\, Mondays\, Dec 9\, 16\, Jan 6\, 13\, 27\, Feb 3 & 10 \nFirststeps is for ages 12 – 24 months and begins @ 10:00 AM. Registration is required. Our story times feature age-appropriate stories\, songs\, finger plays and art activities. \nRegistration and confirmation required\, sign up here: https://forms.gle/Pj4YcjA1nLCsPKot5. Registration open until all slots are filled. If the program is full you will be placed on a wait list. Confirmations and program information will be sent out several days before the program starts.
URL:https://clapplibrary.org/event/first-steps-storytime-12-24-months-winter-2024/2024-12-16/
LOCATION:Clapp Memorial Library\, 19 South Main Street\, Belchertown\, MA\, 01007\, United States
CATEGORIES:Children's Events
ATTACH;FMTTYPE=image/jpeg:https://clapplibrary.org/wp-content/uploads/2015/08/StoryHour2.jpg
GEO:42.2761978;-72.3998528
X-APPLE-STRUCTURED-LOCATION;VALUE=URI;X-ADDRESS=Clapp Memorial Library 19 South Main Street Belchertown MA 01007 United States;X-APPLE-RADIUS=500;X-TITLE=19 South Main Street:geo:-72.3998528,42.2761978
END:VEVENT
BEGIN:VEVENT
DTSTART;TZID=America/New_York:20241216T141500
DTEND;TZID=America/New_York:20241216T150000
DTSTAMP:20260422T114609
CREATED:20241112T195534Z
LAST-MODIFIED:20241112T195534Z
UID:10003775-1734358500-1734361200@clapplibrary.org
SUMMARY:Clapp Memorial Library/BHS Writing Club Team-Up
DESCRIPTION:The BHS Writing Club and the Clapp Memorial Library are teaming up for a writing workshop for teens in grades 7-12! Ruthie Sterling\, a novelist and the Clapp Memorial Library’s Teen Services Coordinator\, will run a writing workshop based on the Letters About Literature Writing Contest from the MA Center for the Book. The workshop will take place from 2:15-3:00PM on Monday\, December 16th in Room 318 at Belchertown High School. This contest\, which has a maximum cash prize of $200\, was won by a Belchertown student in 2020. Attend this workshop\, and you might be next! Students in grades 7-12 who do not attend Belchertown High School must email clapplibrarytab@gmail.com to register. Visit https://www.massbook.org/letters-about-literature for more information about the annual contest.
URL:https://clapplibrary.org/event/clapp-memorial-library-bhs-writing-club-team-up/
LOCATION:Belchertown High School\, 142 Springfield Road\, Belchertown\, MA\, 01007\, United States
CATEGORIES:Teen Events,Writing Groups
ATTACH;FMTTYPE=image/png:https://clapplibrary.org/wp-content/uploads/2020/01/teens-planning.png
END:VEVENT
BEGIN:VEVENT
DTSTART;TZID=America/New_York:20241216T143000
DTEND;TZID=America/New_York:20241216T173000
DTSTAMP:20260422T114609
CREATED:20241024T150918Z
LAST-MODIFIED:20241125T150913Z
UID:10003665-1734359400-1734370200@clapplibrary.org
SUMMARY:Needle Felting - Penguin
DESCRIPTION:PROGRAM & WAITLIST FULL \nCome learn the art of needle felting at the Clapp Memorial Library on Wednesday\, December 11 from 5:30-8:30pm OR Monday\, December 16 from 2:30-5:30pm \nLocal fiber artist Anna Sunschauer will teach you how to sculpt fluffy wool fiber into a penguin using felting needles. No prior needle felting experience is necessary\, but it is recommended that all participants have good fine motor skills to avoid injury with the sharp needles. All necessary tools and materials will be provided. \nThis workshop is open to adults. A separate workshop is being offered for teens. Space is limited and registration is required\, priority given to Belchertown residents.  Sign up here: https://forms.gle/6kKemx4SUTYzxYiY9 \nDue to the high popularity of Needle Felting programs and their limited capacity\, seats will be filled by lottery drawn from all registrants signed up by November 24th. \nThis program is made possible by the Friends of the Clapp Memorial Library. \nhttps://www.instagram.com/whimsical.fiber/
URL:https://clapplibrary.org/event/needle-felting-penguin/2024-12-16/
LOCATION:Clapp Memorial Library\, 19 South Main Street\, Belchertown\, MA\, 01007\, United States
CATEGORIES:Crafts
GEO:42.2761978;-72.3998528
X-APPLE-STRUCTURED-LOCATION;VALUE=URI;X-ADDRESS=Clapp Memorial Library 19 South Main Street Belchertown MA 01007 United States;X-APPLE-RADIUS=500;X-TITLE=19 South Main Street:geo:-72.3998528,42.2761978
END:VEVENT
BEGIN:VEVENT
DTSTART;TZID=America/New_York:20241216T190000
DTEND;TZID=America/New_York:20241216T200000
DTSTAMP:20260422T114609
CREATED:20241114T191920Z
LAST-MODIFIED:20241114T191922Z
UID:10003776-1734375600-1734379200@clapplibrary.org
SUMMARY:Belchertown Community Bell Choir
DESCRIPTION:The Belchertown Community Bells Choir has been playing and presenting concerts for over 40 years. Some current members are also original members. This volunteer musical group is led by Bill McClure and plays several different styles of music from religious to pop. They enjoy “ringing”\, rehearsing\, and sharing their music with others in the community. We hope you’ll join them at this musical performance.
URL:https://clapplibrary.org/event/belchertown-community-bell-choir-3/
LOCATION:Clapp Memorial Library\, 19 South Main Street\, Belchertown\, MA\, 01007\, United States
CATEGORIES:Concerts & Music
ATTACH;FMTTYPE=image/png:https://clapplibrary.org/wp-content/uploads/2019/11/bells.png
ORGANIZER;CN="Cyndi Harbeson":MAILTO:charbeson@cwmars.org
GEO:42.2761978;-72.3998528
X-APPLE-STRUCTURED-LOCATION;VALUE=URI;X-ADDRESS=Clapp Memorial Library 19 South Main Street Belchertown MA 01007 United States;X-APPLE-RADIUS=500;X-TITLE=19 South Main Street:geo:-72.3998528,42.2761978
END:VEVENT
END:VCALENDAR