BEGIN:VCALENDAR
VERSION:2.0
PRODID:-//Clapp Memorial Library - ECPv6.15.20//NONSGML v1.0//EN
CALSCALE:GREGORIAN
METHOD:PUBLISH
X-WR-CALNAME:Clapp Memorial Library
X-ORIGINAL-URL:https://clapplibrary.org
X-WR-CALDESC:Events for Clapp Memorial Library
REFRESH-INTERVAL;VALUE=DURATION:PT1H
X-Robots-Tag:noindex
X-PUBLISHED-TTL:PT1H
BEGIN:VTIMEZONE
TZID:America/New_York
BEGIN:DAYLIGHT
TZOFFSETFROM:-0500
TZOFFSETTO:-0400
TZNAME:EDT
DTSTART:20240310T070000
END:DAYLIGHT
BEGIN:STANDARD
TZOFFSETFROM:-0400
TZOFFSETTO:-0500
TZNAME:EST
DTSTART:20241103T060000
END:STANDARD
BEGIN:DAYLIGHT
TZOFFSETFROM:-0500
TZOFFSETTO:-0400
TZNAME:EDT
DTSTART:20250309T070000
END:DAYLIGHT
BEGIN:STANDARD
TZOFFSETFROM:-0400
TZOFFSETTO:-0500
TZNAME:EST
DTSTART:20251102T060000
END:STANDARD
BEGIN:DAYLIGHT
TZOFFSETFROM:-0500
TZOFFSETTO:-0400
TZNAME:EDT
DTSTART:20260308T070000
END:DAYLIGHT
BEGIN:STANDARD
TZOFFSETFROM:-0400
TZOFFSETTO:-0500
TZNAME:EST
DTSTART:20261101T060000
END:STANDARD
END:VTIMEZONE
BEGIN:VEVENT
DTSTART;TZID=America/New_York:20250509T120000
DTEND;TZID=America/New_York:20250509T130000
DTSTAMP:20260419T085036
CREATED:20250304T192701Z
LAST-MODIFIED:20250317T185541Z
UID:10003905-1746792000-1746795600@clapplibrary.org
SUMMARY:Learn Computer Basics!
DESCRIPTION:Learn Computer Basics at the Clapp Memorial Library! \nWe’re partnering with Tech Foundry to offer a series of computer basics classes and drop in tech-support on alternating Fridays starting on April 25th and running through June 20th. Computer Basics classes run from 12-1 in our Activity Room\, with Drop-In Tech Support available for everyone’s computer questions in the Main library from 1-2. \nSign up for all or just some of the classes by visiting the Circulation Desk or calling the library\, 413-323-0417 \nComputer Basics (4/25)\nThis beginner workshop helps you get comfortable with computers\, covering basic skills like using a mouse\, keyboard\, and navigating the internet. Gain the confidence to handle everyday tasks! \nInternet Basics (5/9)\nConquer the internet in this beginner-friendly workshop! Learn to use search engines\, browse websites\, and explore the online world with confidence—no prior experience needed. \nEmail Basics (5/23)\nConnect with friends and colleagues from across town or across the world. Learn the basics of using e-mail and use this powerful tool to your advantage. \n6/6: Online Safety & Avoiding Misinformation\nThis workshop teaches online safety basics\, including creating strong passwords\, securing information\, and avoiding scams. Learn how to protect your privacy and navigate the web safely\, as well as learn how to spot red flags\, fact-check\, and navigate the web confidently\, becoming a savvy and critical consumer of online information. \n6/20: Social Media Basics\nThis beginner workshop covers using Facebook\, Instagram\, and Messenger to connect\, share posts\, and manage privacy—no experience needed. \n 
URL:https://clapplibrary.org/event/learn-computer-basics/2025-05-09/
LOCATION:Clapp Memorial Library\, 19 South Main Street\, Belchertown\, MA\, 01007\, United States
CATEGORIES:Adult Events,Classes & Lessons
ATTACH;FMTTYPE=image/png:https://clapplibrary.org/wp-content/uploads/2025/03/tech-hub-logo.png
ORGANIZER;CN="Tegan M":MAILTO:tmannino@cwmars.org
GEO:42.2761978;-72.3998528
X-APPLE-STRUCTURED-LOCATION;VALUE=URI;X-ADDRESS=Clapp Memorial Library 19 South Main Street Belchertown MA 01007 United States;X-APPLE-RADIUS=500;X-TITLE=19 South Main Street:geo:-72.3998528,42.2761978
END:VEVENT
BEGIN:VEVENT
DTSTART;TZID=America/New_York:20250509T130000
DTEND;TZID=America/New_York:20250509T140000
DTSTAMP:20260419T085036
CREATED:20250304T200759Z
LAST-MODIFIED:20250317T185535Z
UID:10003910-1746795600-1746799200@clapplibrary.org
SUMMARY:Drop-In Tech Support
DESCRIPTION:We’re partnering with Tech Foundry to offer drop-in tech support on alternating Fridays starting April 25th through June 20th! \nBring in your computer questions and quandaries\, and let the troubleshooting begin.  Find our Tech Foundry expert on the main floor of the library from 1-2PM\, no appointment needed.
URL:https://clapplibrary.org/event/drop-in-tech-support/2025-05-09/
LOCATION:Clapp Memorial Library\, 19 South Main Street\, Belchertown\, MA\, 01007\, United States
CATEGORIES:Adult Events,Classes & Lessons
ATTACH;FMTTYPE=image/png:https://clapplibrary.org/wp-content/uploads/2025/03/tech-hub-logo.png
ORGANIZER;CN="Tegan M":MAILTO:tmannino@cwmars.org
GEO:42.2761978;-72.3998528
X-APPLE-STRUCTURED-LOCATION;VALUE=URI;X-ADDRESS=Clapp Memorial Library 19 South Main Street Belchertown MA 01007 United States;X-APPLE-RADIUS=500;X-TITLE=19 South Main Street:geo:-72.3998528,42.2761978
END:VEVENT
BEGIN:VEVENT
DTSTART;TZID=America/New_York:20250509T140000
DTEND;TZID=America/New_York:20250509T153000
DTSTAMP:20260419T085036
CREATED:20250325T171925Z
LAST-MODIFIED:20250325T171925Z
UID:10004123-1746799200-1746804600@clapplibrary.org
SUMMARY:Free Food Friday
DESCRIPTION:Teens are invited to the library after school on the second Friday of the month for free snacks as they visit and use the library! Students must be in grades 7-12 and arrive between 2:00-3:30PM for a free snack\, courtesy of the library\, as supplies last. This program is funded by the Friends of the Clapp Memorial Library.
URL:https://clapplibrary.org/event/free-food-friday-6/
LOCATION:Clapp Memorial Library\, 19 South Main Street\, Belchertown\, MA\, 01007\, United States
CATEGORIES:Teen Events
ATTACH;FMTTYPE=image/jpeg:https://clapplibrary.org/wp-content/uploads/2015/06/Teen-Logo-FINAL-RGB_WEB.jpg
GEO:42.2761978;-72.3998528
X-APPLE-STRUCTURED-LOCATION;VALUE=URI;X-ADDRESS=Clapp Memorial Library 19 South Main Street Belchertown MA 01007 United States;X-APPLE-RADIUS=500;X-TITLE=19 South Main Street:geo:-72.3998528,42.2761978
END:VEVENT
BEGIN:VEVENT
DTSTART;TZID=America/New_York:20250509T153000
DTEND;TZID=America/New_York:20250509T160000
DTSTAMP:20260419T085036
CREATED:20250327T183320Z
LAST-MODIFIED:20250327T183320Z
UID:10004126-1746804600-1746806400@clapplibrary.org
SUMMARY:Teen Crafternoon: Upcycled Planters
DESCRIPTION:Teens in grades 7-12 are invited to the library to upcycle tea tins into planters just in time for Mother’s Day! Share your new houseplant or keep it for yourself\, the choice is up to you! This program will take place Friday\, May 9th from 3:30-4:00PM on the front lawn of the library\, except in the case of rain in which the program will be moved to the Activity Room. Plants are limited. Email clapplibrarytab@gmail.com to register.
URL:https://clapplibrary.org/event/teen-crafternoon-upcycled-planters/
LOCATION:Clapp Memorial Library\, 19 South Main Street\, Belchertown\, MA\, 01007\, United States
CATEGORIES:Crafts,Teen Events
ATTACH;FMTTYPE=image/jpeg:https://clapplibrary.org/wp-content/uploads/2015/06/Teen-Logo-FINAL-RGB_WEB.jpg
GEO:42.2761978;-72.3998528
X-APPLE-STRUCTURED-LOCATION;VALUE=URI;X-ADDRESS=Clapp Memorial Library 19 South Main Street Belchertown MA 01007 United States;X-APPLE-RADIUS=500;X-TITLE=19 South Main Street:geo:-72.3998528,42.2761978
END:VEVENT
END:VCALENDAR