BEGIN:VCALENDAR
VERSION:2.0
PRODID:-//Clapp Memorial Library - ECPv6.15.20//NONSGML v1.0//EN
CALSCALE:GREGORIAN
METHOD:PUBLISH
X-WR-CALNAME:Clapp Memorial Library
X-ORIGINAL-URL:https://clapplibrary.org
X-WR-CALDESC:Events for Clapp Memorial Library
REFRESH-INTERVAL;VALUE=DURATION:PT1H
X-Robots-Tag:noindex
X-PUBLISHED-TTL:PT1H
BEGIN:VTIMEZONE
TZID:America/New_York
BEGIN:DAYLIGHT
TZOFFSETFROM:-0500
TZOFFSETTO:-0400
TZNAME:EDT
DTSTART:20240310T070000
END:DAYLIGHT
BEGIN:STANDARD
TZOFFSETFROM:-0400
TZOFFSETTO:-0500
TZNAME:EST
DTSTART:20241103T060000
END:STANDARD
BEGIN:DAYLIGHT
TZOFFSETFROM:-0500
TZOFFSETTO:-0400
TZNAME:EDT
DTSTART:20250309T070000
END:DAYLIGHT
BEGIN:STANDARD
TZOFFSETFROM:-0400
TZOFFSETTO:-0500
TZNAME:EST
DTSTART:20251102T060000
END:STANDARD
BEGIN:DAYLIGHT
TZOFFSETFROM:-0500
TZOFFSETTO:-0400
TZNAME:EDT
DTSTART:20260308T070000
END:DAYLIGHT
BEGIN:STANDARD
TZOFFSETFROM:-0400
TZOFFSETTO:-0500
TZNAME:EST
DTSTART:20261101T060000
END:STANDARD
END:VTIMEZONE
BEGIN:VEVENT
DTSTART;VALUE=DATE:20250616
DTEND;VALUE=DATE:20250619
DTSTAMP:20260421T160254
CREATED:20250605T135009Z
LAST-MODIFIED:20250605T135009Z
UID:10004269-1750032000-1750291199@clapplibrary.org
SUMMARY:Building Closed: Construction & Repair
DESCRIPTION:The Clapp Memorial Library will be closed on Monday\, June 16-Wednesday\, June 18 due to safety concerns during installation of the stained glass window and new side entry. The Library will also be closed Thursday\, June 19 in observance of\nthe Juneteenth Holiday. \nMaterials due while the building is closed will have their due dates automatically extended and items will remain on hold for an additional four days upon reopening. \nThe Pride Movie Matinee on June 16 will take place in the Town Hall Auditorium. The Belchertown & Around Plant Swap will still take place on June 17 on the library’s front lawn.
URL:https://clapplibrary.org/event/building-closed-construction-repair/
LOCATION:Clapp Memorial Library\, 19 South Main Street\, Belchertown\, MA\, 01007\, United States
ORGANIZER;CN="Cyndi Harbeson":MAILTO:charbeson@cwmars.org
GEO:42.2761978;-72.3998528
X-APPLE-STRUCTURED-LOCATION;VALUE=URI;X-ADDRESS=Clapp Memorial Library 19 South Main Street Belchertown MA 01007 United States;X-APPLE-RADIUS=500;X-TITLE=19 South Main Street:geo:-72.3998528,42.2761978
END:VEVENT
BEGIN:VEVENT
DTSTART;TZID=America/New_York:20250616T150000
DTEND;TZID=America/New_York:20250616T163000
DTSTAMP:20260421T160254
CREATED:20250512T152753Z
LAST-MODIFIED:20250605T134404Z
UID:10004151-1750086000-1750091400@clapplibrary.org
SUMMARY:Pride Movie Matinee: Dracula’s Daughter
DESCRIPTION:Location Update: Program will take place in the Town Hall Auditorium\, due to safety concerns during installation of the stained glass window and new side entry in the Library. \nGrab your popcorn for this program series! Mondays in June we’re showing a series of films for Pride Month! Features include a black & white classic\, a teen coming of age\, a cross country drive\, and a documentary. Snacks provided\, no registration required. \nDracula’s Daughter (1936)\, 69 min\nAlthough Count Dracula was destroyed by Van Helsing (Edward Van Sloan)\, who is now being tried for his murder\, Dracula’s daughter\, the Countess Marya Zaleska (Gloria Holden)\, is still alive — and her father’s death has brought her no closer to eradicating her vampiric thirst for blood. When attempts to free herself of the disease fail\, she turns to psychiatrist Dr. Garth (Otto Kruger) for assistance\, but soon finds herself struggling with the desire to make him one of the undead as well. \nDracula’s Daughter was filmed under the constraints of the Motion Picture Production Code\, also known as the Hays Code. From 1934 to 1968\, the Hays code was a set of guidelines designed to regulate the moral content of Hollywood films and has left a lasting impression on the visual language and coding of American cinema. In order to meet approval under the Hays Code\, Dracula’s Daughter went through script revisions\, costuming changes\, and film edits. The Hays Code was replaced in 1968 by motion-picture rating system still in use today. \nPublic performance rights provided through SWANK
URL:https://clapplibrary.org/event/pride-movie-matinee-draculas-daughter/
LOCATION:Lawrence Memorial Hall (Town Hall) Auditorium\, Belchertown\, 01007\, United States
CATEGORIES:Adult Events,Film,Teen Events
ATTACH;FMTTYPE=image/png:https://clapplibrary.org/wp-content/uploads/2025/05/movies-banner.png
ORGANIZER;CN="Tegan M":MAILTO:tmannino@cwmars.org
GEO:42.2770346;-72.4008884
END:VEVENT
END:VCALENDAR