BEGIN:VCALENDAR
VERSION:2.0
PRODID:-//Clapp Memorial Library - ECPv6.15.20//NONSGML v1.0//EN
CALSCALE:GREGORIAN
METHOD:PUBLISH
X-ORIGINAL-URL:https://clapplibrary.org
X-WR-CALDESC:Events for Clapp Memorial Library
REFRESH-INTERVAL;VALUE=DURATION:PT1H
X-Robots-Tag:noindex
X-PUBLISHED-TTL:PT1H
BEGIN:VTIMEZONE
TZID:America/New_York
BEGIN:DAYLIGHT
TZOFFSETFROM:-0500
TZOFFSETTO:-0400
TZNAME:EDT
DTSTART:20240310T070000
END:DAYLIGHT
BEGIN:STANDARD
TZOFFSETFROM:-0400
TZOFFSETTO:-0500
TZNAME:EST
DTSTART:20241103T060000
END:STANDARD
BEGIN:DAYLIGHT
TZOFFSETFROM:-0500
TZOFFSETTO:-0400
TZNAME:EDT
DTSTART:20250309T070000
END:DAYLIGHT
BEGIN:STANDARD
TZOFFSETFROM:-0400
TZOFFSETTO:-0500
TZNAME:EST
DTSTART:20251102T060000
END:STANDARD
BEGIN:DAYLIGHT
TZOFFSETFROM:-0500
TZOFFSETTO:-0400
TZNAME:EDT
DTSTART:20260308T070000
END:DAYLIGHT
BEGIN:STANDARD
TZOFFSETFROM:-0400
TZOFFSETTO:-0500
TZNAME:EST
DTSTART:20261101T060000
END:STANDARD
END:VTIMEZONE
BEGIN:VEVENT
DTSTART;TZID=America/New_York:20250925T093000
DTEND;TZID=America/New_York:20250925T103000
DTSTAMP:20260419T155502
CREATED:20250818T200432Z
LAST-MODIFIED:20251121T151710Z
UID:10004494-1758792600-1758796200@clapplibrary.org
SUMMARY:Preschool Storytime (3-5 year olds) Fall 2025
DESCRIPTION:Preschool Story Time (3-6 years) Fall 2025\n9:30-10:30 am\, Thursdays\, Sep 25\, Oct 2\, 9\, 23\, 30 & Nov 6 \nPreschool Story Time is for ages 3-6 and begins @ 9:30 AM. Registration is required. Our story times feature age-appropriate stories\, songs\, finger plays and art activities. \nRegistration and confirmation required\, sign up here: https://forms.gle/XcoGi3Naao7iMtkP8. Registration open until all slots are filled. If the program is full you will be placed on a wait list. Confirmations and program information will be sent out several days before the program starts.
URL:https://clapplibrary.org/event/preschool-storytime-3-5-year-olds-fall-2025/2025-09-25/
LOCATION:Clapp Memorial Library\, 19 South Main Street\, Belchertown\, MA\, 01007\, United States
CATEGORIES:Children's Events
ATTACH;FMTTYPE=image/jpeg:https://clapplibrary.org/wp-content/uploads/2015/08/StoryHour2.jpg
GEO:42.2761978;-72.3998528
X-APPLE-STRUCTURED-LOCATION;VALUE=URI;X-ADDRESS=Clapp Memorial Library 19 South Main Street Belchertown MA 01007 United States;X-APPLE-RADIUS=500;X-TITLE=19 South Main Street:geo:-72.3998528,42.2761978
END:VEVENT
BEGIN:VEVENT
DTSTART;TZID=America/New_York:20250925T170000
DTEND;TZID=America/New_York:20250925T183000
DTSTAMP:20260419T155502
CREATED:20220912T184403Z
LAST-MODIFIED:20251029T155315Z
UID:10003273-1758819600-1758825000@clapplibrary.org
SUMMARY:Fiber Arts with the Woolies
DESCRIPTION:The Woolies are a local fiber arts group who meet weekly at the library to socialize and work on their various projects. Whether you’re interested in knitting\, crocheting\, felting\, weaving\, embroidery\, needle point\, sewing\, or another fiber art\, you’re welcome to join the fun.
URL:https://clapplibrary.org/event/fiber-arts-with-the-woolies-2/2025-09-25/
LOCATION:Clapp Memorial Library\, 19 South Main Street\, Belchertown\, MA\, 01007\, United States
CATEGORIES:Community Event,Crafts
ATTACH;FMTTYPE=image/jpeg:https://clapplibrary.org/wp-content/uploads/2019/02/yarn.jpg
ORGANIZER;CN="Cyndi Harbeson":MAILTO:charbeson@cwmars.org
GEO:42.2761978;-72.3998528
X-APPLE-STRUCTURED-LOCATION;VALUE=URI;X-ADDRESS=Clapp Memorial Library 19 South Main Street Belchertown MA 01007 United States;X-APPLE-RADIUS=500;X-TITLE=19 South Main Street:geo:-72.3998528,42.2761978
END:VEVENT
BEGIN:VEVENT
DTSTART;TZID=America/New_York:20250925T190000
DTEND;TZID=America/New_York:20250925T201500
DTSTAMP:20260419T155502
CREATED:20250725T173844Z
LAST-MODIFIED:20250725T173845Z
UID:10004334-1758826800-1758831300@clapplibrary.org
SUMMARY:Mindfulness Meditation for Stress Reduction
DESCRIPTION:Clapp Memorial Library is offering a Stress Reduction Awareness course. The eight-week introductory course starts on Thursday\, September 25 at 7 PM and runs every Thursday through November 20 (excluding October 16). The course is designed to teach and practice mindfulness-based skills. Mindfulness meditation skills teach us to be fully present in the moment and\, when practiced regularly\, help decrease stress levels and improve general well-being and health. Skills covered in the course are gentle and free of judgment. Because each session of this course builds on the previous week\, we ask that you register only if you are able to attend all sessions. \nRegistration required\, sign up here: https://forms.gle/EBkKApvgPQ899tpo9\nIf you have any questions please email clapp@cwmars.org \nThis course will be taught by Magda Bechar\, a retired nursing professor who has taught mindfulness meditation skills to many groups\, including at the Clapp Memorial Library\, for many years.
URL:https://clapplibrary.org/event/mindfulness-meditation-for-stress-reduction-2/2025-09-25/
LOCATION:Clapp Memorial Library\, 19 South Main Street\, Belchertown\, MA\, 01007\, United States
CATEGORIES:Adult Events,Classes & Lessons
ORGANIZER;CN="Cyndi Harbeson":MAILTO:charbeson@cwmars.org
GEO:42.2761978;-72.3998528
X-APPLE-STRUCTURED-LOCATION;VALUE=URI;X-ADDRESS=Clapp Memorial Library 19 South Main Street Belchertown MA 01007 United States;X-APPLE-RADIUS=500;X-TITLE=19 South Main Street:geo:-72.3998528,42.2761978
END:VEVENT
END:VCALENDAR