BEGIN:VCALENDAR
VERSION:2.0
PRODID:-//Clapp Memorial Library - ECPv6.15.20//NONSGML v1.0//EN
CALSCALE:GREGORIAN
METHOD:PUBLISH
X-ORIGINAL-URL:https://clapplibrary.org
X-WR-CALDESC:Events for Clapp Memorial Library
REFRESH-INTERVAL;VALUE=DURATION:PT1H
X-Robots-Tag:noindex
X-PUBLISHED-TTL:PT1H
BEGIN:VTIMEZONE
TZID:America/New_York
BEGIN:DAYLIGHT
TZOFFSETFROM:-0500
TZOFFSETTO:-0400
TZNAME:EDT
DTSTART:20240310T070000
END:DAYLIGHT
BEGIN:STANDARD
TZOFFSETFROM:-0400
TZOFFSETTO:-0500
TZNAME:EST
DTSTART:20241103T060000
END:STANDARD
BEGIN:DAYLIGHT
TZOFFSETFROM:-0500
TZOFFSETTO:-0400
TZNAME:EDT
DTSTART:20250309T070000
END:DAYLIGHT
BEGIN:STANDARD
TZOFFSETFROM:-0400
TZOFFSETTO:-0500
TZNAME:EST
DTSTART:20251102T060000
END:STANDARD
BEGIN:DAYLIGHT
TZOFFSETFROM:-0500
TZOFFSETTO:-0400
TZNAME:EDT
DTSTART:20260308T070000
END:DAYLIGHT
BEGIN:STANDARD
TZOFFSETFROM:-0400
TZOFFSETTO:-0500
TZNAME:EST
DTSTART:20261101T060000
END:STANDARD
END:VTIMEZONE
BEGIN:VEVENT
DTSTART;TZID=America/New_York:20250930T093000
DTEND;TZID=America/New_York:20250930T103000
DTSTAMP:20260421T034023
CREATED:20250818T195932Z
LAST-MODIFIED:20250923T204323Z
UID:10004489-1759224600-1759228200@clapplibrary.org
SUMMARY:Toddler Time (2 year olds) Fall 2025
DESCRIPTION:Tuesday Toddler Time (2 years) Fall 2025\n9:30-10:30 am\, Tuesdays\, Sep 30\, Oct 7\, 21\, 28 & Nov 4 \nToddler Storytime is for children aged 2 years\, and begins @ 9:30 AM. Registration is required. Our story times feature age-appropriate stories\, songs\, finger plays and art activities. \nRegistration and confirmation required. \nThis program is full\, if you wish to be added to the waitlist please send an email to jwhitehead@cwmars.org with the child’s name\, age and which program.
URL:https://clapplibrary.org/event/toddler-time-2-year-olds-fall-2025/2025-09-30/
LOCATION:Clapp Memorial Library\, 19 South Main Street\, Belchertown\, MA\, 01007\, United States
CATEGORIES:Children's Events
ATTACH;FMTTYPE=image/jpeg:https://clapplibrary.org/wp-content/uploads/2015/08/StoryHour2.jpg
GEO:42.2761978;-72.3998528
X-APPLE-STRUCTURED-LOCATION;VALUE=URI;X-ADDRESS=Clapp Memorial Library 19 South Main Street Belchertown MA 01007 United States;X-APPLE-RADIUS=500;X-TITLE=19 South Main Street:geo:-72.3998528,42.2761978
END:VEVENT
END:VCALENDAR