BEGIN:VCALENDAR
VERSION:2.0
PRODID:-//Clapp Memorial Library - ECPv6.15.20//NONSGML v1.0//EN
CALSCALE:GREGORIAN
METHOD:PUBLISH
X-WR-CALNAME:Clapp Memorial Library
X-ORIGINAL-URL:https://clapplibrary.org
X-WR-CALDESC:Events for Clapp Memorial Library
REFRESH-INTERVAL;VALUE=DURATION:PT1H
X-Robots-Tag:noindex
X-PUBLISHED-TTL:PT1H
BEGIN:VTIMEZONE
TZID:America/New_York
BEGIN:DAYLIGHT
TZOFFSETFROM:-0500
TZOFFSETTO:-0400
TZNAME:EDT
DTSTART:20250309T070000
END:DAYLIGHT
BEGIN:STANDARD
TZOFFSETFROM:-0400
TZOFFSETTO:-0500
TZNAME:EST
DTSTART:20251102T060000
END:STANDARD
BEGIN:DAYLIGHT
TZOFFSETFROM:-0500
TZOFFSETTO:-0400
TZNAME:EDT
DTSTART:20260308T070000
END:DAYLIGHT
BEGIN:STANDARD
TZOFFSETFROM:-0400
TZOFFSETTO:-0500
TZNAME:EST
DTSTART:20261101T060000
END:STANDARD
BEGIN:DAYLIGHT
TZOFFSETFROM:-0500
TZOFFSETTO:-0400
TZNAME:EDT
DTSTART:20270314T070000
END:DAYLIGHT
BEGIN:STANDARD
TZOFFSETFROM:-0400
TZOFFSETTO:-0500
TZNAME:EST
DTSTART:20271107T060000
END:STANDARD
END:VTIMEZONE
BEGIN:VEVENT
DTSTART;TZID=America/New_York:20260324T093000
DTEND;TZID=America/New_York:20260324T103000
DTSTAMP:20260419T174822
CREATED:20260219T210647Z
LAST-MODIFIED:20260401T155654Z
UID:10004896-1774344600-1774348200@clapplibrary.org
SUMMARY:Toddler Time (2 year olds) Spring 2026
DESCRIPTION:Tuesday Toddler Time (2 years) Spring 2026\n9:30-10:30 am\, Tuesdays\, Mar 17\, 24\, 31\, Apr 7\, 28\, May 5 \nToddler Time is for children 2-3 years old\, and begins @ 9:30 AM. Registration & confirmation required\, sign up here: https://forms.gle/EUYVfSKvghX9Fuw96. Our story times feature age-appropriate stories\, songs\, finger plays and art activities. \nIf the program is full you will be placed on a wait list. Confirmations and program information will be sent out several days before the program starts. \n 
URL:https://clapplibrary.org/event/toddler-time-2-year-olds-spring-2026/2026-03-24/
LOCATION:Clapp Memorial Library\, 19 South Main Street\, Belchertown\, MA\, 01007\, United States
CATEGORIES:Children's Events
ATTACH;FMTTYPE=image/jpeg:https://clapplibrary.org/wp-content/uploads/2015/08/StoryHour2.jpg
GEO:42.2761978;-72.3998528
X-APPLE-STRUCTURED-LOCATION;VALUE=URI;X-ADDRESS=Clapp Memorial Library 19 South Main Street Belchertown MA 01007 United States;X-APPLE-RADIUS=500;X-TITLE=19 South Main Street:geo:-72.3998528,42.2761978
END:VEVENT
BEGIN:VEVENT
DTSTART;TZID=America/New_York:20260324T180000
DTEND;TZID=America/New_York:20260324T190000
DTSTAMP:20260419T174822
CREATED:20260319T192905Z
LAST-MODIFIED:20260319T194416Z
UID:10005336-1774375200-1774378800@clapplibrary.org
SUMMARY:SFF Book Club
DESCRIPTION:A monthly book group for lovers of high fantasy\, hard science fiction\, fable\, far future\, and all of the speculative fiction options. \nWe meet online via Google Meet. \nUpcoming reads: \n\nThe Tainted Cup / Robert Jackson Bennett (3/24)\nNettle & Bone / T. Kingfisher (4/28)\nStories of Your Life and Others / Ted Chiang (5/26)\nThe Last Hour Between Worlds / Melissa Caruso (6/23)\n\nTo sign-up or ask questions email Tegan at tmannino@cwmars.org
URL:https://clapplibrary.org/event/sff-book-club/2026-03-24/
LOCATION:Clapp Memorial Library\, 19 South Main Street\, Belchertown\, MA\, 01007\, United States
CATEGORIES:Adult Events,Book Discussion Groups
ATTACH;FMTTYPE=image/png:https://clapplibrary.org/wp-content/uploads/2020/02/SFF-Book-Club1.png
GEO:42.2761978;-72.3998528
X-APPLE-STRUCTURED-LOCATION;VALUE=URI;X-ADDRESS=Clapp Memorial Library 19 South Main Street Belchertown MA 01007 United States;X-APPLE-RADIUS=500;X-TITLE=19 South Main Street:geo:-72.3998528,42.2761978
END:VEVENT
END:VCALENDAR