BEGIN:VCALENDAR
VERSION:2.0
PRODID:-//Clapp Memorial Library - ECPv6.15.20//NONSGML v1.0//EN
CALSCALE:GREGORIAN
METHOD:PUBLISH
X-WR-CALNAME:Clapp Memorial Library
X-ORIGINAL-URL:https://clapplibrary.org
X-WR-CALDESC:Events for Clapp Memorial Library
REFRESH-INTERVAL;VALUE=DURATION:PT1H
X-Robots-Tag:noindex
X-PUBLISHED-TTL:PT1H
BEGIN:VTIMEZONE
TZID:America/New_York
BEGIN:DAYLIGHT
TZOFFSETFROM:-0500
TZOFFSETTO:-0400
TZNAME:EDT
DTSTART:20210314T070000
END:DAYLIGHT
BEGIN:STANDARD
TZOFFSETFROM:-0400
TZOFFSETTO:-0500
TZNAME:EST
DTSTART:20211107T060000
END:STANDARD
BEGIN:DAYLIGHT
TZOFFSETFROM:-0500
TZOFFSETTO:-0400
TZNAME:EDT
DTSTART:20220313T070000
END:DAYLIGHT
BEGIN:STANDARD
TZOFFSETFROM:-0400
TZOFFSETTO:-0500
TZNAME:EST
DTSTART:20221106T060000
END:STANDARD
BEGIN:DAYLIGHT
TZOFFSETFROM:-0500
TZOFFSETTO:-0400
TZNAME:EDT
DTSTART:20230312T070000
END:DAYLIGHT
BEGIN:STANDARD
TZOFFSETFROM:-0400
TZOFFSETTO:-0500
TZNAME:EST
DTSTART:20231105T060000
END:STANDARD
END:VTIMEZONE
BEGIN:VEVENT
DTSTART;TZID=America/New_York:20220507T103000
DTEND;TZID=America/New_York:20220507T113000
DTSTAMP:20260419T150510
CREATED:20220425T151227Z
LAST-MODIFIED:20220908T192331Z
UID:10000816-1651919400-1651923000@clapplibrary.org
SUMMARY:Music and Movement with Julie
DESCRIPTION:Julie’s programs let babies and young children explore music in a fun and creative environment. This series is geared towards children 0 to 5 and their caregivers. We will sing and dance outside on the back lawn. If weather doesn’t permit\, we will be in the Town Hall Auditorium. Attend any or all dates\, no registration required. \nThis program is supported in part by a grant from the Belchertown Cultural Council\, a local agency which is supported by the Mass Cultural Council\, a state agency.
URL:https://clapplibrary.org/event/music-and-movement-with-julie/
LOCATION:Clapp Memorial Library\, 19 South Main Street\, Belchertown\, MA\, 01007\, United States
CATEGORIES:Children's Events,Concerts & Music
GEO:42.2761978;-72.3998528
X-APPLE-STRUCTURED-LOCATION;VALUE=URI;X-ADDRESS=Clapp Memorial Library 19 South Main Street Belchertown MA 01007 United States;X-APPLE-RADIUS=500;X-TITLE=19 South Main Street:geo:-72.3998528,42.2761978
END:VEVENT
BEGIN:VEVENT
DTSTART;TZID=America/New_York:20220521T100000
DTEND;TZID=America/New_York:20220521T110000
DTSTAMP:20260419T150510
CREATED:20220512T200458Z
LAST-MODIFIED:20220512T200458Z
UID:10001139-1653127200-1653130800@clapplibrary.org
SUMMARY:Nightwings
DESCRIPTION:Join us for a special morning of bat magic!\nStoryteller Katie McEachen tells her original story\, Nightwings\, about the adventures of a magical bat. Make a bat craft to take home and sing a bat song. Bring a blanket or chair and snacks if you wish. Appropriate for all ages but especially suited for ages 4-8. \nRegister here: https://forms.gle/Tx6WjVvXs2eeAjuo6 \nFunded by the Belchertown Cultural Council\n—–\nRegistration required with confirmation.  Registration open until all slots are filled – just sign up for the Program and Jennifer Whitehead\, Children’s Librarian\, will be in touch!
URL:https://clapplibrary.org/event/nightwings/
LOCATION:Clapp Memorial Library\, 19 South Main Street\, Belchertown\, MA\, 01007\, United States
CATEGORIES:Children's Events
GEO:42.2761978;-72.3998528
X-APPLE-STRUCTURED-LOCATION;VALUE=URI;X-ADDRESS=Clapp Memorial Library 19 South Main Street Belchertown MA 01007 United States;X-APPLE-RADIUS=500;X-TITLE=19 South Main Street:geo:-72.3998528,42.2761978
END:VEVENT
END:VCALENDAR