BEGIN:VCALENDAR
VERSION:2.0
PRODID:-//Clapp Memorial Library - ECPv6.15.20//NONSGML v1.0//EN
CALSCALE:GREGORIAN
METHOD:PUBLISH
X-WR-CALNAME:Clapp Memorial Library
X-ORIGINAL-URL:https://clapplibrary.org
X-WR-CALDESC:Events for Clapp Memorial Library
REFRESH-INTERVAL;VALUE=DURATION:PT1H
X-Robots-Tag:noindex
X-PUBLISHED-TTL:PT1H
BEGIN:VTIMEZONE
TZID:America/New_York
BEGIN:DAYLIGHT
TZOFFSETFROM:-0500
TZOFFSETTO:-0400
TZNAME:EDT
DTSTART:20230312T070000
END:DAYLIGHT
BEGIN:STANDARD
TZOFFSETFROM:-0400
TZOFFSETTO:-0500
TZNAME:EST
DTSTART:20231105T060000
END:STANDARD
BEGIN:DAYLIGHT
TZOFFSETFROM:-0500
TZOFFSETTO:-0400
TZNAME:EDT
DTSTART:20240310T070000
END:DAYLIGHT
BEGIN:STANDARD
TZOFFSETFROM:-0400
TZOFFSETTO:-0500
TZNAME:EST
DTSTART:20241103T060000
END:STANDARD
BEGIN:DAYLIGHT
TZOFFSETFROM:-0500
TZOFFSETTO:-0400
TZNAME:EDT
DTSTART:20250309T070000
END:DAYLIGHT
BEGIN:STANDARD
TZOFFSETFROM:-0400
TZOFFSETTO:-0500
TZNAME:EST
DTSTART:20251102T060000
END:STANDARD
END:VTIMEZONE
BEGIN:VEVENT
DTSTART;TZID=America/New_York:20240813T093000
DTEND;TZID=America/New_York:20240813T103000
DTSTAMP:20260425T133233
CREATED:20240517T211152Z
LAST-MODIFIED:20240517T211152Z
UID:10003124-1723541400-1723545000@clapplibrary.org
SUMMARY:Tuesday Toddler Time (2 years) Summer 2024
DESCRIPTION:Tuesday Toddler Time (2 years) Summer 2024\n9:30-10:30 am\, Thursdays\, July 9\, 16\, 23\, 30th\, August 6 & 13 \nToddler Storytime is for children aged 2 years\, and begins @ 9:30 AM. Registration is required. Our story times feature age-appropriate stories\, songs\, finger plays and art activities. \nRegistration and confirmation required. Registration open until all slots are filled. If the program is full you will be placed on a wait list. Confirmations and program information will be sent out several days before the program starts. \nSummer Story Times are part of our Summer Reading Program\, starting June 15th. Make sure to sign your child up for Summer Reading at clapplibrary.beanstack.com or via the Beanstack app.
URL:https://clapplibrary.org/event/tuesday-toddler-time-2-years-summer-2024/2024-08-13/
LOCATION:Clapp Memorial Library\, 19 South Main Street\, Belchertown\, MA\, 01007\, United States
CATEGORIES:Children's Events
GEO:42.2761978;-72.3998528
X-APPLE-STRUCTURED-LOCATION;VALUE=URI;X-ADDRESS=Clapp Memorial Library 19 South Main Street Belchertown MA 01007 United States;X-APPLE-RADIUS=500;X-TITLE=19 South Main Street:geo:-72.3998528,42.2761978
END:VEVENT
END:VCALENDAR