BEGIN:VCALENDAR
VERSION:2.0
PRODID:-//Clapp Memorial Library - ECPv6.15.20//NONSGML v1.0//EN
CALSCALE:GREGORIAN
METHOD:PUBLISH
X-WR-CALNAME:Clapp Memorial Library
X-ORIGINAL-URL:https://clapplibrary.org
X-WR-CALDESC:Events for Clapp Memorial Library
REFRESH-INTERVAL;VALUE=DURATION:PT1H
X-Robots-Tag:noindex
X-PUBLISHED-TTL:PT1H
BEGIN:VTIMEZONE
TZID:America/New_York
BEGIN:DAYLIGHT
TZOFFSETFROM:-0500
TZOFFSETTO:-0400
TZNAME:EDT
DTSTART:20220313T070000
END:DAYLIGHT
BEGIN:STANDARD
TZOFFSETFROM:-0400
TZOFFSETTO:-0500
TZNAME:EST
DTSTART:20221106T060000
END:STANDARD
BEGIN:DAYLIGHT
TZOFFSETFROM:-0500
TZOFFSETTO:-0400
TZNAME:EDT
DTSTART:20230312T070000
END:DAYLIGHT
BEGIN:STANDARD
TZOFFSETFROM:-0400
TZOFFSETTO:-0500
TZNAME:EST
DTSTART:20231105T060000
END:STANDARD
BEGIN:DAYLIGHT
TZOFFSETFROM:-0500
TZOFFSETTO:-0400
TZNAME:EDT
DTSTART:20240310T070000
END:DAYLIGHT
BEGIN:STANDARD
TZOFFSETFROM:-0400
TZOFFSETTO:-0500
TZNAME:EST
DTSTART:20241103T060000
END:STANDARD
END:VTIMEZONE
BEGIN:VEVENT
DTSTART;TZID=America/New_York:20230814T090000
DTEND;TZID=America/New_York:20230814T094500
DTSTAMP:20260424T144352
CREATED:20230517T212446Z
LAST-MODIFIED:20230518T163044Z
UID:10002237-1692003600-1692006300@clapplibrary.org
SUMMARY:Babytime Story Time (3-12 mo) Summer 2023
DESCRIPTION:Babytime Story Time (3-12 mo) Spring 2023\n9:00-9:45 AM\, Mondays\, July 10\, 17\, 24\, 31\, August 7 & 14 \nBabytime is for ages 3 – 12 months and begins @ 9:00 AM. Registration is required. Our story times feature age-appropriate stories\, songs\, finger plays and art activities. \nRegistration and confirmation required\, click here to sign up. Registration open until all slots are filled. If the program is full you will be placed on a wait list. Confirmations and program information will be sent out several days before the program starts. \nSummer Story Times are part of our Summer Reading Program\, starting June 16th.  Make sure to sign your child up for Summer Reading at clapplibrary.beanstack.com or via the Beanstack app.
URL:https://clapplibrary.org/event/babytime-story-time-3-12-mo-summer-2023/2023-08-14/
LOCATION:Clapp Memorial Library\, 19 South Main Street\, Belchertown\, MA\, 01007\, United States
CATEGORIES:Children's Events
GEO:42.2761978;-72.3998528
X-APPLE-STRUCTURED-LOCATION;VALUE=URI;X-ADDRESS=Clapp Memorial Library 19 South Main Street Belchertown MA 01007 United States;X-APPLE-RADIUS=500;X-TITLE=19 South Main Street:geo:-72.3998528,42.2761978
END:VEVENT
BEGIN:VEVENT
DTSTART;TZID=America/New_York:20230814T100000
DTEND;TZID=America/New_York:20230814T104500
DTSTAMP:20260424T144352
CREATED:20230517T213212Z
LAST-MODIFIED:20230518T163141Z
UID:10002243-1692007200-1692009900@clapplibrary.org
SUMMARY:Firststeps Story Time (12-24 mo) Summer 2023
DESCRIPTION:Monday Firststeps (12-24 months) Summer 2023\n10:00-10:45 AM\, Mondays\, July 10\, 17\, 24\, 31\, August 7 & 14 \nFirststeps is for ages 12 – 24 months and begins @ 10:00 AM. Registration is required. Our story times feature age-appropriate stories\, songs\, finger plays and art activities. \nRegistration and confirmation required\, click here to sign up.  Registration open until all slots are filled.   If the program is full you will be placed on a wait list.  Confirmations and program information will be sent out several days before the program starts. \nSummer Story Times are part of our Summer Reading Program\, starting June 16th.  Make sure to sign your child up for Summer Reading at clapplibrary.beanstack.com or via the Beanstack app.
URL:https://clapplibrary.org/event/firststeps-story-time-12-24-mo-summer-2023/2023-08-14/
LOCATION:Clapp Memorial Library\, 19 South Main Street\, Belchertown\, MA\, 01007\, United States
CATEGORIES:Children's Events
GEO:42.2761978;-72.3998528
X-APPLE-STRUCTURED-LOCATION;VALUE=URI;X-ADDRESS=Clapp Memorial Library 19 South Main Street Belchertown MA 01007 United States;X-APPLE-RADIUS=500;X-TITLE=19 South Main Street:geo:-72.3998528,42.2761978
END:VEVENT
BEGIN:VEVENT
DTSTART;TZID=America/New_York:20230815T093000
DTEND;TZID=America/New_York:20230815T103000
DTSTAMP:20260424T144352
CREATED:20230518T142432Z
LAST-MODIFIED:20230518T163204Z
UID:10002249-1692091800-1692095400@clapplibrary.org
SUMMARY:Tuesday Toddler Time (2 years) Summer 2023
DESCRIPTION:Tuesday Toddler Time (2-3 years) Summer 2023\n9:30-10:30 AM\, Tuesdays\, July 11\, 18\, 25\, August 1\, 8\, 15 \nToddler Storytime is for children aged 2 years\, and begins @ 9:30 AM. Registration is required. Our story times feature age-appropriate stories\, songs\, finger plays and art activities. \nRegistration and confirmation required\, click here to sign up. Registration open until all slots are filled. If the program is full you will be placed on a wait list. Confirmations and program information will be sent out several days before the program starts. \nSummer Story Times are part of our Summer Reading Program\, starting June 16th.  Make sure to sign your child up for Summer Reading at clapplibrary.beanstack.com or via the Beanstack app.
URL:https://clapplibrary.org/event/tuesday-toddler-time-2-years-summer-2023/2023-08-15/
LOCATION:Clapp Memorial Library\, 19 South Main Street\, Belchertown\, MA\, 01007\, United States
CATEGORIES:Children's Events
GEO:42.2761978;-72.3998528
X-APPLE-STRUCTURED-LOCATION;VALUE=URI;X-ADDRESS=Clapp Memorial Library 19 South Main Street Belchertown MA 01007 United States;X-APPLE-RADIUS=500;X-TITLE=19 South Main Street:geo:-72.3998528,42.2761978
END:VEVENT
BEGIN:VEVENT
DTSTART;TZID=America/New_York:20230815T160000
DTEND;TZID=America/New_York:20230815T170000
DTSTAMP:20260424T144352
CREATED:20230412T143217Z
LAST-MODIFIED:20230620T142551Z
UID:10002321-1692115200-1692118800@clapplibrary.org
SUMMARY:Beyond the Book Club
DESCRIPTION:Open to kids ages 10-12 \nIf you love reading\, hanging out with friends\, and crafting\, this is the group for you. \nBeyond the Book Club meetings are hosted by Jennifer Whitehead and Camryn Scoon.  During the school year\, bus 18 is available for students to ride to the library\, but they need to bring a note into school stating by a guardian that they can ride said bus.  Students are encouraged to bring a small nut-free snack to eat. \nBeing part of the Belchertown Beyond the Book Club means to have an open mind and a full heart.  We are a unique group made up of creative kids who want to create a positive change in our world\, no matter how small. \nSign up here: https://forms.gle/XBr773nXg6Dnro7P8
URL:https://clapplibrary.org/event/beyond-the-book-club-7/2023-08-15/
LOCATION:Clapp Memorial Library\, 19 South Main Street\, Belchertown\, MA\, 01007\, United States
CATEGORIES:Book Discussion Groups,Children's Events
GEO:42.2761978;-72.3998528
X-APPLE-STRUCTURED-LOCATION;VALUE=URI;X-ADDRESS=Clapp Memorial Library 19 South Main Street Belchertown MA 01007 United States;X-APPLE-RADIUS=500;X-TITLE=19 South Main Street:geo:-72.3998528,42.2761978
END:VEVENT
BEGIN:VEVENT
DTSTART;TZID=America/New_York:20230816T100000
DTEND;TZID=America/New_York:20230816T110000
DTSTAMP:20260424T144352
CREATED:20230518T152421Z
LAST-MODIFIED:20230518T163222Z
UID:10002255-1692180000-1692183600@clapplibrary.org
SUMMARY:Getting Ready for Kindergarten Summer 2023
DESCRIPTION:Getting Ready for Kindergarten Summer 2023\n10:00-11:00 am\, Wednesdays\, July 12\, 19\, 26\, August 2\, 9\, 16 \nGetting Ready for Kindergarten is for children entering Kindergarten this fall and beings at @ 10:00 AM. Getting Ready for Kindergarten feature age-appropriate stories\, songs\, finger plays and art activities independent of their caregivers to prepare young children for school. Program will be held in the Children’s Activity Room. \nRegistration and confirmation required\, click here to sign up. Registration open until all slots are filled. If the program is full you will be placed on a wait list. Confirmations and program information will be sent out several days before the program starts. \nSummer Story Times are part of our Summer Reading Program\, starting June 16th.  Make sure to sign your child up for Summer Reading at clapplibrary.beanstack.com or via the Beanstack app.
URL:https://clapplibrary.org/event/getting-ready-for-kindergarten-summer-2023/2023-08-16/
LOCATION:Clapp Memorial Library\, 19 South Main Street\, Belchertown\, MA\, 01007\, United States
CATEGORIES:Children's Events
GEO:42.2761978;-72.3998528
X-APPLE-STRUCTURED-LOCATION;VALUE=URI;X-ADDRESS=Clapp Memorial Library 19 South Main Street Belchertown MA 01007 United States;X-APPLE-RADIUS=500;X-TITLE=19 South Main Street:geo:-72.3998528,42.2761978
END:VEVENT
BEGIN:VEVENT
DTSTART;TZID=America/New_York:20230817T093000
DTEND;TZID=America/New_York:20230817T103000
DTSTAMP:20260424T144352
CREATED:20230518T163812Z
LAST-MODIFIED:20230706T175025Z
UID:10002261-1692264600-1692268200@clapplibrary.org
SUMMARY:Raising Readers Story Time (3-6 years) Summer 2023
DESCRIPTION:STORYTIME FULL WITH WAITLIST. \nRaising Readers Story Time (3-6 years) Summer 2023\n9:30-10:30 am\, Thursdays\, July 13\, 20\, 27\, August 3\, 10\, 17 \nRaising Readers Story Time is for ages 3-6 and begins @ 9:30 AM. Registration is required. Our story times feature age-appropriate stories\, songs\, finger plays and art activities. \nRegistration and confirmation required\, click here to sign up.  Registration open until all slots are filled.   If the program is full you will be placed on a wait list.  Confirmations and program information will be sent out several days before the program starts. \nSummer Story Times are part of our Summer Reading Program\, starting June 16th.  Make sure to sign your child up for Summer Reading at clapplibrary.beanstack.com or via the Beanstack app.
URL:https://clapplibrary.org/event/raising-readers-storytime-3-6-years-summer-2023/2023-08-17/
LOCATION:Clapp Memorial Library\, 19 South Main Street\, Belchertown\, MA\, 01007\, United States
CATEGORIES:Children's Events
GEO:42.2761978;-72.3998528
X-APPLE-STRUCTURED-LOCATION;VALUE=URI;X-ADDRESS=Clapp Memorial Library 19 South Main Street Belchertown MA 01007 United States;X-APPLE-RADIUS=500;X-TITLE=19 South Main Street:geo:-72.3998528,42.2761978
END:VEVENT
END:VCALENDAR