BEGIN:VCALENDAR
VERSION:2.0
PRODID:-//Clapp Memorial Library - ECPv6.15.20//NONSGML v1.0//EN
CALSCALE:GREGORIAN
METHOD:PUBLISH
X-ORIGINAL-URL:https://clapplibrary.org
X-WR-CALDESC:Events for Clapp Memorial Library
REFRESH-INTERVAL;VALUE=DURATION:PT1H
X-Robots-Tag:noindex
X-PUBLISHED-TTL:PT1H
BEGIN:VTIMEZONE
TZID:America/New_York
BEGIN:DAYLIGHT
TZOFFSETFROM:-0500
TZOFFSETTO:-0400
TZNAME:EDT
DTSTART:20250309T070000
END:DAYLIGHT
BEGIN:STANDARD
TZOFFSETFROM:-0400
TZOFFSETTO:-0500
TZNAME:EST
DTSTART:20251102T060000
END:STANDARD
BEGIN:DAYLIGHT
TZOFFSETFROM:-0500
TZOFFSETTO:-0400
TZNAME:EDT
DTSTART:20260308T070000
END:DAYLIGHT
BEGIN:STANDARD
TZOFFSETFROM:-0400
TZOFFSETTO:-0500
TZNAME:EST
DTSTART:20261101T060000
END:STANDARD
BEGIN:DAYLIGHT
TZOFFSETFROM:-0500
TZOFFSETTO:-0400
TZNAME:EDT
DTSTART:20270314T070000
END:DAYLIGHT
BEGIN:STANDARD
TZOFFSETFROM:-0400
TZOFFSETTO:-0500
TZNAME:EST
DTSTART:20271107T060000
END:STANDARD
END:VTIMEZONE
BEGIN:VEVENT
DTSTART;TZID=America/New_York:20260302T190000
DTEND;TZID=America/New_York:20260302T200000
DTSTAMP:20260423T142121
CREATED:20230714T143623Z
LAST-MODIFIED:20260105T160537Z
UID:10004732-1772478000-1772481600@clapplibrary.org
SUMMARY:Ukulele Play Along (Virtual Event)
DESCRIPTION:Strum along with the Ukulele Play Along on the first Monday every month! \nGrab your ukulele and play along – because playing your ukulele is more fun when you do it with others. We’ll be focusing on 3 and 4 chord songs\, with lyrics and chords provided on screen. Participants will be muted\, so don’t worry about how you sound! \nTo join\, email Julie Stepanek (julie@musicjulie.com) for the Zoom link and to receive the songs for the program. Don’t have a Ukulele? Don’t worry – you can borrow one from us!
URL:https://clapplibrary.org/event/ukulele-play-along-virtual-event/2026-03-02/
LOCATION:Virtual\, MA
CATEGORIES:Adult Events,Classes & Lessons,Community Event,Concerts & Music
ATTACH;FMTTYPE=image/png:https://clapplibrary.org/wp-content/uploads/2018/08/ukulele940x600.png
ORGANIZER;CN="Cyndi Harbeson":MAILTO:charbeson@cwmars.org
END:VEVENT
BEGIN:VEVENT
DTSTART;TZID=America/New_York:20260312T190000
DTEND;TZID=America/New_York:20260312T201500
DTSTAMP:20260423T142121
CREATED:20260127T175848Z
LAST-MODIFIED:20260401T155114Z
UID:10004773-1773342000-1773346500@clapplibrary.org
SUMMARY:Mindfulness Meditation
DESCRIPTION:Clapp Memorial Library is once again offering a Mindfulness Meditation and Stress Reduction Awareness course. The eight-week introductory course starts on Thursday\, March 12 from 7:00pm-8:15pm and runs every Thursday through April 30. The course is designed to teach and practice mindfulness-based skills. Mindfulness meditation skills teach us to be fully present in the moment and\, when practiced regularly\, help decrease stress levels and improve general well-being and health. Skills covered in the course are gentle and free of judgment. Because each session of this course builds on the previous week\, we ask that you register only if you are able to attend all sessions. \nSign up here: https://forms.gle/mGhrxGTcd1D77ift6.  If you have any questions please email clapp@cwmars.org \nThis course will be taught by Magda Bechar\, a retired nursing professor who has taught mindfulness meditation skills to many groups\, including at the Clapp Memorial Library\, for many years. \nSessions will take place on the main library floor\, except for April 2\, which will take place in the Activity Room.
URL:https://clapplibrary.org/event/mindfulness-meditation-2/2026-03-12/
LOCATION:Clapp Memorial Library\, 19 South Main Street\, Belchertown\, MA\, 01007\, United States
CATEGORIES:Adult Events,Classes & Lessons
ORGANIZER;CN="Cyndi Harbeson":MAILTO:charbeson@cwmars.org
GEO:42.2761978;-72.3998528
X-APPLE-STRUCTURED-LOCATION;VALUE=URI;X-ADDRESS=Clapp Memorial Library 19 South Main Street Belchertown MA 01007 United States;X-APPLE-RADIUS=500;X-TITLE=19 South Main Street:geo:-72.3998528,42.2761978
END:VEVENT
BEGIN:VEVENT
DTSTART;TZID=America/New_York:20260319T153000
DTEND;TZID=America/New_York:20260319T170000
DTSTAMP:20260423T142121
CREATED:20260219T175058Z
LAST-MODIFIED:20260219T175058Z
UID:10004878-1773934200-1773939600@clapplibrary.org
SUMMARY:Full STEAM Ahead
DESCRIPTION:Full STEAM Ahead – Afterschool Club \nDates; March 19th – April 16th Thursdays\nTime: 3:30 pm to 5 pm\nAges: 8 to 11 \nStudents ages 8 to 11 are invited to register for this afterschool series. Full STEAM Ahead will inspire kids to explore Science\, Technology\, Engineering\, Art\, and Mathematics (STEAM) through interactive activities and problem-solving challenges\, all while learning about the value of persistence and creativity. \nEach session will begin with a book that will lead to a creative activity such as building mazes for Hex Bugs\, creating with Lego\, inventing with Makey\, Makey kits\, dissecting owl pellets\, drawing maps\, and much more! We will play games\, sing some songs\, practice some breathing to help with focus\, and explore with arts and crafts. \nRegistration is required\, sign up here: https://forms.gle/Njhw535LBXRq1E4j7. Children under the age of 10 years must have a caregiver who is 14 years or older on the Library premises. Students who are 10 or 11 years old that would like bus transportation from a Belchertown Public School should contact Jennifer Whitehead\, jwhitehead@cwmars.org
URL:https://clapplibrary.org/event/full-steam-ahead/2026-03-19/
LOCATION:Clapp Memorial Library\, 19 South Main Street\, Belchertown\, MA\, 01007\, United States
CATEGORIES:Children's Events,Classes & Lessons
GEO:42.2761978;-72.3998528
X-APPLE-STRUCTURED-LOCATION;VALUE=URI;X-ADDRESS=Clapp Memorial Library 19 South Main Street Belchertown MA 01007 United States;X-APPLE-RADIUS=500;X-TITLE=19 South Main Street:geo:-72.3998528,42.2761978
END:VEVENT
BEGIN:VEVENT
DTSTART;TZID=America/New_York:20260319T190000
DTEND;TZID=America/New_York:20260319T201500
DTSTAMP:20260423T142121
CREATED:20260127T175848Z
LAST-MODIFIED:20260401T155114Z
UID:10004774-1773946800-1773951300@clapplibrary.org
SUMMARY:Mindfulness Meditation
DESCRIPTION:Clapp Memorial Library is once again offering a Mindfulness Meditation and Stress Reduction Awareness course. The eight-week introductory course starts on Thursday\, March 12 from 7:00pm-8:15pm and runs every Thursday through April 30. The course is designed to teach and practice mindfulness-based skills. Mindfulness meditation skills teach us to be fully present in the moment and\, when practiced regularly\, help decrease stress levels and improve general well-being and health. Skills covered in the course are gentle and free of judgment. Because each session of this course builds on the previous week\, we ask that you register only if you are able to attend all sessions. \nSign up here: https://forms.gle/mGhrxGTcd1D77ift6.  If you have any questions please email clapp@cwmars.org \nThis course will be taught by Magda Bechar\, a retired nursing professor who has taught mindfulness meditation skills to many groups\, including at the Clapp Memorial Library\, for many years. \nSessions will take place on the main library floor\, except for April 2\, which will take place in the Activity Room.
URL:https://clapplibrary.org/event/mindfulness-meditation-2/2026-03-19/
LOCATION:Clapp Memorial Library\, 19 South Main Street\, Belchertown\, MA\, 01007\, United States
CATEGORIES:Adult Events,Classes & Lessons
ORGANIZER;CN="Cyndi Harbeson":MAILTO:charbeson@cwmars.org
GEO:42.2761978;-72.3998528
X-APPLE-STRUCTURED-LOCATION;VALUE=URI;X-ADDRESS=Clapp Memorial Library 19 South Main Street Belchertown MA 01007 United States;X-APPLE-RADIUS=500;X-TITLE=19 South Main Street:geo:-72.3998528,42.2761978
END:VEVENT
BEGIN:VEVENT
DTSTART;TZID=America/New_York:20260325T173000
DTEND;TZID=America/New_York:20260325T181500
DTSTAMP:20260423T142121
CREATED:20260127T175235Z
LAST-MODIFIED:20260317T132220Z
UID:10004772-1774459800-1774462500@clapplibrary.org
SUMMARY:Mat Pilates
DESCRIPTION:Program is full\, new sign ups will be added to the waitlist. \nJoin us for a rejuvenating Mat Pilates Pop-Up Class — a full-body\, low-impact workout designed to strengthen your core\, improve flexibility\, and boost your posture. Perfect for all levels\, this 45-minute session will leave you feeling strong\, centered\, and refreshed. Just bring a mat\, water\, and good vibes! \nRegistration and signed waiver are required\, sign up here: https://forms.gle/SmP5qqM9WojempUY6 \nThis program is funded by Pursuit Pilates Club
URL:https://clapplibrary.org/event/mat-pilates/
LOCATION:Clapp Memorial Library\, 19 South Main Street\, Belchertown\, MA\, 01007\, United States
CATEGORIES:Adult Events,Classes & Lessons
ORGANIZER;CN="Marcin Marszalek":MAILTO:mmarszalek@cwmars.org
GEO:42.2761978;-72.3998528
X-APPLE-STRUCTURED-LOCATION;VALUE=URI;X-ADDRESS=Clapp Memorial Library 19 South Main Street Belchertown MA 01007 United States;X-APPLE-RADIUS=500;X-TITLE=19 South Main Street:geo:-72.3998528,42.2761978
END:VEVENT
BEGIN:VEVENT
DTSTART;TZID=America/New_York:20260326T153000
DTEND;TZID=America/New_York:20260326T170000
DTSTAMP:20260423T142121
CREATED:20260219T175058Z
LAST-MODIFIED:20260219T175058Z
UID:10004879-1774539000-1774544400@clapplibrary.org
SUMMARY:Full STEAM Ahead
DESCRIPTION:Full STEAM Ahead – Afterschool Club \nDates; March 19th – April 16th Thursdays\nTime: 3:30 pm to 5 pm\nAges: 8 to 11 \nStudents ages 8 to 11 are invited to register for this afterschool series. Full STEAM Ahead will inspire kids to explore Science\, Technology\, Engineering\, Art\, and Mathematics (STEAM) through interactive activities and problem-solving challenges\, all while learning about the value of persistence and creativity. \nEach session will begin with a book that will lead to a creative activity such as building mazes for Hex Bugs\, creating with Lego\, inventing with Makey\, Makey kits\, dissecting owl pellets\, drawing maps\, and much more! We will play games\, sing some songs\, practice some breathing to help with focus\, and explore with arts and crafts. \nRegistration is required\, sign up here: https://forms.gle/Njhw535LBXRq1E4j7. Children under the age of 10 years must have a caregiver who is 14 years or older on the Library premises. Students who are 10 or 11 years old that would like bus transportation from a Belchertown Public School should contact Jennifer Whitehead\, jwhitehead@cwmars.org
URL:https://clapplibrary.org/event/full-steam-ahead/2026-03-26/
LOCATION:Clapp Memorial Library\, 19 South Main Street\, Belchertown\, MA\, 01007\, United States
CATEGORIES:Children's Events,Classes & Lessons
GEO:42.2761978;-72.3998528
X-APPLE-STRUCTURED-LOCATION;VALUE=URI;X-ADDRESS=Clapp Memorial Library 19 South Main Street Belchertown MA 01007 United States;X-APPLE-RADIUS=500;X-TITLE=19 South Main Street:geo:-72.3998528,42.2761978
END:VEVENT
BEGIN:VEVENT
DTSTART;TZID=America/New_York:20260326T190000
DTEND;TZID=America/New_York:20260326T201500
DTSTAMP:20260423T142121
CREATED:20260127T175848Z
LAST-MODIFIED:20260401T155114Z
UID:10004775-1774551600-1774556100@clapplibrary.org
SUMMARY:Mindfulness Meditation
DESCRIPTION:Clapp Memorial Library is once again offering a Mindfulness Meditation and Stress Reduction Awareness course. The eight-week introductory course starts on Thursday\, March 12 from 7:00pm-8:15pm and runs every Thursday through April 30. The course is designed to teach and practice mindfulness-based skills. Mindfulness meditation skills teach us to be fully present in the moment and\, when practiced regularly\, help decrease stress levels and improve general well-being and health. Skills covered in the course are gentle and free of judgment. Because each session of this course builds on the previous week\, we ask that you register only if you are able to attend all sessions. \nSign up here: https://forms.gle/mGhrxGTcd1D77ift6.  If you have any questions please email clapp@cwmars.org \nThis course will be taught by Magda Bechar\, a retired nursing professor who has taught mindfulness meditation skills to many groups\, including at the Clapp Memorial Library\, for many years. \nSessions will take place on the main library floor\, except for April 2\, which will take place in the Activity Room.
URL:https://clapplibrary.org/event/mindfulness-meditation-2/2026-03-26/
LOCATION:Clapp Memorial Library\, 19 South Main Street\, Belchertown\, MA\, 01007\, United States
CATEGORIES:Adult Events,Classes & Lessons
ORGANIZER;CN="Cyndi Harbeson":MAILTO:charbeson@cwmars.org
GEO:42.2761978;-72.3998528
X-APPLE-STRUCTURED-LOCATION;VALUE=URI;X-ADDRESS=Clapp Memorial Library 19 South Main Street Belchertown MA 01007 United States;X-APPLE-RADIUS=500;X-TITLE=19 South Main Street:geo:-72.3998528,42.2761978
END:VEVENT
END:VCALENDAR