BEGIN:VCALENDAR
VERSION:2.0
PRODID:-//Clapp Memorial Library - ECPv6.15.20//NONSGML v1.0//EN
CALSCALE:GREGORIAN
METHOD:PUBLISH
X-WR-CALNAME:Clapp Memorial Library
X-ORIGINAL-URL:https://clapplibrary.org
X-WR-CALDESC:Events for Clapp Memorial Library
REFRESH-INTERVAL;VALUE=DURATION:PT1H
X-Robots-Tag:noindex
X-PUBLISHED-TTL:PT1H
BEGIN:VTIMEZONE
TZID:America/New_York
BEGIN:DAYLIGHT
TZOFFSETFROM:-0500
TZOFFSETTO:-0400
TZNAME:EDT
DTSTART:20250309T070000
END:DAYLIGHT
BEGIN:STANDARD
TZOFFSETFROM:-0400
TZOFFSETTO:-0500
TZNAME:EST
DTSTART:20251102T060000
END:STANDARD
BEGIN:DAYLIGHT
TZOFFSETFROM:-0500
TZOFFSETTO:-0400
TZNAME:EDT
DTSTART:20260308T070000
END:DAYLIGHT
BEGIN:STANDARD
TZOFFSETFROM:-0400
TZOFFSETTO:-0500
TZNAME:EST
DTSTART:20261101T060000
END:STANDARD
BEGIN:DAYLIGHT
TZOFFSETFROM:-0500
TZOFFSETTO:-0400
TZNAME:EDT
DTSTART:20270314T070000
END:DAYLIGHT
BEGIN:STANDARD
TZOFFSETFROM:-0400
TZOFFSETTO:-0500
TZNAME:EST
DTSTART:20271107T060000
END:STANDARD
END:VTIMEZONE
BEGIN:VEVENT
DTSTART;TZID=America/New_York:20260421T163000
DTEND;TZID=America/New_York:20260421T180000
DTSTAMP:20260423T082113
CREATED:20260217T184707Z
LAST-MODIFIED:20260326T143910Z
UID:10004869-1776789000-1776794400@clapplibrary.org
SUMMARY:Ditch the Plastic - Using a soil blocker for seed starting
DESCRIPTION:Soil blocking is a method of creating cubes of soil to hold and germinate seeds. Come learn about the benefits of soil blocking and make some soil blocks to take home. Space is limited and registration is required to attend.  Sign up here: https://forms.gle/Zay35MSA6FUg7YQ49 \nThe soil for the program was generously donated by the Gardener’s Supply Company in Hadley.
URL:https://clapplibrary.org/event/ditch-the-plastic-using-a-soil-blocker-for-seed-starting/
LOCATION:Clapp Memorial Library\, 19 South Main Street\, Belchertown\, MA\, 01007\, United States
CATEGORIES:Adult Events,Classes & Lessons
ATTACH;FMTTYPE=image/png:https://clapplibrary.org/wp-content/uploads/2023/04/Gardening.png
ORGANIZER;CN="Marcin Marszalek":MAILTO:mmarszalek@cwmars.org
GEO:42.2761978;-72.3998528
X-APPLE-STRUCTURED-LOCATION;VALUE=URI;X-ADDRESS=Clapp Memorial Library 19 South Main Street Belchertown MA 01007 United States;X-APPLE-RADIUS=500;X-TITLE=19 South Main Street:geo:-72.3998528,42.2761978
END:VEVENT
BEGIN:VEVENT
DTSTART;TZID=America/New_York:20260423T190000
DTEND;TZID=America/New_York:20260423T201500
DTSTAMP:20260423T082113
CREATED:20260127T175848Z
LAST-MODIFIED:20260401T155114Z
UID:10004779-1776970800-1776975300@clapplibrary.org
SUMMARY:Mindfulness Meditation
DESCRIPTION:Clapp Memorial Library is once again offering a Mindfulness Meditation and Stress Reduction Awareness course. The eight-week introductory course starts on Thursday\, March 12 from 7:00pm-8:15pm and runs every Thursday through April 30. The course is designed to teach and practice mindfulness-based skills. Mindfulness meditation skills teach us to be fully present in the moment and\, when practiced regularly\, help decrease stress levels and improve general well-being and health. Skills covered in the course are gentle and free of judgment. Because each session of this course builds on the previous week\, we ask that you register only if you are able to attend all sessions. \nSign up here: https://forms.gle/mGhrxGTcd1D77ift6.  If you have any questions please email clapp@cwmars.org \nThis course will be taught by Magda Bechar\, a retired nursing professor who has taught mindfulness meditation skills to many groups\, including at the Clapp Memorial Library\, for many years. \nSessions will take place on the main library floor\, except for April 2\, which will take place in the Activity Room.
URL:https://clapplibrary.org/event/mindfulness-meditation-2/2026-04-23/
LOCATION:Clapp Memorial Library\, 19 South Main Street\, Belchertown\, MA\, 01007\, United States
CATEGORIES:Adult Events,Classes & Lessons
ORGANIZER;CN="Cyndi Harbeson":MAILTO:charbeson@cwmars.org
GEO:42.2761978;-72.3998528
X-APPLE-STRUCTURED-LOCATION;VALUE=URI;X-ADDRESS=Clapp Memorial Library 19 South Main Street Belchertown MA 01007 United States;X-APPLE-RADIUS=500;X-TITLE=19 South Main Street:geo:-72.3998528,42.2761978
END:VEVENT
BEGIN:VEVENT
DTSTART;TZID=America/New_York:20260425T090000
DTEND;TZID=America/New_York:20260425T110000
DTSTAMP:20260423T082113
CREATED:20260311T201946Z
LAST-MODIFIED:20260311T201950Z
UID:10005239-1777107600-1777114800@clapplibrary.org
SUMMARY:Advanced Nature Photography
DESCRIPTION:Saturday\, April 25 – Advanced Nature Photography with Mark Lindhult \nThe classroom session will be from 9:00 am to 10:00 am\, followed by outdoor practical sessions at Lake Wallace (weather dependent)\, so come prepared to walk a short distance to Lake Wallace and spend some time outside! \nViewFinder workshops are open to anyone\, you do not have to be a Belchertown resident. Seats are limited\, and registration is required.  Click here to sign up. \nInstructor: Mark Lindhult\nMark’s passion in photography is capturing the beauty of nature and the unique behaviors of birds and wildlife in their environment. As a Professor Emeritus of Landscape Architecture at the University of Massachusetts Amherst\, a Principle Emeritus at The Berkshire Design Group and a Fellow of the American Society of Landscape Architects\, he brings his knowledge of landscape\, ecology\, design and composition to inform his photography and advocate for habitat preservation. His photographs have been exhibited at UMass Amherst in the Design Building Gallery\, the US Fish and Wildlife Headquarters Gallery\, Cooley Dickinson Hospital Gallery\, Franklin Medical Center Gallery and the Baystate Medical Center Gallery. He has also granted permission to several non-profit groups to use his photographs in newsletters\, reports\, note cards and postcards\, including the Friends of Quabbin\, the Massachusetts Rivers Alliance and the Kestrel Land Trust.. You can see his work on his website at www.MarkLindhult.com.
URL:https://clapplibrary.org/event/advanced-nature-photography/
LOCATION:Parks & Recreation\, 66 State Street\, Belchertown\, MA\, 01007\, United States
CATEGORIES:Adult Events,Classes & Lessons,Community Event,Visual Art
ATTACH;FMTTYPE=image/png:https://clapplibrary.org/wp-content/uploads/2026/03/Viewfinder-2026_CML.png
ORGANIZER;CN="Cyndi Harbeson":MAILTO:charbeson@cwmars.org
END:VEVENT
END:VCALENDAR