BEGIN:VCALENDAR
VERSION:2.0
PRODID:-//Clapp Memorial Library - ECPv6.15.20//NONSGML v1.0//EN
CALSCALE:GREGORIAN
METHOD:PUBLISH
X-WR-CALNAME:Clapp Memorial Library
X-ORIGINAL-URL:https://clapplibrary.org
X-WR-CALDESC:Events for Clapp Memorial Library
REFRESH-INTERVAL;VALUE=DURATION:PT1H
X-Robots-Tag:noindex
X-PUBLISHED-TTL:PT1H
BEGIN:VTIMEZONE
TZID:America/New_York
BEGIN:DAYLIGHT
TZOFFSETFROM:-0500
TZOFFSETTO:-0400
TZNAME:EDT
DTSTART:20220313T070000
END:DAYLIGHT
BEGIN:STANDARD
TZOFFSETFROM:-0400
TZOFFSETTO:-0500
TZNAME:EST
DTSTART:20221106T060000
END:STANDARD
BEGIN:DAYLIGHT
TZOFFSETFROM:-0500
TZOFFSETTO:-0400
TZNAME:EDT
DTSTART:20230312T070000
END:DAYLIGHT
BEGIN:STANDARD
TZOFFSETFROM:-0400
TZOFFSETTO:-0500
TZNAME:EST
DTSTART:20231105T060000
END:STANDARD
BEGIN:DAYLIGHT
TZOFFSETFROM:-0500
TZOFFSETTO:-0400
TZNAME:EDT
DTSTART:20240310T070000
END:DAYLIGHT
BEGIN:STANDARD
TZOFFSETFROM:-0400
TZOFFSETTO:-0500
TZNAME:EST
DTSTART:20241103T060000
END:STANDARD
END:VTIMEZONE
BEGIN:VEVENT
DTSTART;TZID=America/New_York:20231204T190000
DTEND;TZID=America/New_York:20231204T200000
DTSTAMP:20260424T082928
CREATED:20230714T143623Z
LAST-MODIFIED:20260105T160537Z
UID:10004077-1701716400-1701720000@clapplibrary.org
SUMMARY:Ukulele Play Along (Virtual Event)
DESCRIPTION:Strum along with the Ukulele Play Along on the first Monday every month! \nGrab your ukulele and play along – because playing your ukulele is more fun when you do it with others. We’ll be focusing on 3 and 4 chord songs\, with lyrics and chords provided on screen. Participants will be muted\, so don’t worry about how you sound! \nTo join\, email Julie Stepanek (julie@musicjulie.com) for the Zoom link and to receive the songs for the program. Don’t have a Ukulele? Don’t worry – you can borrow one from us!
URL:https://clapplibrary.org/event/ukulele-play-along-virtual-event/2023-12-04/
LOCATION:Virtual\, MA
CATEGORIES:Adult Events,Classes & Lessons,Community Event,Concerts & Music
ATTACH;FMTTYPE=image/png:https://clapplibrary.org/wp-content/uploads/2018/08/ukulele940x600.png
ORGANIZER;CN="Cyndi Harbeson":MAILTO:charbeson@cwmars.org
END:VEVENT
BEGIN:VEVENT
DTSTART;TZID=America/New_York:20231206T100000
DTEND;TZID=America/New_York:20231206T110000
DTSTAMP:20260424T082928
CREATED:20231115T203924Z
LAST-MODIFIED:20231115T203924Z
UID:10002848-1701856800-1701860400@clapplibrary.org
SUMMARY:Holiday Concert with Pop Hooten
DESCRIPTION:Our weekly Music with Pop is happening at the Belchertown Senior Center for a Holiday Concert on December 6th at 10am! \nMusic with Jacques Hooten aka Pop! Wednesdays\, geared towards ages 1 to 6. \nFunded by the Friends of the Clapp Memorial Library.
URL:https://clapplibrary.org/event/holiday-concert-with-pop-hooten/
LOCATION:Clapp Memorial Library\, 19 South Main Street\, Belchertown\, MA\, 01007\, United States
CATEGORIES:Children's Events,Community Event,Concerts & Music
ATTACH;FMTTYPE=image/jpeg:https://clapplibrary.org/wp-content/uploads/2017/09/Pops-Hooten.jpg
GEO:42.2761978;-72.3998528
X-APPLE-STRUCTURED-LOCATION;VALUE=URI;X-ADDRESS=Clapp Memorial Library 19 South Main Street Belchertown MA 01007 United States;X-APPLE-RADIUS=500;X-TITLE=19 South Main Street:geo:-72.3998528,42.2761978
END:VEVENT
BEGIN:VEVENT
DTSTART;TZID=America/New_York:20231207T170000
DTEND;TZID=America/New_York:20231207T183000
DTSTAMP:20260424T082928
CREATED:20220912T184403Z
LAST-MODIFIED:20251029T155315Z
UID:10001545-1701968400-1701973800@clapplibrary.org
SUMMARY:Fiber Arts with the Woolies
DESCRIPTION:The Woolies are a local fiber arts group who meet weekly at the library to socialize and work on their various projects. Whether you’re interested in knitting\, crocheting\, felting\, weaving\, embroidery\, needle point\, sewing\, or another fiber art\, you’re welcome to join the fun.
URL:https://clapplibrary.org/event/fiber-arts-with-the-woolies-2/2023-12-07/
LOCATION:Clapp Memorial Library\, 19 South Main Street\, Belchertown\, MA\, 01007\, United States
CATEGORIES:Community Event,Crafts
ATTACH;FMTTYPE=image/jpeg:https://clapplibrary.org/wp-content/uploads/2019/02/yarn.jpg
ORGANIZER;CN="Cyndi Harbeson":MAILTO:charbeson@cwmars.org
GEO:42.2761978;-72.3998528
X-APPLE-STRUCTURED-LOCATION;VALUE=URI;X-ADDRESS=Clapp Memorial Library 19 South Main Street Belchertown MA 01007 United States;X-APPLE-RADIUS=500;X-TITLE=19 South Main Street:geo:-72.3998528,42.2761978
END:VEVENT
BEGIN:VEVENT
DTSTART;TZID=America/New_York:20231214T170000
DTEND;TZID=America/New_York:20231214T183000
DTSTAMP:20260424T082928
CREATED:20220912T184403Z
LAST-MODIFIED:20251029T155315Z
UID:10001546-1702573200-1702578600@clapplibrary.org
SUMMARY:Fiber Arts with the Woolies
DESCRIPTION:The Woolies are a local fiber arts group who meet weekly at the library to socialize and work on their various projects. Whether you’re interested in knitting\, crocheting\, felting\, weaving\, embroidery\, needle point\, sewing\, or another fiber art\, you’re welcome to join the fun.
URL:https://clapplibrary.org/event/fiber-arts-with-the-woolies-2/2023-12-14/
LOCATION:Clapp Memorial Library\, 19 South Main Street\, Belchertown\, MA\, 01007\, United States
CATEGORIES:Community Event,Crafts
ATTACH;FMTTYPE=image/jpeg:https://clapplibrary.org/wp-content/uploads/2019/02/yarn.jpg
ORGANIZER;CN="Cyndi Harbeson":MAILTO:charbeson@cwmars.org
GEO:42.2761978;-72.3998528
X-APPLE-STRUCTURED-LOCATION;VALUE=URI;X-ADDRESS=Clapp Memorial Library 19 South Main Street Belchertown MA 01007 United States;X-APPLE-RADIUS=500;X-TITLE=19 South Main Street:geo:-72.3998528,42.2761978
END:VEVENT
BEGIN:VEVENT
DTSTART;TZID=America/New_York:20231221T170000
DTEND;TZID=America/New_York:20231221T183000
DTSTAMP:20260424T082928
CREATED:20220912T184403Z
LAST-MODIFIED:20251029T155315Z
UID:10001547-1703178000-1703183400@clapplibrary.org
SUMMARY:Fiber Arts with the Woolies
DESCRIPTION:The Woolies are a local fiber arts group who meet weekly at the library to socialize and work on their various projects. Whether you’re interested in knitting\, crocheting\, felting\, weaving\, embroidery\, needle point\, sewing\, or another fiber art\, you’re welcome to join the fun.
URL:https://clapplibrary.org/event/fiber-arts-with-the-woolies-2/2023-12-21/
LOCATION:Clapp Memorial Library\, 19 South Main Street\, Belchertown\, MA\, 01007\, United States
CATEGORIES:Community Event,Crafts
ATTACH;FMTTYPE=image/jpeg:https://clapplibrary.org/wp-content/uploads/2019/02/yarn.jpg
ORGANIZER;CN="Cyndi Harbeson":MAILTO:charbeson@cwmars.org
GEO:42.2761978;-72.3998528
X-APPLE-STRUCTURED-LOCATION;VALUE=URI;X-ADDRESS=Clapp Memorial Library 19 South Main Street Belchertown MA 01007 United States;X-APPLE-RADIUS=500;X-TITLE=19 South Main Street:geo:-72.3998528,42.2761978
END:VEVENT
BEGIN:VEVENT
DTSTART;TZID=America/New_York:20231228T170000
DTEND;TZID=America/New_York:20231228T183000
DTSTAMP:20260424T082928
CREATED:20220912T184403Z
LAST-MODIFIED:20251029T155315Z
UID:10001548-1703782800-1703788200@clapplibrary.org
SUMMARY:Fiber Arts with the Woolies
DESCRIPTION:The Woolies are a local fiber arts group who meet weekly at the library to socialize and work on their various projects. Whether you’re interested in knitting\, crocheting\, felting\, weaving\, embroidery\, needle point\, sewing\, or another fiber art\, you’re welcome to join the fun.
URL:https://clapplibrary.org/event/fiber-arts-with-the-woolies-2/2023-12-28/
LOCATION:Clapp Memorial Library\, 19 South Main Street\, Belchertown\, MA\, 01007\, United States
CATEGORIES:Community Event,Crafts
ATTACH;FMTTYPE=image/jpeg:https://clapplibrary.org/wp-content/uploads/2019/02/yarn.jpg
ORGANIZER;CN="Cyndi Harbeson":MAILTO:charbeson@cwmars.org
GEO:42.2761978;-72.3998528
X-APPLE-STRUCTURED-LOCATION;VALUE=URI;X-ADDRESS=Clapp Memorial Library 19 South Main Street Belchertown MA 01007 United States;X-APPLE-RADIUS=500;X-TITLE=19 South Main Street:geo:-72.3998528,42.2761978
END:VEVENT
END:VCALENDAR