BEGIN:VCALENDAR
VERSION:2.0
PRODID:-//Clapp Memorial Library - ECPv6.15.20//NONSGML v1.0//EN
CALSCALE:GREGORIAN
METHOD:PUBLISH
X-WR-CALNAME:Clapp Memorial Library
X-ORIGINAL-URL:https://clapplibrary.org
X-WR-CALDESC:Events for Clapp Memorial Library
REFRESH-INTERVAL;VALUE=DURATION:PT1H
X-Robots-Tag:noindex
X-PUBLISHED-TTL:PT1H
BEGIN:VTIMEZONE
TZID:America/New_York
BEGIN:DAYLIGHT
TZOFFSETFROM:-0500
TZOFFSETTO:-0400
TZNAME:EDT
DTSTART:20230312T070000
END:DAYLIGHT
BEGIN:STANDARD
TZOFFSETFROM:-0400
TZOFFSETTO:-0500
TZNAME:EST
DTSTART:20231105T060000
END:STANDARD
BEGIN:DAYLIGHT
TZOFFSETFROM:-0500
TZOFFSETTO:-0400
TZNAME:EDT
DTSTART:20240310T070000
END:DAYLIGHT
BEGIN:STANDARD
TZOFFSETFROM:-0400
TZOFFSETTO:-0500
TZNAME:EST
DTSTART:20241103T060000
END:STANDARD
BEGIN:DAYLIGHT
TZOFFSETFROM:-0500
TZOFFSETTO:-0400
TZNAME:EDT
DTSTART:20250309T070000
END:DAYLIGHT
BEGIN:STANDARD
TZOFFSETFROM:-0400
TZOFFSETTO:-0500
TZNAME:EST
DTSTART:20251102T060000
END:STANDARD
END:VTIMEZONE
BEGIN:VEVENT
DTSTART;TZID=America/New_York:20240401T190000
DTEND;TZID=America/New_York:20240401T200000
DTSTAMP:20260419T203025
CREATED:20230714T143623Z
LAST-MODIFIED:20260105T160537Z
UID:10004081-1711998000-1712001600@clapplibrary.org
SUMMARY:Ukulele Play Along (Virtual Event)
DESCRIPTION:Strum along with the Ukulele Play Along on the first Monday every month! \nGrab your ukulele and play along – because playing your ukulele is more fun when you do it with others. We’ll be focusing on 3 and 4 chord songs\, with lyrics and chords provided on screen. Participants will be muted\, so don’t worry about how you sound! \nTo join\, email Julie Stepanek (julie@musicjulie.com) for the Zoom link and to receive the songs for the program. Don’t have a Ukulele? Don’t worry – you can borrow one from us!
URL:https://clapplibrary.org/event/ukulele-play-along-virtual-event/2024-04-01/
LOCATION:Virtual\, MA
CATEGORIES:Adult Events,Classes & Lessons,Community Event,Concerts & Music
ATTACH;FMTTYPE=image/png:https://clapplibrary.org/wp-content/uploads/2018/08/ukulele940x600.png
ORGANIZER;CN="Cyndi Harbeson":MAILTO:charbeson@cwmars.org
END:VEVENT
BEGIN:VEVENT
DTSTART;TZID=America/New_York:20240402T190000
DTEND;TZID=America/New_York:20240402T200000
DTSTAMP:20260419T203025
CREATED:20240212T162112Z
LAST-MODIFIED:20240212T162113Z
UID:10003020-1712084400-1712088000@clapplibrary.org
SUMMARY:The Creation of the Quabbin Reservoir
DESCRIPTION:On Tuesday\, April 2nd at 7pm\, the Clapp Memorial Library will welcome J.R. Greene for a lecture\, “The Creation of Quabbin Reservoir.” A brief history of the Metro Boston water system and construction of the reservoir is followed by profiles of each of the lost towns. A lifelong resident of Athol\, J.R. Greene is the author of sixteen books and 39 annual pictorial calendars relating to the history of the Quabbin and lost towns. He chairs the board of directors of the Friends of Quabbin\, is the Chair of the Quabbin Watershed Advisory Council\, and serves as the MWRA Advisory Board representative for the Quabbin and Ware River watersheds. Copes of his in-print books will be for sale at the program.
URL:https://clapplibrary.org/event/the-creation-of-the-quabbin-reservoir/
LOCATION:Clapp Memorial Library\, 19 South Main Street\, Belchertown\, MA\, 01007\, United States
CATEGORIES:Community Event,Lecture
ORGANIZER;CN="Cyndi Harbeson":MAILTO:charbeson@cwmars.org
GEO:42.2761978;-72.3998528
X-APPLE-STRUCTURED-LOCATION;VALUE=URI;X-ADDRESS=Clapp Memorial Library 19 South Main Street Belchertown MA 01007 United States;X-APPLE-RADIUS=500;X-TITLE=19 South Main Street:geo:-72.3998528,42.2761978
END:VEVENT
BEGIN:VEVENT
DTSTART;TZID=America/New_York:20240404T170000
DTEND;TZID=America/New_York:20240404T183000
DTSTAMP:20260419T203025
CREATED:20220912T184403Z
LAST-MODIFIED:20251029T155315Z
UID:10001562-1712250000-1712255400@clapplibrary.org
SUMMARY:Fiber Arts with the Woolies
DESCRIPTION:The Woolies are a local fiber arts group who meet weekly at the library to socialize and work on their various projects. Whether you’re interested in knitting\, crocheting\, felting\, weaving\, embroidery\, needle point\, sewing\, or another fiber art\, you’re welcome to join the fun.
URL:https://clapplibrary.org/event/fiber-arts-with-the-woolies-2/2024-04-04/
LOCATION:Clapp Memorial Library\, 19 South Main Street\, Belchertown\, MA\, 01007\, United States
CATEGORIES:Community Event,Crafts
ATTACH;FMTTYPE=image/jpeg:https://clapplibrary.org/wp-content/uploads/2019/02/yarn.jpg
ORGANIZER;CN="Cyndi Harbeson":MAILTO:charbeson@cwmars.org
GEO:42.2761978;-72.3998528
X-APPLE-STRUCTURED-LOCATION;VALUE=URI;X-ADDRESS=Clapp Memorial Library 19 South Main Street Belchertown MA 01007 United States;X-APPLE-RADIUS=500;X-TITLE=19 South Main Street:geo:-72.3998528,42.2761978
END:VEVENT
BEGIN:VEVENT
DTSTART;TZID=America/New_York:20240408T143000
DTEND;TZID=America/New_York:20240408T163000
DTSTAMP:20260419T203025
CREATED:20240207T214029Z
LAST-MODIFIED:20240207T214029Z
UID:10003019-1712586600-1712593800@clapplibrary.org
SUMMARY:Eclipse Viewing Party
DESCRIPTION:Join us on the front lawn at the Clapp Memorial Library on Monday\, April 8th between 2:30 pm and 4:30 pm for a Partial Eclipse Viewing Party. We’ll have eclipse glasses to give away (while supplies last) and light refreshments at this low-key event. Bring chairs or a blanket and hang out with other eclipse aficionados while viewing the partial eclipse. \nThis program is made possible by the Friends of the Clapp Memorial Library and SEAL (Solar Eclipse Activities for Libraries). \nIn the event of inclement weather\, the program will be canceled.
URL:https://clapplibrary.org/event/eclipse-viewing-party/
LOCATION:Clapp Memorial Library\, 19 South Main Street\, Belchertown\, MA\, 01007\, United States
CATEGORIES:Community Event
ORGANIZER;CN="Cyndi Harbeson":MAILTO:charbeson@cwmars.org
GEO:42.2761978;-72.3998528
X-APPLE-STRUCTURED-LOCATION;VALUE=URI;X-ADDRESS=Clapp Memorial Library 19 South Main Street Belchertown MA 01007 United States;X-APPLE-RADIUS=500;X-TITLE=19 South Main Street:geo:-72.3998528,42.2761978
END:VEVENT
BEGIN:VEVENT
DTSTART;TZID=America/New_York:20240410T180000
DTEND;TZID=America/New_York:20240410T200000
DTSTAMP:20260419T203025
CREATED:20240212T204343Z
LAST-MODIFIED:20240212T204343Z
UID:10003022-1712772000-1712779200@clapplibrary.org
SUMMARY:Community Focus Group
DESCRIPTION:The Clapp Memorial Library has embarked on a strategic planning process to develop priorities and plan the library’s future. As part of this process\, we will be conducting 2 community focus group meetings led by facilitator Deb Hoadley of Hoadley Consulting to learn from stakeholders in the community how the library can better serve Belchertown. The meetings will take place on Wednesday\, March 27 and April 10 from 6-8pm. If you are interested in being part of this discussion\, please contact Cyndi Harbeson (charbeson@cwmars.org) for more information.
URL:https://clapplibrary.org/event/community-focus-group/2024-04-10/
LOCATION:Clapp Memorial Library\, 19 South Main Street\, Belchertown\, MA\, 01007\, United States
CATEGORIES:Community Event
ORGANIZER;CN="Cyndi Harbeson":MAILTO:charbeson@cwmars.org
GEO:42.2761978;-72.3998528
X-APPLE-STRUCTURED-LOCATION;VALUE=URI;X-ADDRESS=Clapp Memorial Library 19 South Main Street Belchertown MA 01007 United States;X-APPLE-RADIUS=500;X-TITLE=19 South Main Street:geo:-72.3998528,42.2761978
END:VEVENT
BEGIN:VEVENT
DTSTART;TZID=America/New_York:20240411T170000
DTEND;TZID=America/New_York:20240411T183000
DTSTAMP:20260419T203025
CREATED:20220912T184403Z
LAST-MODIFIED:20251029T155315Z
UID:10001563-1712854800-1712860200@clapplibrary.org
SUMMARY:Fiber Arts with the Woolies
DESCRIPTION:The Woolies are a local fiber arts group who meet weekly at the library to socialize and work on their various projects. Whether you’re interested in knitting\, crocheting\, felting\, weaving\, embroidery\, needle point\, sewing\, or another fiber art\, you’re welcome to join the fun.
URL:https://clapplibrary.org/event/fiber-arts-with-the-woolies-2/2024-04-11/
LOCATION:Clapp Memorial Library\, 19 South Main Street\, Belchertown\, MA\, 01007\, United States
CATEGORIES:Community Event,Crafts
ATTACH;FMTTYPE=image/jpeg:https://clapplibrary.org/wp-content/uploads/2019/02/yarn.jpg
ORGANIZER;CN="Cyndi Harbeson":MAILTO:charbeson@cwmars.org
GEO:42.2761978;-72.3998528
X-APPLE-STRUCTURED-LOCATION;VALUE=URI;X-ADDRESS=Clapp Memorial Library 19 South Main Street Belchertown MA 01007 United States;X-APPLE-RADIUS=500;X-TITLE=19 South Main Street:geo:-72.3998528,42.2761978
END:VEVENT
BEGIN:VEVENT
DTSTART;TZID=America/New_York:20240411T180000
DTEND;TZID=America/New_York:20240411T190000
DTSTAMP:20260419T203025
CREATED:20240122T171352Z
LAST-MODIFIED:20240207T211320Z
UID:10002893-1712858400-1712862000@clapplibrary.org
SUMMARY:BHS Art Exhibit Reception
DESCRIPTION:Join us at the Clapp Memorial Library on Thursday\, April 11 from 6-7pm at a reception for students in Lori St. Pierre’s Honors Art 1 class\, whose show\, “Put Yourself in Someone Else’s Shoes\,” will be on display throughout the month of April. Light refreshments will be provided.
URL:https://clapplibrary.org/event/bhs-art-exhibit-reception/
LOCATION:Clapp Memorial Library\, 19 South Main Street\, Belchertown\, MA\, 01007\, United States
CATEGORIES:Community Event,Visual Art
ATTACH;FMTTYPE=image/png:https://clapplibrary.org/wp-content/uploads/2018/04/art.png
ORGANIZER;CN="Cyndi Harbeson":MAILTO:charbeson@cwmars.org
GEO:42.2761978;-72.3998528
X-APPLE-STRUCTURED-LOCATION;VALUE=URI;X-ADDRESS=Clapp Memorial Library 19 South Main Street Belchertown MA 01007 United States;X-APPLE-RADIUS=500;X-TITLE=19 South Main Street:geo:-72.3998528,42.2761978
END:VEVENT
BEGIN:VEVENT
DTSTART;TZID=America/New_York:20240418T170000
DTEND;TZID=America/New_York:20240418T183000
DTSTAMP:20260419T203025
CREATED:20220912T184403Z
LAST-MODIFIED:20251029T155315Z
UID:10001564-1713459600-1713465000@clapplibrary.org
SUMMARY:Fiber Arts with the Woolies
DESCRIPTION:The Woolies are a local fiber arts group who meet weekly at the library to socialize and work on their various projects. Whether you’re interested in knitting\, crocheting\, felting\, weaving\, embroidery\, needle point\, sewing\, or another fiber art\, you’re welcome to join the fun.
URL:https://clapplibrary.org/event/fiber-arts-with-the-woolies-2/2024-04-18/
LOCATION:Clapp Memorial Library\, 19 South Main Street\, Belchertown\, MA\, 01007\, United States
CATEGORIES:Community Event,Crafts
ATTACH;FMTTYPE=image/jpeg:https://clapplibrary.org/wp-content/uploads/2019/02/yarn.jpg
ORGANIZER;CN="Cyndi Harbeson":MAILTO:charbeson@cwmars.org
GEO:42.2761978;-72.3998528
X-APPLE-STRUCTURED-LOCATION;VALUE=URI;X-ADDRESS=Clapp Memorial Library 19 South Main Street Belchertown MA 01007 United States;X-APPLE-RADIUS=500;X-TITLE=19 South Main Street:geo:-72.3998528,42.2761978
END:VEVENT
BEGIN:VEVENT
DTSTART;TZID=America/New_York:20240418T183000
DTEND;TZID=America/New_York:20240418T193000
DTSTAMP:20260419T203025
CREATED:20230504T204030Z
LAST-MODIFIED:20251121T150748Z
UID:10002030-1713465000-1713468600@clapplibrary.org
SUMMARY:Friends of the Clapp Memorial Library Meeting
DESCRIPTION:All are invited to the The Friends of the Clapp Memorial Library Board Meeting in the Activity Room at 6:30pm. For information email friendsofclappmemoriallibrary@gmail.com \nhttp://www.friendsofclapplibrary.org/ \n​The Friends of Clapp Memorial Library is a volunteer not-for-profit organization dedicated to raising monies to assist the Library beyond the ordinary scope of the Library’s budget to reach its potential in our community. The group’s additional purpose is to promote and maintain close relationships between the Library and the people it serves\, to increase public awareness of Library resources\, and to encourage community participation in Library activities.
URL:https://clapplibrary.org/event/friends-of-the-clapp-memorial-library-meeting/2024-04-18/
LOCATION:Clapp Memorial Library\, 19 South Main Street\, Belchertown\, MA\, 01007\, United States
CATEGORIES:Community Event
ATTACH;FMTTYPE=image/png:https://clapplibrary.org/wp-content/uploads/2016/04/Friends-logo.png
GEO:42.2761978;-72.3998528
X-APPLE-STRUCTURED-LOCATION;VALUE=URI;X-ADDRESS=Clapp Memorial Library 19 South Main Street Belchertown MA 01007 United States;X-APPLE-RADIUS=500;X-TITLE=19 South Main Street:geo:-72.3998528,42.2761978
END:VEVENT
BEGIN:VEVENT
DTSTART;VALUE=DATE:20240422
DTEND;VALUE=DATE:20240423
DTSTAMP:20260419T203025
CREATED:20240419T191609Z
LAST-MODIFIED:20240419T191609Z
UID:10003074-1713744000-1713830399@clapplibrary.org
SUMMARY:Earth Day LEGO Giveaway
DESCRIPTION:While supplies last\, one per patron. \nFor Earth Day we’re giving away LEGOs made from plants!
URL:https://clapplibrary.org/event/earth-day-lego-giveaway/
LOCATION:Clapp Memorial Library\, 19 South Main Street\, Belchertown\, MA\, 01007\, United States
CATEGORIES:Children's Events,Community Event
GEO:42.2761978;-72.3998528
X-APPLE-STRUCTURED-LOCATION;VALUE=URI;X-ADDRESS=Clapp Memorial Library 19 South Main Street Belchertown MA 01007 United States;X-APPLE-RADIUS=500;X-TITLE=19 South Main Street:geo:-72.3998528,42.2761978
END:VEVENT
BEGIN:VEVENT
DTSTART;TZID=America/New_York:20240422T160000
DTEND;TZID=America/New_York:20240422T200000
DTSTAMP:20260419T203025
CREATED:20240321T151900Z
LAST-MODIFIED:20240321T151901Z
UID:10003042-1713801600-1713816000@clapplibrary.org
SUMMARY:Friends’ Book Sale!
DESCRIPTION:The Friends of the Clapp Memorial Library Book Sale \nMonday: 4:00-8:00pm Members Night – memberships available at the door\nTuesday-Friday: 10:00am-8:00pm\nSaturday: 9:00am-3:00pm \nThe Friends of the Clapp Memorial Library Book Sale accepts cash\, check\, and credit card. \nWant to join the Friends? The Friends meet every third Thursday of the month at 6:30PM!
URL:https://clapplibrary.org/event/friends-book-sale-7/2024-04-22/
LOCATION:Clapp Memorial Library\, 19 South Main Street\, Belchertown\, MA\, 01007\, United States
CATEGORIES:Community Event
ATTACH;FMTTYPE=image/png:https://clapplibrary.org/wp-content/uploads/2016/04/Friends-logo.png
GEO:42.2761978;-72.3998528
X-APPLE-STRUCTURED-LOCATION;VALUE=URI;X-ADDRESS=Clapp Memorial Library 19 South Main Street Belchertown MA 01007 United States;X-APPLE-RADIUS=500;X-TITLE=19 South Main Street:geo:-72.3998528,42.2761978
END:VEVENT
BEGIN:VEVENT
DTSTART;TZID=America/New_York:20240423T100000
DTEND;TZID=America/New_York:20240423T200000
DTSTAMP:20260419T203025
CREATED:20240321T151900Z
LAST-MODIFIED:20240321T151901Z
UID:10003043-1713866400-1713902400@clapplibrary.org
SUMMARY:Friends’ Book Sale!
DESCRIPTION:The Friends of the Clapp Memorial Library Book Sale \nMonday: 4:00-8:00pm Members Night – memberships available at the door\nTuesday-Friday: 10:00am-8:00pm\nSaturday: 9:00am-3:00pm \nThe Friends of the Clapp Memorial Library Book Sale accepts cash\, check\, and credit card. \nWant to join the Friends? The Friends meet every third Thursday of the month at 6:30PM!
URL:https://clapplibrary.org/event/friends-book-sale-7/2024-04-23/
LOCATION:Clapp Memorial Library\, 19 South Main Street\, Belchertown\, MA\, 01007\, United States
CATEGORIES:Community Event
ATTACH;FMTTYPE=image/png:https://clapplibrary.org/wp-content/uploads/2016/04/Friends-logo.png
GEO:42.2761978;-72.3998528
X-APPLE-STRUCTURED-LOCATION;VALUE=URI;X-ADDRESS=Clapp Memorial Library 19 South Main Street Belchertown MA 01007 United States;X-APPLE-RADIUS=500;X-TITLE=19 South Main Street:geo:-72.3998528,42.2761978
END:VEVENT
BEGIN:VEVENT
DTSTART;TZID=America/New_York:20240423T190000
DTEND;TZID=America/New_York:20240423T200000
DTSTAMP:20260419T203025
CREATED:20240422T152338Z
LAST-MODIFIED:20240422T152338Z
UID:10003076-1713898800-1713902400@clapplibrary.org
SUMMARY:Stories Told & Untold: Writing Between Memory & History
DESCRIPTION:Tuesday\, April 23\, 2024\, 7pm\nBelchertown Recreation Center Front Room \nStories Told & Untold: Writing Between Memory & History will feature three local authors\, Uzma Aslam Khan\, Thérèse Chehade\, and Hannah Moushabeck. Each author will read from and discuss their work in light of the panel’s focus and then we will open up the discussion to q&a with the audience. Justine Dymond will be introducing the panelists and helping moderate the q&a. The Clapp Memorial Library is co-sponsoring this event with Belchertown Voices for Justice.
URL:https://clapplibrary.org/event/stories-told-untold-writing-between-memory-history/
LOCATION:Parks & Recreation\, 66 State Street\, Belchertown\, MA\, 01007\, United States
CATEGORIES:Community Event,Lecture
ORGANIZER;CN="Cyndi Harbeson":MAILTO:charbeson@cwmars.org
END:VEVENT
BEGIN:VEVENT
DTSTART;TZID=America/New_York:20240424T100000
DTEND;TZID=America/New_York:20240424T200000
DTSTAMP:20260419T203025
CREATED:20240321T151900Z
LAST-MODIFIED:20240321T151901Z
UID:10003044-1713952800-1713988800@clapplibrary.org
SUMMARY:Friends’ Book Sale!
DESCRIPTION:The Friends of the Clapp Memorial Library Book Sale \nMonday: 4:00-8:00pm Members Night – memberships available at the door\nTuesday-Friday: 10:00am-8:00pm\nSaturday: 9:00am-3:00pm \nThe Friends of the Clapp Memorial Library Book Sale accepts cash\, check\, and credit card. \nWant to join the Friends? The Friends meet every third Thursday of the month at 6:30PM!
URL:https://clapplibrary.org/event/friends-book-sale-7/2024-04-24/
LOCATION:Clapp Memorial Library\, 19 South Main Street\, Belchertown\, MA\, 01007\, United States
CATEGORIES:Community Event
ATTACH;FMTTYPE=image/png:https://clapplibrary.org/wp-content/uploads/2016/04/Friends-logo.png
GEO:42.2761978;-72.3998528
X-APPLE-STRUCTURED-LOCATION;VALUE=URI;X-ADDRESS=Clapp Memorial Library 19 South Main Street Belchertown MA 01007 United States;X-APPLE-RADIUS=500;X-TITLE=19 South Main Street:geo:-72.3998528,42.2761978
END:VEVENT
BEGIN:VEVENT
DTSTART;TZID=America/New_York:20240425T100000
DTEND;TZID=America/New_York:20240425T200000
DTSTAMP:20260419T203025
CREATED:20240321T151900Z
LAST-MODIFIED:20240321T151901Z
UID:10003045-1714039200-1714075200@clapplibrary.org
SUMMARY:Friends’ Book Sale!
DESCRIPTION:The Friends of the Clapp Memorial Library Book Sale \nMonday: 4:00-8:00pm Members Night – memberships available at the door\nTuesday-Friday: 10:00am-8:00pm\nSaturday: 9:00am-3:00pm \nThe Friends of the Clapp Memorial Library Book Sale accepts cash\, check\, and credit card. \nWant to join the Friends? The Friends meet every third Thursday of the month at 6:30PM!
URL:https://clapplibrary.org/event/friends-book-sale-7/2024-04-25/
LOCATION:Clapp Memorial Library\, 19 South Main Street\, Belchertown\, MA\, 01007\, United States
CATEGORIES:Community Event
ATTACH;FMTTYPE=image/png:https://clapplibrary.org/wp-content/uploads/2016/04/Friends-logo.png
GEO:42.2761978;-72.3998528
X-APPLE-STRUCTURED-LOCATION;VALUE=URI;X-ADDRESS=Clapp Memorial Library 19 South Main Street Belchertown MA 01007 United States;X-APPLE-RADIUS=500;X-TITLE=19 South Main Street:geo:-72.3998528,42.2761978
END:VEVENT
BEGIN:VEVENT
DTSTART;TZID=America/New_York:20240425T170000
DTEND;TZID=America/New_York:20240425T183000
DTSTAMP:20260419T203025
CREATED:20220912T184403Z
LAST-MODIFIED:20251029T155315Z
UID:10001565-1714064400-1714069800@clapplibrary.org
SUMMARY:Fiber Arts with the Woolies
DESCRIPTION:The Woolies are a local fiber arts group who meet weekly at the library to socialize and work on their various projects. Whether you’re interested in knitting\, crocheting\, felting\, weaving\, embroidery\, needle point\, sewing\, or another fiber art\, you’re welcome to join the fun.
URL:https://clapplibrary.org/event/fiber-arts-with-the-woolies-2/2024-04-25/
LOCATION:Clapp Memorial Library\, 19 South Main Street\, Belchertown\, MA\, 01007\, United States
CATEGORIES:Community Event,Crafts
ATTACH;FMTTYPE=image/jpeg:https://clapplibrary.org/wp-content/uploads/2019/02/yarn.jpg
ORGANIZER;CN="Cyndi Harbeson":MAILTO:charbeson@cwmars.org
GEO:42.2761978;-72.3998528
X-APPLE-STRUCTURED-LOCATION;VALUE=URI;X-ADDRESS=Clapp Memorial Library 19 South Main Street Belchertown MA 01007 United States;X-APPLE-RADIUS=500;X-TITLE=19 South Main Street:geo:-72.3998528,42.2761978
END:VEVENT
BEGIN:VEVENT
DTSTART;TZID=America/New_York:20240426T100000
DTEND;TZID=America/New_York:20240426T200000
DTSTAMP:20260419T203025
CREATED:20240321T151900Z
LAST-MODIFIED:20240321T151901Z
UID:10003046-1714125600-1714161600@clapplibrary.org
SUMMARY:Friends’ Book Sale!
DESCRIPTION:The Friends of the Clapp Memorial Library Book Sale \nMonday: 4:00-8:00pm Members Night – memberships available at the door\nTuesday-Friday: 10:00am-8:00pm\nSaturday: 9:00am-3:00pm \nThe Friends of the Clapp Memorial Library Book Sale accepts cash\, check\, and credit card. \nWant to join the Friends? The Friends meet every third Thursday of the month at 6:30PM!
URL:https://clapplibrary.org/event/friends-book-sale-7/2024-04-26/
LOCATION:Clapp Memorial Library\, 19 South Main Street\, Belchertown\, MA\, 01007\, United States
CATEGORIES:Community Event
ATTACH;FMTTYPE=image/png:https://clapplibrary.org/wp-content/uploads/2016/04/Friends-logo.png
GEO:42.2761978;-72.3998528
X-APPLE-STRUCTURED-LOCATION;VALUE=URI;X-ADDRESS=Clapp Memorial Library 19 South Main Street Belchertown MA 01007 United States;X-APPLE-RADIUS=500;X-TITLE=19 South Main Street:geo:-72.3998528,42.2761978
END:VEVENT
BEGIN:VEVENT
DTSTART;TZID=America/New_York:20240427T090000
DTEND;TZID=America/New_York:20240427T150000
DTSTAMP:20260419T203025
CREATED:20240321T151900Z
LAST-MODIFIED:20240321T151901Z
UID:10003047-1714208400-1714230000@clapplibrary.org
SUMMARY:Friends’ Book Sale!
DESCRIPTION:The Friends of the Clapp Memorial Library Book Sale \nMonday: 4:00-8:00pm Members Night – memberships available at the door\nTuesday-Friday: 10:00am-8:00pm\nSaturday: 9:00am-3:00pm \nThe Friends of the Clapp Memorial Library Book Sale accepts cash\, check\, and credit card. \nWant to join the Friends? The Friends meet every third Thursday of the month at 6:30PM!
URL:https://clapplibrary.org/event/friends-book-sale-7/2024-04-27/
LOCATION:Clapp Memorial Library\, 19 South Main Street\, Belchertown\, MA\, 01007\, United States
CATEGORIES:Community Event
ATTACH;FMTTYPE=image/png:https://clapplibrary.org/wp-content/uploads/2016/04/Friends-logo.png
GEO:42.2761978;-72.3998528
X-APPLE-STRUCTURED-LOCATION;VALUE=URI;X-ADDRESS=Clapp Memorial Library 19 South Main Street Belchertown MA 01007 United States;X-APPLE-RADIUS=500;X-TITLE=19 South Main Street:geo:-72.3998528,42.2761978
END:VEVENT
BEGIN:VEVENT
DTSTART;TZID=America/New_York:20240429T153000
DTEND;TZID=America/New_York:20240429T163000
DTSTAMP:20260419T203025
CREATED:20240308T164749Z
LAST-MODIFIED:20240308T164750Z
UID:10003034-1714404600-1714408200@clapplibrary.org
SUMMARY:Earth Day Ceremony with Ray LaChance
DESCRIPTION:Community members from age 10 through adult are invited to join us on the front lawn of the Clapp Memorial Library on Monday\, April 29 at 3:30 pm for a very special Earth Day Ceremony and Celebration of Indigenous People presented by Raymond LaChance (Nouba Tewk Tomakwa). The program will include a recognition of the land being the territory of the Indigenous Nipmuc People\, flute playing and other music\, interactive smudging of a tree in recognition of Earth Day and seed planting\, and the making of an Indigenous Necklace. \nThis program is made possible by the Friends of the Clapp Memorial Library. \nSpace is limited and registration is required\, sign up here: https://forms.gle/xQiLqvCu25mQ3DKD8. In the event of rain\, the program will take place in the Town Hall Auditorium.
URL:https://clapplibrary.org/event/earth-day-ceremony-with-ray-lachance/
LOCATION:Clapp Memorial Library\, 19 South Main Street\, Belchertown\, MA\, 01007\, United States
CATEGORIES:Classes & Lessons,Community Event,Concerts & Music,Crafts,Lecture
ATTACH;FMTTYPE=image/jpeg:https://clapplibrary.org/wp-content/uploads/2020/04/SILO-MonarchButterfly-HEHO-NPS.jpg
GEO:42.2761978;-72.3998528
X-APPLE-STRUCTURED-LOCATION;VALUE=URI;X-ADDRESS=Clapp Memorial Library 19 South Main Street Belchertown MA 01007 United States;X-APPLE-RADIUS=500;X-TITLE=19 South Main Street:geo:-72.3998528,42.2761978
END:VEVENT
BEGIN:VEVENT
DTSTART;TZID=America/New_York:20240430T140000
DTEND;TZID=America/New_York:20240430T150000
DTSTAMP:20260419T203025
CREATED:20240412T174313Z
LAST-MODIFIED:20240412T174313Z
UID:10003061-1714485600-1714489200@clapplibrary.org
SUMMARY:Learning in Retirement
DESCRIPTION:On Tuesday\, April 30 at 2pm\, Edie Kirk from Five College Learning in Retirement will be at the Clapp Memorial Library for an information session to provide the Belchertown community with information about continuing education opportunities. \nFor more information about Five College Learning in Retirement: https://fclir.org/\nContact: ‪(413) 200-9816‬\, https://fclir.org/contact/
URL:https://clapplibrary.org/event/learning-in-retirement/
LOCATION:Clapp Memorial Library\, 19 South Main Street\, Belchertown\, MA\, 01007\, United States
CATEGORIES:Community Event
GEO:42.2761978;-72.3998528
X-APPLE-STRUCTURED-LOCATION;VALUE=URI;X-ADDRESS=Clapp Memorial Library 19 South Main Street Belchertown MA 01007 United States;X-APPLE-RADIUS=500;X-TITLE=19 South Main Street:geo:-72.3998528,42.2761978
END:VEVENT
END:VCALENDAR