BEGIN:VCALENDAR
VERSION:2.0
PRODID:-//Clapp Memorial Library - ECPv6.15.20//NONSGML v1.0//EN
CALSCALE:GREGORIAN
METHOD:PUBLISH
X-WR-CALNAME:Clapp Memorial Library
X-ORIGINAL-URL:https://clapplibrary.org
X-WR-CALDESC:Events for Clapp Memorial Library
REFRESH-INTERVAL;VALUE=DURATION:PT1H
X-Robots-Tag:noindex
X-PUBLISHED-TTL:PT1H
BEGIN:VTIMEZONE
TZID:America/New_York
BEGIN:DAYLIGHT
TZOFFSETFROM:-0500
TZOFFSETTO:-0400
TZNAME:EDT
DTSTART:20230312T070000
END:DAYLIGHT
BEGIN:STANDARD
TZOFFSETFROM:-0400
TZOFFSETTO:-0500
TZNAME:EST
DTSTART:20231105T060000
END:STANDARD
BEGIN:DAYLIGHT
TZOFFSETFROM:-0500
TZOFFSETTO:-0400
TZNAME:EDT
DTSTART:20240310T070000
END:DAYLIGHT
BEGIN:STANDARD
TZOFFSETFROM:-0400
TZOFFSETTO:-0500
TZNAME:EST
DTSTART:20241103T060000
END:STANDARD
BEGIN:DAYLIGHT
TZOFFSETFROM:-0500
TZOFFSETTO:-0400
TZNAME:EDT
DTSTART:20250309T070000
END:DAYLIGHT
BEGIN:STANDARD
TZOFFSETFROM:-0400
TZOFFSETTO:-0500
TZNAME:EST
DTSTART:20251102T060000
END:STANDARD
END:VTIMEZONE
BEGIN:VEVENT
DTSTART;TZID=America/New_York:20240429T153000
DTEND;TZID=America/New_York:20240429T163000
DTSTAMP:20260420T202420
CREATED:20240308T164749Z
LAST-MODIFIED:20240308T164750Z
UID:10003034-1714404600-1714408200@clapplibrary.org
SUMMARY:Earth Day Ceremony with Ray LaChance
DESCRIPTION:Community members from age 10 through adult are invited to join us on the front lawn of the Clapp Memorial Library on Monday\, April 29 at 3:30 pm for a very special Earth Day Ceremony and Celebration of Indigenous People presented by Raymond LaChance (Nouba Tewk Tomakwa). The program will include a recognition of the land being the territory of the Indigenous Nipmuc People\, flute playing and other music\, interactive smudging of a tree in recognition of Earth Day and seed planting\, and the making of an Indigenous Necklace. \nThis program is made possible by the Friends of the Clapp Memorial Library. \nSpace is limited and registration is required\, sign up here: https://forms.gle/xQiLqvCu25mQ3DKD8. In the event of rain\, the program will take place in the Town Hall Auditorium.
URL:https://clapplibrary.org/event/earth-day-ceremony-with-ray-lachance/
LOCATION:Clapp Memorial Library\, 19 South Main Street\, Belchertown\, MA\, 01007\, United States
CATEGORIES:Classes & Lessons,Community Event,Concerts & Music,Crafts,Lecture
ATTACH;FMTTYPE=image/jpeg:https://clapplibrary.org/wp-content/uploads/2020/04/SILO-MonarchButterfly-HEHO-NPS.jpg
GEO:42.2761978;-72.3998528
X-APPLE-STRUCTURED-LOCATION;VALUE=URI;X-ADDRESS=Clapp Memorial Library 19 South Main Street Belchertown MA 01007 United States;X-APPLE-RADIUS=500;X-TITLE=19 South Main Street:geo:-72.3998528,42.2761978
END:VEVENT
BEGIN:VEVENT
DTSTART;TZID=America/New_York:20240430T140000
DTEND;TZID=America/New_York:20240430T150000
DTSTAMP:20260420T202420
CREATED:20240412T174313Z
LAST-MODIFIED:20240412T174313Z
UID:10003061-1714485600-1714489200@clapplibrary.org
SUMMARY:Learning in Retirement
DESCRIPTION:On Tuesday\, April 30 at 2pm\, Edie Kirk from Five College Learning in Retirement will be at the Clapp Memorial Library for an information session to provide the Belchertown community with information about continuing education opportunities. \nFor more information about Five College Learning in Retirement: https://fclir.org/\nContact: ‪(413) 200-9816‬\, https://fclir.org/contact/
URL:https://clapplibrary.org/event/learning-in-retirement/
LOCATION:Clapp Memorial Library\, 19 South Main Street\, Belchertown\, MA\, 01007\, United States
CATEGORIES:Community Event
GEO:42.2761978;-72.3998528
X-APPLE-STRUCTURED-LOCATION;VALUE=URI;X-ADDRESS=Clapp Memorial Library 19 South Main Street Belchertown MA 01007 United States;X-APPLE-RADIUS=500;X-TITLE=19 South Main Street:geo:-72.3998528,42.2761978
END:VEVENT
BEGIN:VEVENT
DTSTART;TZID=America/New_York:20240502T170000
DTEND;TZID=America/New_York:20240502T183000
DTSTAMP:20260420T202420
CREATED:20220912T184403Z
LAST-MODIFIED:20251029T155315Z
UID:10001566-1714669200-1714674600@clapplibrary.org
SUMMARY:Fiber Arts with the Woolies
DESCRIPTION:The Woolies are a local fiber arts group who meet weekly at the library to socialize and work on their various projects. Whether you’re interested in knitting\, crocheting\, felting\, weaving\, embroidery\, needle point\, sewing\, or another fiber art\, you’re welcome to join the fun.
URL:https://clapplibrary.org/event/fiber-arts-with-the-woolies-2/2024-05-02/
LOCATION:Clapp Memorial Library\, 19 South Main Street\, Belchertown\, MA\, 01007\, United States
CATEGORIES:Community Event,Crafts
ATTACH;FMTTYPE=image/jpeg:https://clapplibrary.org/wp-content/uploads/2019/02/yarn.jpg
ORGANIZER;CN="Cyndi Harbeson":MAILTO:charbeson@cwmars.org
GEO:42.2761978;-72.3998528
X-APPLE-STRUCTURED-LOCATION;VALUE=URI;X-ADDRESS=Clapp Memorial Library 19 South Main Street Belchertown MA 01007 United States;X-APPLE-RADIUS=500;X-TITLE=19 South Main Street:geo:-72.3998528,42.2761978
END:VEVENT
BEGIN:VEVENT
DTSTART;TZID=America/New_York:20240503T170000
DTEND;TZID=America/New_York:20240503T180000
DTSTAMP:20260420T202420
CREATED:20240207T213543Z
LAST-MODIFIED:20240207T213543Z
UID:10003018-1714755600-1714759200@clapplibrary.org
SUMMARY:Award Ceremony for Photo Contest Winners
DESCRIPTION:The Clapp Memorial Library\, Belchertown Planning Department\, and Belchertown Conservation Department invite the community to an exhibition opening and awards ceremony on Friday\, May 3 from 5-6 pm for the Belchertown Wildlife & Landscape Photography Contest. The top three winners in each age group and wildlife or landscape category will be displayed at this in-person exhibition throughout the month of May at the Clapp Memorial Library.
URL:https://clapplibrary.org/event/award-ceremony-for-photo-contest-winners/
LOCATION:Clapp Memorial Library\, 19 South Main Street\, Belchertown\, MA\, 01007\, United States
CATEGORIES:Community Event
ATTACH;FMTTYPE=image/png:https://clapplibrary.org/wp-content/uploads/2024/01/photography-banner.png
ORGANIZER;CN="Cyndi Harbeson":MAILTO:charbeson@cwmars.org
GEO:42.2761978;-72.3998528
X-APPLE-STRUCTURED-LOCATION;VALUE=URI;X-ADDRESS=Clapp Memorial Library 19 South Main Street Belchertown MA 01007 United States;X-APPLE-RADIUS=500;X-TITLE=19 South Main Street:geo:-72.3998528,42.2761978
END:VEVENT
BEGIN:VEVENT
DTSTART;TZID=America/New_York:20240504T123000
DTEND;TZID=America/New_York:20240504T130000
DTSTAMP:20260420T202420
CREATED:20240416T134348Z
LAST-MODIFIED:20240429T144214Z
UID:10003067-1714825800-1714827600@clapplibrary.org
SUMMARY:Journaling for Self-Care
DESCRIPTION:Join Ruthie\, the library’s Teen Services Coordinator\, at BOAT’s Umbrella of Wellness Fair at Chestnut Hill Community School on Saturday\, May 4th at 12:30PM for a session on Journaling for Self-Care! Students in grades 6-12 will learn techniques for journaling with a reflective mindset. Attendees will receive journals courtesy of BOAT.
URL:https://clapplibrary.org/event/journaling-for-self-care/
LOCATION:Chestnut Hill Community School\, 59 State St\, Belchertown\, MA\, 01007\, United States
CATEGORIES:Classes & Lessons,Community Event,Teen Events
ATTACH;FMTTYPE=image/png:https://clapplibrary.org/wp-content/uploads/2020/01/teens-planning.png
GEO:42.2678132;-72.4123171
X-APPLE-STRUCTURED-LOCATION;VALUE=URI;X-ADDRESS=Chestnut Hill Community School 59 State St Belchertown MA 01007 United States;X-APPLE-RADIUS=500;X-TITLE=59 State St:geo:-72.4123171,42.2678132
END:VEVENT
END:VCALENDAR