BEGIN:VCALENDAR
VERSION:2.0
PRODID:-//Clapp Memorial Library - ECPv6.15.20//NONSGML v1.0//EN
CALSCALE:GREGORIAN
METHOD:PUBLISH
X-WR-CALNAME:Clapp Memorial Library
X-ORIGINAL-URL:https://clapplibrary.org
X-WR-CALDESC:Events for Clapp Memorial Library
REFRESH-INTERVAL;VALUE=DURATION:PT1H
X-Robots-Tag:noindex
X-PUBLISHED-TTL:PT1H
BEGIN:VTIMEZONE
TZID:America/New_York
BEGIN:DAYLIGHT
TZOFFSETFROM:-0500
TZOFFSETTO:-0400
TZNAME:EDT
DTSTART:20150308T070000
END:DAYLIGHT
BEGIN:STANDARD
TZOFFSETFROM:-0400
TZOFFSETTO:-0500
TZNAME:EST
DTSTART:20151101T060000
END:STANDARD
BEGIN:DAYLIGHT
TZOFFSETFROM:-0500
TZOFFSETTO:-0400
TZNAME:EDT
DTSTART:20160313T070000
END:DAYLIGHT
BEGIN:STANDARD
TZOFFSETFROM:-0400
TZOFFSETTO:-0500
TZNAME:EST
DTSTART:20161106T060000
END:STANDARD
BEGIN:DAYLIGHT
TZOFFSETFROM:-0500
TZOFFSETTO:-0400
TZNAME:EDT
DTSTART:20170312T070000
END:DAYLIGHT
BEGIN:STANDARD
TZOFFSETFROM:-0400
TZOFFSETTO:-0500
TZNAME:EST
DTSTART:20171105T060000
END:STANDARD
END:VTIMEZONE
BEGIN:VEVENT
DTSTART;TZID=America/New_York:20160809T190000
DTEND;TZID=America/New_York:20160809T200000
DTSTAMP:20260419T172626
CREATED:20160624T165833Z
LAST-MODIFIED:20160801T145718Z
UID:10000203-1470769200-1470772800@clapplibrary.org
SUMMARY:Teen Trivia Night
DESCRIPTION:Teens\, bring your friends to the Clapp Memorial Library and compete in all categories from sports\, movies\, to the most bizarre!  Prizes will be awarded to winners.  This event is for teens entering 7th grade and up.  Registration IS required.  Please call the Clapp Memorial Library at 323-0417 to register.
URL:https://clapplibrary.org/event/teen-trivia-night/2016-08-09/
LOCATION:19 South Main Street\, Belchertown\, MA\, 01007\, United States
CATEGORIES:Contests,Teen Events
ATTACH;FMTTYPE=image/gif:https://clapplibrary.org/wp-content/uploads/2016/04/Trivia.gif
END:VEVENT
BEGIN:VEVENT
DTSTART;TZID=America/New_York:20160802T190000
DTEND;TZID=America/New_York:20160802T200000
DTSTAMP:20260419T172626
CREATED:20160624T165833Z
LAST-MODIFIED:20160801T145530Z
UID:10000205-1470164400-1470168000@clapplibrary.org
SUMMARY:Teen Trivia Night
DESCRIPTION:Teens\, bring your friends to the Clapp Memorial Library and compete in all categories from sports\, movies\, to the most bizarre!  Prizes will be awarded to winners.  This event is for teens entering 7th grade and up.  Registration IS required.  Please call the Clapp Memorial Library at 323-0417 to register.
URL:https://clapplibrary.org/event/teen-trivia-night-2016-08-02/
LOCATION:19 South Main Street\, Belchertown\, MA\, 01007\, United States
CATEGORIES:Contests,Teen Events
ATTACH;FMTTYPE=image/gif:https://clapplibrary.org/wp-content/uploads/2016/04/Trivia.gif
END:VEVENT
BEGIN:VEVENT
DTSTART;TZID=America/New_York:20160802T190000
DTEND;TZID=America/New_York:20160802T200000
DTSTAMP:20260419T172626
CREATED:20160624T165833Z
LAST-MODIFIED:20160801T145718Z
UID:10000202-1470164400-1470168000@clapplibrary.org
SUMMARY:Teen Trivia Night
DESCRIPTION:Teens\, bring your friends to the Clapp Memorial Library and compete in all categories from sports\, movies\, to the most bizarre!  Prizes will be awarded to winners.  This event is for teens entering 7th grade and up.  Registration IS required.  Please call the Clapp Memorial Library at 323-0417 to register.
URL:https://clapplibrary.org/event/teen-trivia-night/2016-08-02/
LOCATION:19 South Main Street\, Belchertown\, MA\, 01007\, United States
CATEGORIES:Contests,Teen Events
ATTACH;FMTTYPE=image/gif:https://clapplibrary.org/wp-content/uploads/2016/04/Trivia.gif
END:VEVENT
BEGIN:VEVENT
DTSTART;TZID=America/New_York:20160726T190000
DTEND;TZID=America/New_York:20160726T200000
DTSTAMP:20260419T172626
CREATED:20160624T165833Z
LAST-MODIFIED:20160801T145718Z
UID:10000201-1469559600-1469563200@clapplibrary.org
SUMMARY:Teen Trivia Night
DESCRIPTION:Teens\, bring your friends to the Clapp Memorial Library and compete in all categories from sports\, movies\, to the most bizarre!  Prizes will be awarded to winners.  This event is for teens entering 7th grade and up.  Registration IS required.  Please call the Clapp Memorial Library at 323-0417 to register.
URL:https://clapplibrary.org/event/teen-trivia-night/2016-07-26/
LOCATION:19 South Main Street\, Belchertown\, MA\, 01007\, United States
CATEGORIES:Contests,Teen Events
ATTACH;FMTTYPE=image/gif:https://clapplibrary.org/wp-content/uploads/2016/04/Trivia.gif
END:VEVENT
BEGIN:VEVENT
DTSTART;TZID=America/New_York:20160719T190000
DTEND;TZID=America/New_York:20160719T200000
DTSTAMP:20260419T172626
CREATED:20160624T165833Z
LAST-MODIFIED:20160801T145718Z
UID:10000200-1468954800-1468958400@clapplibrary.org
SUMMARY:Teen Trivia Night
DESCRIPTION:Teens\, bring your friends to the Clapp Memorial Library and compete in all categories from sports\, movies\, to the most bizarre!  Prizes will be awarded to winners.  This event is for teens entering 7th grade and up.  Registration IS required.  Please call the Clapp Memorial Library at 323-0417 to register.
URL:https://clapplibrary.org/event/teen-trivia-night/2016-07-19/
LOCATION:19 South Main Street\, Belchertown\, MA\, 01007\, United States
CATEGORIES:Contests,Teen Events
ATTACH;FMTTYPE=image/gif:https://clapplibrary.org/wp-content/uploads/2016/04/Trivia.gif
END:VEVENT
BEGIN:VEVENT
DTSTART;TZID=America/New_York:20160712T190000
DTEND;TZID=America/New_York:20160712T200000
DTSTAMP:20260419T172626
CREATED:20160624T165833Z
LAST-MODIFIED:20160801T145718Z
UID:10000199-1468350000-1468353600@clapplibrary.org
SUMMARY:Teen Trivia Night
DESCRIPTION:Teens\, bring your friends to the Clapp Memorial Library and compete in all categories from sports\, movies\, to the most bizarre!  Prizes will be awarded to winners.  This event is for teens entering 7th grade and up.  Registration IS required.  Please call the Clapp Memorial Library at 323-0417 to register.
URL:https://clapplibrary.org/event/teen-trivia-night/2016-07-12/
LOCATION:19 South Main Street\, Belchertown\, MA\, 01007\, United States
CATEGORIES:Contests,Teen Events
ATTACH;FMTTYPE=image/gif:https://clapplibrary.org/wp-content/uploads/2016/04/Trivia.gif
END:VEVENT
BEGIN:VEVENT
DTSTART;TZID=America/New_York:20160705T190000
DTEND;TZID=America/New_York:20160705T200000
DTSTAMP:20260419T172626
CREATED:20160624T165833Z
LAST-MODIFIED:20160801T145718Z
UID:10000198-1467745200-1467748800@clapplibrary.org
SUMMARY:Teen Trivia Night
DESCRIPTION:Teens\, bring your friends to the Clapp Memorial Library and compete in all categories from sports\, movies\, to the most bizarre!  Prizes will be awarded to winners.  This event is for teens entering 7th grade and up.  Registration IS required.  Please call the Clapp Memorial Library at 323-0417 to register.
URL:https://clapplibrary.org/event/teen-trivia-night/2016-07-05/
LOCATION:19 South Main Street\, Belchertown\, MA\, 01007\, United States
CATEGORIES:Contests,Teen Events
ATTACH;FMTTYPE=image/gif:https://clapplibrary.org/wp-content/uploads/2016/04/Trivia.gif
END:VEVENT
BEGIN:VEVENT
DTSTART;VALUE=DATE:20160627
DTEND;VALUE=DATE:20160628
DTSTAMP:20260419T172626
CREATED:20160614T155747Z
LAST-MODIFIED:20160616T171021Z
UID:10000184-1466985600-1467071999@clapplibrary.org
SUMMARY:2016 Adult Summer Reading Challenge
DESCRIPTION:Our Adult Summer Reading Challenge starts today!  Sign up to win a chance at one of our raffle prizes!
URL:https://clapplibrary.org/event/2016-adult-summer-reading-challenge/
LOCATION:Clapp Memorial Library\, 19 South Main Street\, Belchertown\, MA\, 01007\, United States
CATEGORIES:Community Event,Contests
GEO:42.2761978;-72.3998528
X-APPLE-STRUCTURED-LOCATION;VALUE=URI;X-ADDRESS=Clapp Memorial Library 19 South Main Street Belchertown MA 01007 United States;X-APPLE-RADIUS=500;X-TITLE=19 South Main Street:geo:-72.3998528,42.2761978
END:VEVENT
END:VCALENDAR