BEGIN:VCALENDAR
VERSION:2.0
PRODID:-//Clapp Memorial Library - ECPv6.15.20//NONSGML v1.0//EN
CALSCALE:GREGORIAN
METHOD:PUBLISH
X-ORIGINAL-URL:https://clapplibrary.org
X-WR-CALDESC:Events for Clapp Memorial Library
REFRESH-INTERVAL;VALUE=DURATION:PT1H
X-Robots-Tag:noindex
X-PUBLISHED-TTL:PT1H
BEGIN:VTIMEZONE
TZID:America/New_York
BEGIN:DAYLIGHT
TZOFFSETFROM:-0500
TZOFFSETTO:-0400
TZNAME:EDT
DTSTART:20250309T070000
END:DAYLIGHT
BEGIN:STANDARD
TZOFFSETFROM:-0400
TZOFFSETTO:-0500
TZNAME:EST
DTSTART:20251102T060000
END:STANDARD
BEGIN:DAYLIGHT
TZOFFSETFROM:-0500
TZOFFSETTO:-0400
TZNAME:EDT
DTSTART:20260308T070000
END:DAYLIGHT
BEGIN:STANDARD
TZOFFSETFROM:-0400
TZOFFSETTO:-0500
TZNAME:EST
DTSTART:20261101T060000
END:STANDARD
BEGIN:DAYLIGHT
TZOFFSETFROM:-0500
TZOFFSETTO:-0400
TZNAME:EDT
DTSTART:20270314T070000
END:DAYLIGHT
BEGIN:STANDARD
TZOFFSETFROM:-0400
TZOFFSETTO:-0500
TZNAME:EST
DTSTART:20271107T060000
END:STANDARD
END:VTIMEZONE
BEGIN:VEVENT
DTSTART;TZID=America/New_York:20260604T170000
DTEND;TZID=America/New_York:20260604T183000
DTSTAMP:20260424T121145
CREATED:20220912T184403Z
LAST-MODIFIED:20251029T155315Z
UID:10003309-1780592400-1780597800@clapplibrary.org
SUMMARY:Fiber Arts with the Woolies
DESCRIPTION:The Woolies are a local fiber arts group who meet weekly at the library to socialize and work on their various projects. Whether you’re interested in knitting\, crocheting\, felting\, weaving\, embroidery\, needle point\, sewing\, or another fiber art\, you’re welcome to join the fun.
URL:https://clapplibrary.org/event/fiber-arts-with-the-woolies-2/2026-06-04/
LOCATION:Clapp Memorial Library\, 19 South Main Street\, Belchertown\, MA\, 01007\, United States
CATEGORIES:Community Event,Crafts
ATTACH;FMTTYPE=image/jpeg:https://clapplibrary.org/wp-content/uploads/2019/02/yarn.jpg
ORGANIZER;CN="Cyndi Harbeson":MAILTO:charbeson@cwmars.org
GEO:42.2761978;-72.3998528
X-APPLE-STRUCTURED-LOCATION;VALUE=URI;X-ADDRESS=Clapp Memorial Library 19 South Main Street Belchertown MA 01007 United States;X-APPLE-RADIUS=500;X-TITLE=19 South Main Street:geo:-72.3998528,42.2761978
END:VEVENT
BEGIN:VEVENT
DTSTART;TZID=America/New_York:20260611T170000
DTEND;TZID=America/New_York:20260611T183000
DTSTAMP:20260424T121145
CREATED:20220912T184403Z
LAST-MODIFIED:20251029T155315Z
UID:10003310-1781197200-1781202600@clapplibrary.org
SUMMARY:Fiber Arts with the Woolies
DESCRIPTION:The Woolies are a local fiber arts group who meet weekly at the library to socialize and work on their various projects. Whether you’re interested in knitting\, crocheting\, felting\, weaving\, embroidery\, needle point\, sewing\, or another fiber art\, you’re welcome to join the fun.
URL:https://clapplibrary.org/event/fiber-arts-with-the-woolies-2/2026-06-11/
LOCATION:Clapp Memorial Library\, 19 South Main Street\, Belchertown\, MA\, 01007\, United States
CATEGORIES:Community Event,Crafts
ATTACH;FMTTYPE=image/jpeg:https://clapplibrary.org/wp-content/uploads/2019/02/yarn.jpg
ORGANIZER;CN="Cyndi Harbeson":MAILTO:charbeson@cwmars.org
GEO:42.2761978;-72.3998528
X-APPLE-STRUCTURED-LOCATION;VALUE=URI;X-ADDRESS=Clapp Memorial Library 19 South Main Street Belchertown MA 01007 United States;X-APPLE-RADIUS=500;X-TITLE=19 South Main Street:geo:-72.3998528,42.2761978
END:VEVENT
BEGIN:VEVENT
DTSTART;TZID=America/New_York:20260613T100000
DTEND;TZID=America/New_York:20260613T110000
DTSTAMP:20260424T121145
CREATED:20260422T161920Z
LAST-MODIFIED:20260422T162013Z
UID:10005369-1781344800-1781348400@clapplibrary.org
SUMMARY:Fabric of the Revolution Workshop
DESCRIPTION:On June 13 at 10am\, local fiber artist Holly Field will be hosting an activity at the Clapp Memorial Library where participants can make their own copy of George Washington’s headquarters flag\, the Washington Standard. This flag was flown during the Revolutionary War to mark Washington’s position in camp and on the battlefield. During the activity\, participants will dye a Washington Standard of their own using a natural Indigo dye bath to color our flags blue. The cotton fabric we will be using has been pre-treated so that the dye will not stick to the area where the stars are\, creating the star pattern as if by magic when the flag is removed from the dye. The dyeing process can be messy so please dress appropriately. This activity is limited to 18 participants\, ages 10 to adult\, and will take place on the front lawn of the library. Kids under 13 need to be accompanied by an adult. Click here to sign up. \nThis program is funded in part by a grant from the Belchertown Cultural Council\, a local agency which is supported by the Mass Cultural Council\, a state agency.
URL:https://clapplibrary.org/event/fabric-of-the-revolution-workshop/
LOCATION:Clapp Memorial Library\, 19 South Main Street\, Belchertown\, MA\, 01007\, United States
CATEGORIES:Adult Events,Children's Events,Classes & Lessons,Community Event,Crafts,Teen Events,Visual Art
ORGANIZER;CN="Cyndi Harbeson":MAILTO:charbeson@cwmars.org
GEO:42.2761978;-72.3998528
X-APPLE-STRUCTURED-LOCATION;VALUE=URI;X-ADDRESS=Clapp Memorial Library 19 South Main Street Belchertown MA 01007 United States;X-APPLE-RADIUS=500;X-TITLE=19 South Main Street:geo:-72.3998528,42.2761978
END:VEVENT
BEGIN:VEVENT
DTSTART;TZID=America/New_York:20260618T170000
DTEND;TZID=America/New_York:20260618T183000
DTSTAMP:20260424T121145
CREATED:20220912T184403Z
LAST-MODIFIED:20251029T155315Z
UID:10003311-1781802000-1781807400@clapplibrary.org
SUMMARY:Fiber Arts with the Woolies
DESCRIPTION:The Woolies are a local fiber arts group who meet weekly at the library to socialize and work on their various projects. Whether you’re interested in knitting\, crocheting\, felting\, weaving\, embroidery\, needle point\, sewing\, or another fiber art\, you’re welcome to join the fun.
URL:https://clapplibrary.org/event/fiber-arts-with-the-woolies-2/2026-06-18/
LOCATION:Clapp Memorial Library\, 19 South Main Street\, Belchertown\, MA\, 01007\, United States
CATEGORIES:Community Event,Crafts
ATTACH;FMTTYPE=image/jpeg:https://clapplibrary.org/wp-content/uploads/2019/02/yarn.jpg
ORGANIZER;CN="Cyndi Harbeson":MAILTO:charbeson@cwmars.org
GEO:42.2761978;-72.3998528
X-APPLE-STRUCTURED-LOCATION;VALUE=URI;X-ADDRESS=Clapp Memorial Library 19 South Main Street Belchertown MA 01007 United States;X-APPLE-RADIUS=500;X-TITLE=19 South Main Street:geo:-72.3998528,42.2761978
END:VEVENT
BEGIN:VEVENT
DTSTART;TZID=America/New_York:20260625T170000
DTEND;TZID=America/New_York:20260625T183000
DTSTAMP:20260424T121145
CREATED:20220912T184403Z
LAST-MODIFIED:20251029T155315Z
UID:10003312-1782406800-1782412200@clapplibrary.org
SUMMARY:Fiber Arts with the Woolies
DESCRIPTION:The Woolies are a local fiber arts group who meet weekly at the library to socialize and work on their various projects. Whether you’re interested in knitting\, crocheting\, felting\, weaving\, embroidery\, needle point\, sewing\, or another fiber art\, you’re welcome to join the fun.
URL:https://clapplibrary.org/event/fiber-arts-with-the-woolies-2/2026-06-25/
LOCATION:Clapp Memorial Library\, 19 South Main Street\, Belchertown\, MA\, 01007\, United States
CATEGORIES:Community Event,Crafts
ATTACH;FMTTYPE=image/jpeg:https://clapplibrary.org/wp-content/uploads/2019/02/yarn.jpg
ORGANIZER;CN="Cyndi Harbeson":MAILTO:charbeson@cwmars.org
GEO:42.2761978;-72.3998528
X-APPLE-STRUCTURED-LOCATION;VALUE=URI;X-ADDRESS=Clapp Memorial Library 19 South Main Street Belchertown MA 01007 United States;X-APPLE-RADIUS=500;X-TITLE=19 South Main Street:geo:-72.3998528,42.2761978
END:VEVENT
END:VCALENDAR