BEGIN:VCALENDAR
VERSION:2.0
PRODID:-//Clapp Memorial Library - ECPv6.15.20//NONSGML v1.0//EN
CALSCALE:GREGORIAN
METHOD:PUBLISH
X-WR-CALNAME:Clapp Memorial Library
X-ORIGINAL-URL:https://clapplibrary.org
X-WR-CALDESC:Events for Clapp Memorial Library
REFRESH-INTERVAL;VALUE=DURATION:PT1H
X-Robots-Tag:noindex
X-PUBLISHED-TTL:PT1H
BEGIN:VTIMEZONE
TZID:America/New_York
BEGIN:DAYLIGHT
TZOFFSETFROM:-0500
TZOFFSETTO:-0400
TZNAME:EDT
DTSTART:20240310T070000
END:DAYLIGHT
BEGIN:STANDARD
TZOFFSETFROM:-0400
TZOFFSETTO:-0500
TZNAME:EST
DTSTART:20241103T060000
END:STANDARD
BEGIN:DAYLIGHT
TZOFFSETFROM:-0500
TZOFFSETTO:-0400
TZNAME:EDT
DTSTART:20250309T070000
END:DAYLIGHT
BEGIN:STANDARD
TZOFFSETFROM:-0400
TZOFFSETTO:-0500
TZNAME:EST
DTSTART:20251102T060000
END:STANDARD
BEGIN:DAYLIGHT
TZOFFSETFROM:-0500
TZOFFSETTO:-0400
TZNAME:EDT
DTSTART:20260308T070000
END:DAYLIGHT
BEGIN:STANDARD
TZOFFSETFROM:-0400
TZOFFSETTO:-0500
TZNAME:EST
DTSTART:20261101T060000
END:STANDARD
END:VTIMEZONE
BEGIN:VEVENT
DTSTART;TZID=America/New_York:20251201T150000
DTEND;TZID=America/New_York:20251201T180000
DTSTAMP:20260424T104911
CREATED:20251024T150554Z
LAST-MODIFIED:20251024T150554Z
UID:10004584-1764601200-1764612000@clapplibrary.org
SUMMARY:Needle Felting Penguins - Adult
DESCRIPTION:Join us for a Penguin Needle Felting program on Monday\, December 1st from 3:00-6:00PM in the library’s Activity Room! Local fiber artist Anna Sunschauer will teach you how to sculpt fluffy wool fiber into a penguin using felting needles. No prior needle felting experience is necessary\, but it is recommended that all participants have good fine motor skills to avoid injury with the sharp needles. Tools and materials will be provided. Due to anticipated popularity and limited capacity\, seats will be filled by lottery drawn from all registrants signed up by November 24th. Priority will be given to Belchertown patrons. \nSign up here: https://forms.gle/zzQY93s8kRgC4KnPA
URL:https://clapplibrary.org/event/needle-felting-penguins-adult/
LOCATION:Clapp Memorial Library\, 19 South Main Street\, Belchertown\, MA\, 01007\, United States
CATEGORIES:Adult Events,Crafts
ORGANIZER;CN="Marcin Marszalek":MAILTO:mmarszalek@cwmars.org
GEO:42.2761978;-72.3998528
X-APPLE-STRUCTURED-LOCATION;VALUE=URI;X-ADDRESS=Clapp Memorial Library 19 South Main Street Belchertown MA 01007 United States;X-APPLE-RADIUS=500;X-TITLE=19 South Main Street:geo:-72.3998528,42.2761978
END:VEVENT
END:VCALENDAR