BEGIN:VCALENDAR
VERSION:2.0
PRODID:-//Clapp Memorial Library - ECPv6.15.20//NONSGML v1.0//EN
CALSCALE:GREGORIAN
METHOD:PUBLISH
X-ORIGINAL-URL:https://clapplibrary.org
X-WR-CALDESC:Events for Clapp Memorial Library
REFRESH-INTERVAL;VALUE=DURATION:PT1H
X-Robots-Tag:noindex
X-PUBLISHED-TTL:PT1H
BEGIN:VTIMEZONE
TZID:America/New_York
BEGIN:DAYLIGHT
TZOFFSETFROM:-0500
TZOFFSETTO:-0400
TZNAME:EDT
DTSTART:20220313T070000
END:DAYLIGHT
BEGIN:STANDARD
TZOFFSETFROM:-0400
TZOFFSETTO:-0500
TZNAME:EST
DTSTART:20221106T060000
END:STANDARD
BEGIN:DAYLIGHT
TZOFFSETFROM:-0500
TZOFFSETTO:-0400
TZNAME:EDT
DTSTART:20230312T070000
END:DAYLIGHT
BEGIN:STANDARD
TZOFFSETFROM:-0400
TZOFFSETTO:-0500
TZNAME:EST
DTSTART:20231105T060000
END:STANDARD
BEGIN:DAYLIGHT
TZOFFSETFROM:-0500
TZOFFSETTO:-0400
TZNAME:EDT
DTSTART:20240310T070000
END:DAYLIGHT
BEGIN:STANDARD
TZOFFSETFROM:-0400
TZOFFSETTO:-0500
TZNAME:EST
DTSTART:20241103T060000
END:STANDARD
END:VTIMEZONE
BEGIN:VEVENT
DTSTART;TZID=America/New_York:20231106T173000
DTEND;TZID=America/New_York:20231106T183000
DTSTAMP:20260419T131552
CREATED:20231016T143026Z
LAST-MODIFIED:20231016T143026Z
UID:10002550-1699291800-1699295400@clapplibrary.org
SUMMARY:Bigfoot\, Jr
DESCRIPTION:Join us in the Town Hall Auditorium on Monday\, November 6 when the Clapp Memorial Library is hosting an evening of the strange and mysterious with Ronny LeBlanc from the Travel Channel / Discovery+ television series Expedition Bigfoot & Paranormal Caught on Camera and author of Monsterland: Encounters with UFOs\, Bigfoot and Orange Orbs. \nAt 5:30pm\, Ronny will host a program for kids ages 5 and up where he will talk about his experiences filming the Expedition Bigfoot series. \nThen\, at 7pm\, Ronny will host a program for adults where he will talk about UFOs of New England\, highlighting some historic and recent sightings. The truth may be closer to home than you think!
URL:https://clapplibrary.org/event/bigfoot-jr/
LOCATION:Lawrence Memorial Hall (Town Hall) Auditorium\, Belchertown\, 01007\, United States
CATEGORIES:Children's Events,Lecture
ORGANIZER;CN="Cyndi Harbeson":MAILTO:charbeson@cwmars.org
GEO:42.2770346;-72.4008884
END:VEVENT
BEGIN:VEVENT
DTSTART;TZID=America/New_York:20231106T190000
DTEND;TZID=America/New_York:20231106T200000
DTSTAMP:20260419T131552
CREATED:20231016T143401Z
LAST-MODIFIED:20231016T143401Z
UID:10002551-1699297200-1699300800@clapplibrary.org
SUMMARY:UFOs of New England
DESCRIPTION:Join us in the Town Hall Auditorium on Monday\, November 6 when the Clapp Memorial Library is hosting an evening of the strange and mysterious with Ronny LeBlanc from the Travel Channel / Discovery+ television series Expedition Bigfoot & Paranormal Caught on Camera and author of Monsterland: Encounters with UFOs\, Bigfoot and Orange Orbs. \nAt 5:30pm\, Ronny will host a program for kids ages 5 and up where he will talk about his experiences filming the Expedition Bigfoot series. \nThen\, at 7pm\, Ronny will host a program for adults where he will talk about UFOs of New England\, highlighting some historic and recent sightings. The truth may be closer to home than you think!
URL:https://clapplibrary.org/event/ufos-of-new-england/
LOCATION:Clapp Memorial Library\, 19 South Main Street\, Belchertown\, MA\, 01007\, United States
CATEGORIES:Community Event,Lecture
GEO:42.2761978;-72.3998528
X-APPLE-STRUCTURED-LOCATION;VALUE=URI;X-ADDRESS=Clapp Memorial Library 19 South Main Street Belchertown MA 01007 United States;X-APPLE-RADIUS=500;X-TITLE=19 South Main Street:geo:-72.3998528,42.2761978
END:VEVENT
BEGIN:VEVENT
DTSTART;TZID=America/New_York:20231109T190000
DTEND;TZID=America/New_York:20231109T200000
DTSTAMP:20260419T131552
CREATED:20230823T184524Z
LAST-MODIFIED:20230829T192207Z
UID:10002453-1699556400-1699560000@clapplibrary.org
SUMMARY:Stone Medicine with Leslie Franks
DESCRIPTION:Join local author Leslie Franks for a talk about her newly released book\, Stone Medicine: a Chinese medical guide to healing with gems and minerals. She’ll be taking a look at how crystals and stones are used in healing Body\, Mind\, and Spirit\, from both a Chinese medical and a western mineralogical perspective. \nLeslie Franks is retired from more than 30 years practice in a Chinese Medicine clinic\, where her modalities of treatment were bodywork\, Chinese herbs\, essential oils\, and stones.
URL:https://clapplibrary.org/event/stone-medicine-with-leslie-franks/
LOCATION:Clapp Memorial Library\, 19 South Main Street\, Belchertown\, MA\, 01007\, United States
CATEGORIES:Classes & Lessons,Lecture
ORGANIZER;CN="Cyndi Harbeson":MAILTO:charbeson@cwmars.org
GEO:42.2761978;-72.3998528
X-APPLE-STRUCTURED-LOCATION;VALUE=URI;X-ADDRESS=Clapp Memorial Library 19 South Main Street Belchertown MA 01007 United States;X-APPLE-RADIUS=500;X-TITLE=19 South Main Street:geo:-72.3998528,42.2761978
END:VEVENT
END:VCALENDAR