BEGIN:VCALENDAR
VERSION:2.0
PRODID:-//Clapp Memorial Library - ECPv6.15.20//NONSGML v1.0//EN
CALSCALE:GREGORIAN
METHOD:PUBLISH
X-WR-CALNAME:Clapp Memorial Library
X-ORIGINAL-URL:https://clapplibrary.org
X-WR-CALDESC:Events for Clapp Memorial Library
REFRESH-INTERVAL;VALUE=DURATION:PT1H
X-Robots-Tag:noindex
X-PUBLISHED-TTL:PT1H
BEGIN:VTIMEZONE
TZID:America/New_York
BEGIN:DAYLIGHT
TZOFFSETFROM:-0500
TZOFFSETTO:-0400
TZNAME:EDT
DTSTART:20230312T070000
END:DAYLIGHT
BEGIN:STANDARD
TZOFFSETFROM:-0400
TZOFFSETTO:-0500
TZNAME:EST
DTSTART:20231105T060000
END:STANDARD
BEGIN:DAYLIGHT
TZOFFSETFROM:-0500
TZOFFSETTO:-0400
TZNAME:EDT
DTSTART:20240310T070000
END:DAYLIGHT
BEGIN:STANDARD
TZOFFSETFROM:-0400
TZOFFSETTO:-0500
TZNAME:EST
DTSTART:20241103T060000
END:STANDARD
BEGIN:DAYLIGHT
TZOFFSETFROM:-0500
TZOFFSETTO:-0400
TZNAME:EDT
DTSTART:20250309T070000
END:DAYLIGHT
BEGIN:STANDARD
TZOFFSETFROM:-0400
TZOFFSETTO:-0500
TZNAME:EST
DTSTART:20251102T060000
END:STANDARD
END:VTIMEZONE
BEGIN:VEVENT
DTSTART;TZID=America/New_York:20240626T183000
DTEND;TZID=America/New_York:20240626T193000
DTSTAMP:20260419T093447
CREATED:20240517T190808Z
LAST-MODIFIED:20240517T190808Z
UID:10003099-1719426600-1719430200@clapplibrary.org
SUMMARY:1969 Stonewall Rebellion
DESCRIPTION:Virtual Event – click here to sign up! \nJoin author Milo Todd on Zoom as he discusses the Stonewall Rebellion\, a grassroots movement that sparked LGBTQ+ rights across the country. \nWhat happened during the multi-night rebellion around the Stonewall Inn in June of 1969? What was the first thing thrown and who threw it? Who took part and who stayed away?Hear the details of what happened and how this ultimately led to the creation of Pride Month. \nNote: This session includes mention of transphobia\, racism\, police brutality\, slurs\, murder\, sexual assault\, and misgendering/deadnaming \nThis program is sponsored by the Friends of the Joshua Hyde Public Library in Sturbridge\, Charlton Public Library and the Jacob Edwards Library in Southbridge\, who we are partnering with for this event.
URL:https://clapplibrary.org/event/1969-stonewall-rebellion/
LOCATION:Virtual\, MA
CATEGORIES:Classes & Lessons,Lecture
ORGANIZER;CN="Tegan M":MAILTO:tmannino@cwmars.org
END:VEVENT
END:VCALENDAR