BEGIN:VCALENDAR
VERSION:2.0
PRODID:-//Clapp Memorial Library - ECPv6.15.20//NONSGML v1.0//EN
CALSCALE:GREGORIAN
METHOD:PUBLISH
X-ORIGINAL-URL:https://clapplibrary.org
X-WR-CALDESC:Events for Clapp Memorial Library
REFRESH-INTERVAL;VALUE=DURATION:PT1H
X-Robots-Tag:noindex
X-PUBLISHED-TTL:PT1H
BEGIN:VTIMEZONE
TZID:America/New_York
BEGIN:DAYLIGHT
TZOFFSETFROM:-0500
TZOFFSETTO:-0400
TZNAME:EDT
DTSTART:20240310T070000
END:DAYLIGHT
BEGIN:STANDARD
TZOFFSETFROM:-0400
TZOFFSETTO:-0500
TZNAME:EST
DTSTART:20241103T060000
END:STANDARD
BEGIN:DAYLIGHT
TZOFFSETFROM:-0500
TZOFFSETTO:-0400
TZNAME:EDT
DTSTART:20250309T070000
END:DAYLIGHT
BEGIN:STANDARD
TZOFFSETFROM:-0400
TZOFFSETTO:-0500
TZNAME:EST
DTSTART:20251102T060000
END:STANDARD
BEGIN:DAYLIGHT
TZOFFSETFROM:-0500
TZOFFSETTO:-0400
TZNAME:EDT
DTSTART:20260308T070000
END:DAYLIGHT
BEGIN:STANDARD
TZOFFSETFROM:-0400
TZOFFSETTO:-0500
TZNAME:EST
DTSTART:20261101T060000
END:STANDARD
END:VTIMEZONE
BEGIN:VEVENT
DTSTART;TZID=America/New_York:20250701T180000
DTEND;TZID=America/New_York:20250701T190000
DTSTAMP:20260419T125831
CREATED:20250602T162233Z
LAST-MODIFIED:20250602T162233Z
UID:10004228-1751392800-1751396400@clapplibrary.org
SUMMARY:ViewFinder Exhibit Reception and Awards Ceremony
DESCRIPTION:The Clapp Memorial Library and the Belchertown Creative Economy Committee invite you to the ViewFinder Nature Photography contest exhibit reception and awards ceremony on Tuesday\, July 1st from 6-7pm The winning photographs will be exhibited at the Library throughout the month of July and announced publicly in June\, and viewable on the Library website. The exhibition opening will include an awards ceremony to acknowledge the creative achievements of our local photographers in capturing the beauty and natural diversity of Belchertown. \nThe ViewFinder program is funded in part by a grant from the Belchertown Cultural Council\, a local agency which is supported by the Mass Cultural Council\, a state agency. Additional funding is provided by the Friends of the Clapp Memorial Library. \n 
URL:https://clapplibrary.org/event/viewfinder-exhibit-reception-and-awards-ceremony/
LOCATION:Clapp Memorial Library\, 19 South Main Street\, Belchertown\, MA\, 01007\, United States
CATEGORIES:Adult Events,Classes & Lessons,Community Event,Teen Events,Visual Art
ORGANIZER;CN="Cyndi Harbeson":MAILTO:charbeson@cwmars.org
GEO:42.2761978;-72.3998528
X-APPLE-STRUCTURED-LOCATION;VALUE=URI;X-ADDRESS=Clapp Memorial Library 19 South Main Street Belchertown MA 01007 United States;X-APPLE-RADIUS=500;X-TITLE=19 South Main Street:geo:-72.3998528,42.2761978
END:VEVENT
BEGIN:VEVENT
DTSTART;TZID=America/New_York:20250707T160000
DTEND;TZID=America/New_York:20250707T173000
DTSTAMP:20260419T125831
CREATED:20250528T193340Z
LAST-MODIFIED:20250528T193340Z
UID:10004201-1751904000-1751909400@clapplibrary.org
SUMMARY:Summer Teen D&D
DESCRIPTION:Calling all Belchertown Teens for Summer D&D\nMondays\, 4-5:30\, July 7\, 14\, 21\, & 28 \nSign up to play in a Summer D&D campaign with GM Zia! \nThe scenario takes place in Bremen\, the remote village and part of the area collectively known as ten towns\, located in Icewind Dale. Icewind dale is ruled by Auril the frostmaiden\, who keeps a spell over the area\, so that the sun will never rise and winter will never end. To keep the ire of the frost maiden at bay\, all the villages of ten towns must sacrifice something\, the biggest towns sacrifice people\, the others food\, and the smallest (like Bremen) who have nothing else to spare sacrifice warmth. \nWhen each of the adventurers was approached by a snow white great horned owl. The owl said that warmth was not enough\, and neither was food\, the thing that the frost maiden wanted was people. The adventurers have been tasked with finding a worthy sacrifice. \nThe adventurers is player driven (though they are given a objective) and mainly heist based\, with politics or combat as well (depending on what players choose) \nSpace is limited! Sign up here: https://forms.gle/kJHYdpby9wHWssU16 \nConfirmations will be sent out to teens confirming enrollment or waitlist status. \nPlease email any questions to tmannino@cwmars.org
URL:https://clapplibrary.org/event/summer-teen-dd-2/2025-07-07/
LOCATION:Clapp Memorial Library\, 19 South Main Street\, Belchertown\, MA\, 01007\, United States
CATEGORIES:Games,Teen Events
ATTACH;FMTTYPE=image/jpeg:https://clapplibrary.org/wp-content/uploads/2023/01/RPG-Header-scaled.jpg
ORGANIZER;CN="Tegan M":MAILTO:tmannino@cwmars.org
GEO:42.2761978;-72.3998528
X-APPLE-STRUCTURED-LOCATION;VALUE=URI;X-ADDRESS=Clapp Memorial Library 19 South Main Street Belchertown MA 01007 United States;X-APPLE-RADIUS=500;X-TITLE=19 South Main Street:geo:-72.3998528,42.2761978
END:VEVENT
BEGIN:VEVENT
DTSTART;TZID=America/New_York:20250709T170000
DTEND;TZID=America/New_York:20250709T183000
DTSTAMP:20260419T125831
CREATED:20250602T134703Z
LAST-MODIFIED:20250604T152753Z
UID:10004224-1752080400-1752085800@clapplibrary.org
SUMMARY:Zine Workshop for Teens
DESCRIPTION:The Clapp Memorial Library will be hosting a Zine Workshop for Teens in collaboration with Flywheel Arts Collective on Wednesday\, July 9 from 5:00-6:30PM. Participants will be shown examples of zines and learn a little bit about their history. They will then be taught how to make their own one-page minizine using paper\, markers\, collage materials\, and other supplies\, and will leave the workshop with their own zine! This program is for students ages 12-18. Registration is required. Email macona@cwmars.org or call the library to sign up. All attendees will earn a raffle ticket for the Teen Summer Reading Program.
URL:https://clapplibrary.org/event/zine-workshop-for-teens/
LOCATION:Clapp Memorial Library\, 19 South Main Street\, Belchertown\, MA\, 01007\, United States
CATEGORIES:Crafts,Teen Events,Visual Art,Writing Groups
ATTACH;FMTTYPE=image/png:https://clapplibrary.org/wp-content/uploads/2025/06/Teen-SRP-2025.png
ORGANIZER;CN="Annie Macon":MAILTO:macona@cwmars.org
GEO:42.2761978;-72.3998528
X-APPLE-STRUCTURED-LOCATION;VALUE=URI;X-ADDRESS=Clapp Memorial Library 19 South Main Street Belchertown MA 01007 United States;X-APPLE-RADIUS=500;X-TITLE=19 South Main Street:geo:-72.3998528,42.2761978
END:VEVENT
BEGIN:VEVENT
DTSTART;TZID=America/New_York:20250714T160000
DTEND;TZID=America/New_York:20250714T173000
DTSTAMP:20260419T125831
CREATED:20250528T193340Z
LAST-MODIFIED:20250528T193340Z
UID:10004202-1752508800-1752514200@clapplibrary.org
SUMMARY:Summer Teen D&D
DESCRIPTION:Calling all Belchertown Teens for Summer D&D\nMondays\, 4-5:30\, July 7\, 14\, 21\, & 28 \nSign up to play in a Summer D&D campaign with GM Zia! \nThe scenario takes place in Bremen\, the remote village and part of the area collectively known as ten towns\, located in Icewind Dale. Icewind dale is ruled by Auril the frostmaiden\, who keeps a spell over the area\, so that the sun will never rise and winter will never end. To keep the ire of the frost maiden at bay\, all the villages of ten towns must sacrifice something\, the biggest towns sacrifice people\, the others food\, and the smallest (like Bremen) who have nothing else to spare sacrifice warmth. \nWhen each of the adventurers was approached by a snow white great horned owl. The owl said that warmth was not enough\, and neither was food\, the thing that the frost maiden wanted was people. The adventurers have been tasked with finding a worthy sacrifice. \nThe adventurers is player driven (though they are given a objective) and mainly heist based\, with politics or combat as well (depending on what players choose) \nSpace is limited! Sign up here: https://forms.gle/kJHYdpby9wHWssU16 \nConfirmations will be sent out to teens confirming enrollment or waitlist status. \nPlease email any questions to tmannino@cwmars.org
URL:https://clapplibrary.org/event/summer-teen-dd-2/2025-07-14/
LOCATION:Clapp Memorial Library\, 19 South Main Street\, Belchertown\, MA\, 01007\, United States
CATEGORIES:Games,Teen Events
ATTACH;FMTTYPE=image/jpeg:https://clapplibrary.org/wp-content/uploads/2023/01/RPG-Header-scaled.jpg
ORGANIZER;CN="Tegan M":MAILTO:tmannino@cwmars.org
GEO:42.2761978;-72.3998528
X-APPLE-STRUCTURED-LOCATION;VALUE=URI;X-ADDRESS=Clapp Memorial Library 19 South Main Street Belchertown MA 01007 United States;X-APPLE-RADIUS=500;X-TITLE=19 South Main Street:geo:-72.3998528,42.2761978
END:VEVENT
BEGIN:VEVENT
DTSTART;TZID=America/New_York:20250715T180000
DTEND;TZID=America/New_York:20250715T190000
DTSTAMP:20260419T125831
CREATED:20250502T184652Z
LAST-MODIFIED:20250502T184652Z
UID:10004141-1752602400-1752606000@clapplibrary.org
SUMMARY:Plant Swap
DESCRIPTION:Bring a plant (or not!) to the library and swap it for a new one. Program takes place on the library lawn. Monthly on the third Tuesday of the month from May to September. \nThis program is funded by the Belchertown & Around Plant Swap
URL:https://clapplibrary.org/event/plant-swap/2025-07-15/
LOCATION:Clapp Memorial Library\, 19 South Main Street\, Belchertown\, MA\, 01007\, United States
CATEGORIES:Adult Events,Community Event,Teen Events
ATTACH;FMTTYPE=image/jpeg:https://clapplibrary.org/wp-content/uploads/2015/06/Urn_Flowers.jpg
ORGANIZER;CN="Marcin Marszalek":MAILTO:mmarszalek@cwmars.org
GEO:42.2761978;-72.3998528
X-APPLE-STRUCTURED-LOCATION;VALUE=URI;X-ADDRESS=Clapp Memorial Library 19 South Main Street Belchertown MA 01007 United States;X-APPLE-RADIUS=500;X-TITLE=19 South Main Street:geo:-72.3998528,42.2761978
END:VEVENT
BEGIN:VEVENT
DTSTART;TZID=America/New_York:20250717T190000
DTEND;TZID=America/New_York:20250717T200000
DTSTAMP:20260419T125831
CREATED:20250522T141140Z
LAST-MODIFIED:20250604T153911Z
UID:10004195-1752778800-1752782400@clapplibrary.org
SUMMARY:Big Prize Bingo
DESCRIPTION:Teens ages 12-18 are invited to the library’s fourth annual Summer Reading Bingo program on Thursday\, July 17th from 7:00-8:00PM. Teens will play bingo for the chance to win big prizes like gift cards\, signed books and swag\, puzzles\, and more! All attendees will earn a raffle ticket for the Teen Summer Reading Program. Teens can sign up for the program at the library or by emailing clapplibrarytab@gmail.com. Teens must be registered for the Teen Summer Reading Program to attend. This program is funded by the Friends of the Clapp Memorial Library.
URL:https://clapplibrary.org/event/big-prize-bingo-2/
LOCATION:Clapp Memorial Library\, 19 South Main Street\, Belchertown\, MA\, 01007\, United States
CATEGORIES:Contests,Games,Teen Events
ATTACH;FMTTYPE=image/png:https://clapplibrary.org/wp-content/uploads/2025/06/Teen-SRP-2025.png
GEO:42.2761978;-72.3998528
X-APPLE-STRUCTURED-LOCATION;VALUE=URI;X-ADDRESS=Clapp Memorial Library 19 South Main Street Belchertown MA 01007 United States;X-APPLE-RADIUS=500;X-TITLE=19 South Main Street:geo:-72.3998528,42.2761978
END:VEVENT
BEGIN:VEVENT
DTSTART;TZID=America/New_York:20250721T160000
DTEND;TZID=America/New_York:20250721T173000
DTSTAMP:20260419T125831
CREATED:20250528T193340Z
LAST-MODIFIED:20250528T193340Z
UID:10004203-1753113600-1753119000@clapplibrary.org
SUMMARY:Summer Teen D&D
DESCRIPTION:Calling all Belchertown Teens for Summer D&D\nMondays\, 4-5:30\, July 7\, 14\, 21\, & 28 \nSign up to play in a Summer D&D campaign with GM Zia! \nThe scenario takes place in Bremen\, the remote village and part of the area collectively known as ten towns\, located in Icewind Dale. Icewind dale is ruled by Auril the frostmaiden\, who keeps a spell over the area\, so that the sun will never rise and winter will never end. To keep the ire of the frost maiden at bay\, all the villages of ten towns must sacrifice something\, the biggest towns sacrifice people\, the others food\, and the smallest (like Bremen) who have nothing else to spare sacrifice warmth. \nWhen each of the adventurers was approached by a snow white great horned owl. The owl said that warmth was not enough\, and neither was food\, the thing that the frost maiden wanted was people. The adventurers have been tasked with finding a worthy sacrifice. \nThe adventurers is player driven (though they are given a objective) and mainly heist based\, with politics or combat as well (depending on what players choose) \nSpace is limited! Sign up here: https://forms.gle/kJHYdpby9wHWssU16 \nConfirmations will be sent out to teens confirming enrollment or waitlist status. \nPlease email any questions to tmannino@cwmars.org
URL:https://clapplibrary.org/event/summer-teen-dd-2/2025-07-21/
LOCATION:Clapp Memorial Library\, 19 South Main Street\, Belchertown\, MA\, 01007\, United States
CATEGORIES:Games,Teen Events
ATTACH;FMTTYPE=image/jpeg:https://clapplibrary.org/wp-content/uploads/2023/01/RPG-Header-scaled.jpg
ORGANIZER;CN="Tegan M":MAILTO:tmannino@cwmars.org
GEO:42.2761978;-72.3998528
X-APPLE-STRUCTURED-LOCATION;VALUE=URI;X-ADDRESS=Clapp Memorial Library 19 South Main Street Belchertown MA 01007 United States;X-APPLE-RADIUS=500;X-TITLE=19 South Main Street:geo:-72.3998528,42.2761978
END:VEVENT
BEGIN:VEVENT
DTSTART;TZID=America/New_York:20250723T150000
DTEND;TZID=America/New_York:20250723T160000
DTSTAMP:20260419T125831
CREATED:20250529T202435Z
LAST-MODIFIED:20250604T155122Z
UID:10004211-1753282800-1753286400@clapplibrary.org
SUMMARY:Teen Book Club (July 2025)
DESCRIPTION:The Clapp Memorial Library has a book club for teens entering grades 7-12! This Teen Book Club is in conjunction with the MA Teen Choice Book Awards (MTCBA)\, the only book award in the state selected by teens. Each month teens will read and meet to discuss one book from the nominee list. On Wednesday\, July 23rd from 3:00-4:00PM\, teens will discuss this month’s pick. Copies of the book are available for checkout at the library’s circulation desk and on the hoopla app. Snacks will be provided at the meeting. Email clapplibrarytab@gmail.com with any questions. All attendees will earn a raffle ticket for the Teen Summer Reading Program.
URL:https://clapplibrary.org/event/teen-book-club-july-2025/
LOCATION:Clapp Memorial Library\, 19 South Main Street\, Belchertown\, MA\, 01007\, United States
CATEGORIES:Book Discussion Groups,Teen Events
ATTACH;FMTTYPE=image/png:https://clapplibrary.org/wp-content/uploads/2025/06/Teen-SRP-2025.png
GEO:42.2761978;-72.3998528
X-APPLE-STRUCTURED-LOCATION;VALUE=URI;X-ADDRESS=Clapp Memorial Library 19 South Main Street Belchertown MA 01007 United States;X-APPLE-RADIUS=500;X-TITLE=19 South Main Street:geo:-72.3998528,42.2761978
END:VEVENT
BEGIN:VEVENT
DTSTART;TZID=America/New_York:20250725T180000
DTEND;TZID=America/New_York:20250725T190000
DTSTAMP:20260419T125831
CREATED:20250522T165634Z
LAST-MODIFIED:20250604T155148Z
UID:10004196-1753466400-1753470000@clapplibrary.org
SUMMARY:Teen Card-making for C4HK
DESCRIPTION:Teens ages 12-18 are invited to the library to do good by making greeting cards to be sent to Cards for Hospitalized Kids. This program will take place Friday\, July 25th from 6:00-7:00PM. Email clapplibrarytab@gmail.com or call the library to register. All attendees will earn a raffle ticket for the Teen Summer Reading Program.
URL:https://clapplibrary.org/event/teen-card-making-for-c4hk/
LOCATION:Clapp Memorial Library\, 19 South Main Street\, Belchertown\, MA\, 01007\, United States
CATEGORIES:Crafts,Teen Events
ATTACH;FMTTYPE=image/png:https://clapplibrary.org/wp-content/uploads/2025/06/Teen-SRP-2025.png
GEO:42.2761978;-72.3998528
X-APPLE-STRUCTURED-LOCATION;VALUE=URI;X-ADDRESS=Clapp Memorial Library 19 South Main Street Belchertown MA 01007 United States;X-APPLE-RADIUS=500;X-TITLE=19 South Main Street:geo:-72.3998528,42.2761978
END:VEVENT
BEGIN:VEVENT
DTSTART;TZID=America/New_York:20250728T160000
DTEND;TZID=America/New_York:20250728T173000
DTSTAMP:20260419T125831
CREATED:20250528T193340Z
LAST-MODIFIED:20250528T193340Z
UID:10004204-1753718400-1753723800@clapplibrary.org
SUMMARY:Summer Teen D&D
DESCRIPTION:Calling all Belchertown Teens for Summer D&D\nMondays\, 4-5:30\, July 7\, 14\, 21\, & 28 \nSign up to play in a Summer D&D campaign with GM Zia! \nThe scenario takes place in Bremen\, the remote village and part of the area collectively known as ten towns\, located in Icewind Dale. Icewind dale is ruled by Auril the frostmaiden\, who keeps a spell over the area\, so that the sun will never rise and winter will never end. To keep the ire of the frost maiden at bay\, all the villages of ten towns must sacrifice something\, the biggest towns sacrifice people\, the others food\, and the smallest (like Bremen) who have nothing else to spare sacrifice warmth. \nWhen each of the adventurers was approached by a snow white great horned owl. The owl said that warmth was not enough\, and neither was food\, the thing that the frost maiden wanted was people. The adventurers have been tasked with finding a worthy sacrifice. \nThe adventurers is player driven (though they are given a objective) and mainly heist based\, with politics or combat as well (depending on what players choose) \nSpace is limited! Sign up here: https://forms.gle/kJHYdpby9wHWssU16 \nConfirmations will be sent out to teens confirming enrollment or waitlist status. \nPlease email any questions to tmannino@cwmars.org
URL:https://clapplibrary.org/event/summer-teen-dd-2/2025-07-28/
LOCATION:Clapp Memorial Library\, 19 South Main Street\, Belchertown\, MA\, 01007\, United States
CATEGORIES:Games,Teen Events
ATTACH;FMTTYPE=image/jpeg:https://clapplibrary.org/wp-content/uploads/2023/01/RPG-Header-scaled.jpg
ORGANIZER;CN="Tegan M":MAILTO:tmannino@cwmars.org
GEO:42.2761978;-72.3998528
X-APPLE-STRUCTURED-LOCATION;VALUE=URI;X-ADDRESS=Clapp Memorial Library 19 South Main Street Belchertown MA 01007 United States;X-APPLE-RADIUS=500;X-TITLE=19 South Main Street:geo:-72.3998528,42.2761978
END:VEVENT
BEGIN:VEVENT
DTSTART;TZID=America/New_York:20250730T150000
DTEND;TZID=America/New_York:20250730T163000
DTSTAMP:20260419T125831
CREATED:20250522T165837Z
LAST-MODIFIED:20250604T160547Z
UID:10004197-1753887600-1753893000@clapplibrary.org
SUMMARY:Pokémon Diamond-Painting
DESCRIPTION:Teens ages 12-18 are invited to diamond-paint a Pokémon drink coaster at the library! All materials will be provided\, but Pokémon options and space are limited; email clapplibrarytab@gmail.com or call the library to register. All attendees will earn a raffle ticket for the Teen Summer Reading Program. Teens must be registered for the Teen Summer Reading Program to attend. This program is funded by the Friends of the Clapp Memorial Library.
URL:https://clapplibrary.org/event/pokemon-diamond-painting/
LOCATION:Clapp Memorial Library\, 19 South Main Street\, Belchertown\, MA\, 01007\, United States
CATEGORIES:Crafts,Teen Events
ATTACH;FMTTYPE=image/png:https://clapplibrary.org/wp-content/uploads/2025/06/Teen-SRP-2025.png
GEO:42.2761978;-72.3998528
X-APPLE-STRUCTURED-LOCATION;VALUE=URI;X-ADDRESS=Clapp Memorial Library 19 South Main Street Belchertown MA 01007 United States;X-APPLE-RADIUS=500;X-TITLE=19 South Main Street:geo:-72.3998528,42.2761978
END:VEVENT
END:VCALENDAR