BEGIN:VCALENDAR
VERSION:2.0
PRODID:-//Clapp Memorial Library - ECPv6.15.20//NONSGML v1.0//EN
CALSCALE:GREGORIAN
METHOD:PUBLISH
X-ORIGINAL-URL:https://clapplibrary.org
X-WR-CALDESC:Events for Clapp Memorial Library
REFRESH-INTERVAL;VALUE=DURATION:PT1H
X-Robots-Tag:noindex
X-PUBLISHED-TTL:PT1H
BEGIN:VTIMEZONE
TZID:America/New_York
BEGIN:DAYLIGHT
TZOFFSETFROM:-0500
TZOFFSETTO:-0400
TZNAME:EDT
DTSTART:20240310T070000
END:DAYLIGHT
BEGIN:STANDARD
TZOFFSETFROM:-0400
TZOFFSETTO:-0500
TZNAME:EST
DTSTART:20241103T060000
END:STANDARD
BEGIN:DAYLIGHT
TZOFFSETFROM:-0500
TZOFFSETTO:-0400
TZNAME:EDT
DTSTART:20250309T070000
END:DAYLIGHT
BEGIN:STANDARD
TZOFFSETFROM:-0400
TZOFFSETTO:-0500
TZNAME:EST
DTSTART:20251102T060000
END:STANDARD
BEGIN:DAYLIGHT
TZOFFSETFROM:-0500
TZOFFSETTO:-0400
TZNAME:EDT
DTSTART:20260308T070000
END:DAYLIGHT
BEGIN:STANDARD
TZOFFSETFROM:-0400
TZOFFSETTO:-0500
TZNAME:EST
DTSTART:20261101T060000
END:STANDARD
END:VTIMEZONE
BEGIN:VEVENT
DTSTART;TZID=America/New_York:20251112T160000
DTEND;TZID=America/New_York:20251112T170000
DTSTAMP:20260424T104757
CREATED:20251015T180633Z
LAST-MODIFIED:20260213T195609Z
UID:10004566-1762963200-1762966800@clapplibrary.org
SUMMARY:Anime & Manga Club
DESCRIPTION:The Clapp Memorial Library is hosting an Anime and Manga club for tweens and teens in grades 6-8! The club meets on the 2nd Wednesday of each month from 4-5pm in the library’s Activity Room. During club meetings\, we will watch 1-2 episodes of an anime\, discuss manga\, share artwork\, eat snacks\, and more! Registration is required–email macona@cwmars.org to sign up.
URL:https://clapplibrary.org/event/anime-manga-club/2025-11-12/
LOCATION:Clapp Memorial Library\, 19 South Main Street\, Belchertown\, MA\, 01007\, United States
CATEGORIES:Book Discussion Groups,Film,Teen Events
ATTACH;FMTTYPE=image/png:https://clapplibrary.org/wp-content/uploads/2016/06/movie-popcorn.png
ORGANIZER;CN="Annie Macon":MAILTO:macona@cwmars.org
GEO:42.2761978;-72.3998528
X-APPLE-STRUCTURED-LOCATION;VALUE=URI;X-ADDRESS=Clapp Memorial Library 19 South Main Street Belchertown MA 01007 United States;X-APPLE-RADIUS=500;X-TITLE=19 South Main Street:geo:-72.3998528,42.2761978
END:VEVENT
BEGIN:VEVENT
DTSTART;TZID=America/New_York:20251113T183000
DTEND;TZID=America/New_York:20251113T193000
DTSTAMP:20260424T104757
CREATED:20251008T192618Z
LAST-MODIFIED:20251008T194407Z
UID:10004550-1763058600-1763062200@clapplibrary.org
SUMMARY:Fused Glass Pendant Workshop (Teens)
DESCRIPTION:Teens ages 13 and up are invited to the Clapp Memorial Library for a Fused Glass Pendant Workshop on Thursday\, November 13th from 6:30-7:30PM in the library’s Activity Room. Under the tutelage of stained glass designer Deenie Pacik\, teens will create their own dichroic fused glass pendants with colorful pre-cut glass in this easy and fun class. Deenie will fire the pieces in their studio kiln and then return them to the library for teens to pick up. Space is limited and registration is required. Teens can email clapplibrarytab@gmail.com to register. \nInterested Adults should see the Adult Fused Glass Pendant Workshop at 4:30! \nThis program is funded by the Friends of the Clapp Memorial Library.
URL:https://clapplibrary.org/event/fused-glass-pendant-workshop-teens/
LOCATION:Clapp Memorial Library\, 19 South Main Street\, Belchertown\, MA\, 01007\, United States
CATEGORIES:Classes & Lessons,Crafts,Teen Events
GEO:42.2761978;-72.3998528
X-APPLE-STRUCTURED-LOCATION;VALUE=URI;X-ADDRESS=Clapp Memorial Library 19 South Main Street Belchertown MA 01007 United States;X-APPLE-RADIUS=500;X-TITLE=19 South Main Street:geo:-72.3998528,42.2761978
END:VEVENT
BEGIN:VEVENT
DTSTART;TZID=America/New_York:20251114T140000
DTEND;TZID=America/New_York:20251114T153000
DTSTAMP:20260424T104757
CREATED:20250909T163920Z
LAST-MODIFIED:20250909T163920Z
UID:10004516-1763128800-1763134200@clapplibrary.org
SUMMARY:Free Food Friday (Nov 2025)
DESCRIPTION:Free Food Fridays are back! Teens are invited to the library after school on the second Friday of the month October-December for free snacks as they visit and use the library! Students must be in grades 7-12 and arrive between 2:00-3:30PM for a free snack\, courtesy of the library\, as supplies last. This program is funded by the Friends of the Clapp Memorial Library. \n.
URL:https://clapplibrary.org/event/free-food-friday-nov-2025/
LOCATION:Clapp Memorial Library\, 19 South Main Street\, Belchertown\, MA\, 01007\, United States
CATEGORIES:Teen Events
GEO:42.2761978;-72.3998528
X-APPLE-STRUCTURED-LOCATION;VALUE=URI;X-ADDRESS=Clapp Memorial Library 19 South Main Street Belchertown MA 01007 United States;X-APPLE-RADIUS=500;X-TITLE=19 South Main Street:geo:-72.3998528,42.2761978
END:VEVENT
BEGIN:VEVENT
DTSTART;TZID=America/New_York:20251114T143000
DTEND;TZID=America/New_York:20251114T173000
DTSTAMP:20260424T104757
CREATED:20251016T193727Z
LAST-MODIFIED:20251105T175625Z
UID:10004570-1763130600-1763141400@clapplibrary.org
SUMMARY:Games Day 2025
DESCRIPTION:Join us in celebrating International Games Month at the library! Patrons of all ages are invited to the library’s Games Day on Friday\, November 14th\, from 2:30-5:30PM.  Drop in\, have fun\, and enter to win a game of your own. \nBoard games\, card games\, puzzles\, and more.  Bring your Magic: the Gathering decks!  Like Disney?  Learn to play Lorcana with Jonathan.  Ask Tegan about RPGs.  Enter into our free games raffle! \nAll welcome
URL:https://clapplibrary.org/event/games-day-2025/
LOCATION:Clapp Memorial Library\, 19 South Main Street\, Belchertown\, MA\, 01007\, United States
CATEGORIES:Adult Events,Children's Events,Community Event,Games,Teen Events
ATTACH;FMTTYPE=image/jpeg:https://clapplibrary.org/wp-content/uploads/2022/09/games-month.jpg
ORGANIZER;CN="Tegan M":MAILTO:tmannino@cwmars.org
GEO:42.2761978;-72.3998528
X-APPLE-STRUCTURED-LOCATION;VALUE=URI;X-ADDRESS=Clapp Memorial Library 19 South Main Street Belchertown MA 01007 United States;X-APPLE-RADIUS=500;X-TITLE=19 South Main Street:geo:-72.3998528,42.2761978
END:VEVENT
BEGIN:VEVENT
DTSTART;TZID=America/New_York:20251114T163000
DTEND;TZID=America/New_York:20251114T173000
DTSTAMP:20260424T104757
CREATED:20251006T165236Z
LAST-MODIFIED:20251006T165236Z
UID:10004542-1763137800-1763141400@clapplibrary.org
SUMMARY:Teen Advisory Board (Nov 2025)
DESCRIPTION:The Clapp Memorial Library’s Teen Advisory Board will meet Friday\, November 14th from 4:30-5:30PM on the main floor of the library to celebrate Games Day! TAB members will play board games\, enjoy free snacks\, and make new friends. TAB is a group of 7th-12th grade students who meet monthly during the school year to propose library programming for teens\, provide input on teen services\, volunteer\, and have fun! Email clapplibrarytab@gmail.com to register. New members are welcome!
URL:https://clapplibrary.org/event/teen-advisory-board-nov-2025/
LOCATION:Clapp Memorial Library\, 19 South Main Street\, Belchertown\, MA\, 01007\, United States
CATEGORIES:Games,Teen Events
ATTACH;FMTTYPE=image/jpeg:https://clapplibrary.org/wp-content/uploads/2016/11/IGD-11-2016-1.jpg
GEO:42.2761978;-72.3998528
X-APPLE-STRUCTURED-LOCATION;VALUE=URI;X-ADDRESS=Clapp Memorial Library 19 South Main Street Belchertown MA 01007 United States;X-APPLE-RADIUS=500;X-TITLE=19 South Main Street:geo:-72.3998528,42.2761978
END:VEVENT
BEGIN:VEVENT
DTSTART;TZID=America/New_York:20251115T103000
DTEND;TZID=America/New_York:20251115T133000
DTSTAMP:20260424T104757
CREATED:20251023T172901Z
LAST-MODIFIED:20251023T172904Z
UID:10004572-1763202600-1763213400@clapplibrary.org
SUMMARY:Magic: the Gathering
DESCRIPTION:Join us for Magic the Gathering in the Activity Room. Bring your own deck or use one of our learning decks. Everyone is welcome\, however players must be fluent readers. Players under the age of 10 must have a caregiver who is at least 14 years old on the Library premises. Join us for every session or just one – it’s up to you! \nWe will have two instructors to help get games started and assist with the rules of the game. No registration is required. Check the Library website or Facebook page if there is inclement weather.
URL:https://clapplibrary.org/event/magic-the-gathering-3/2025-11-15/
LOCATION:Clapp Memorial Library\, 19 South Main Street\, Belchertown\, MA\, 01007\, United States
CATEGORIES:Children's Events,Games,Teen Events
ATTACH;FMTTYPE=image/png:https://clapplibrary.org/wp-content/uploads/2025/10/magic-the-gathering.png
GEO:42.2761978;-72.3998528
X-APPLE-STRUCTURED-LOCATION;VALUE=URI;X-ADDRESS=Clapp Memorial Library 19 South Main Street Belchertown MA 01007 United States;X-APPLE-RADIUS=500;X-TITLE=19 South Main Street:geo:-72.3998528,42.2761978
END:VEVENT
BEGIN:VEVENT
DTSTART;TZID=America/New_York:20251117T141500
DTEND;TZID=America/New_York:20251117T150000
DTSTAMP:20260424T104757
CREATED:20251008T165645Z
LAST-MODIFIED:20251008T165645Z
UID:10004549-1763388900-1763391600@clapplibrary.org
SUMMARY:Writing Contest Workshop
DESCRIPTION:The BHS Writing Club and the Clapp Memorial Library are teaming up for a writing workshop for teens! Ruthie Sterling\, a novelist and the library’s Teen Services Coordinator\, will run a writing workshop based on the Letters About Literature Writing Contest at a BHS Writing Club meeting. The workshop will take place from 2:15-3:00PM on Monday\, November 17th in Room 318 at Belchertown High School. Just last year\, a BHS student placed in this contest\, which has a maximum cash prize of $200! Attend this workshop\, and you might be next! Teens who do not attend Belchertown High School must email clapplibrarytab@gmail.com to register.
URL:https://clapplibrary.org/event/writing-contest-workshop/
LOCATION:Belchertown High School\, 142 Springfield Road\, Belchertown\, MA\, 01007\, United States
CATEGORIES:Contests,Teen Events,Writing Groups
ATTACH;FMTTYPE=image/jpeg:https://clapplibrary.org/wp-content/uploads/2017/04/antique-typewriter-juan-r-velasco.jpg
END:VEVENT
BEGIN:VEVENT
DTSTART;TZID=America/New_York:20251122T103000
DTEND;TZID=America/New_York:20251122T133000
DTSTAMP:20260424T104757
CREATED:20251023T172901Z
LAST-MODIFIED:20251023T172904Z
UID:10004573-1763807400-1763818200@clapplibrary.org
SUMMARY:Magic: the Gathering
DESCRIPTION:Join us for Magic the Gathering in the Activity Room. Bring your own deck or use one of our learning decks. Everyone is welcome\, however players must be fluent readers. Players under the age of 10 must have a caregiver who is at least 14 years old on the Library premises. Join us for every session or just one – it’s up to you! \nWe will have two instructors to help get games started and assist with the rules of the game. No registration is required. Check the Library website or Facebook page if there is inclement weather.
URL:https://clapplibrary.org/event/magic-the-gathering-3/2025-11-22/
LOCATION:Clapp Memorial Library\, 19 South Main Street\, Belchertown\, MA\, 01007\, United States
CATEGORIES:Children's Events,Games,Teen Events
ATTACH;FMTTYPE=image/png:https://clapplibrary.org/wp-content/uploads/2025/10/magic-the-gathering.png
GEO:42.2761978;-72.3998528
X-APPLE-STRUCTURED-LOCATION;VALUE=URI;X-ADDRESS=Clapp Memorial Library 19 South Main Street Belchertown MA 01007 United States;X-APPLE-RADIUS=500;X-TITLE=19 South Main Street:geo:-72.3998528,42.2761978
END:VEVENT
BEGIN:VEVENT
DTSTART;TZID=America/New_York:20251126T150000
DTEND;TZID=America/New_York:20251126T160000
DTSTAMP:20260424T104757
CREATED:20251031T171211Z
LAST-MODIFIED:20251031T171211Z
UID:10004601-1764169200-1764172800@clapplibrary.org
SUMMARY:Teen Book Club (Nov 2025)
DESCRIPTION:The Clapp Memorial Library has a book club for teens in grades 7-12! On Wednesday\, November 26th from 3:00-4:00PM\, teens will discuss The Sunbearer Trials by Aiden Thomas. Copies of the book are available for checkout at the library’s circulation desk and on the Libby and hoopla apps. Snacks will be provided at the meeting. Email clapplibrarytab@gmail.com with any questions.
URL:https://clapplibrary.org/event/teen-book-club-nov-2025/
LOCATION:Clapp Memorial Library\, 19 South Main Street\, Belchertown\, MA\, 01007\, United States
CATEGORIES:Book Discussion Groups,Teen Events
GEO:42.2761978;-72.3998528
X-APPLE-STRUCTURED-LOCATION;VALUE=URI;X-ADDRESS=Clapp Memorial Library 19 South Main Street Belchertown MA 01007 United States;X-APPLE-RADIUS=500;X-TITLE=19 South Main Street:geo:-72.3998528,42.2761978
END:VEVENT
BEGIN:VEVENT
DTSTART;TZID=America/New_York:20251129T103000
DTEND;TZID=America/New_York:20251129T133000
DTSTAMP:20260424T104757
CREATED:20251023T172901Z
LAST-MODIFIED:20251023T172904Z
UID:10004574-1764412200-1764423000@clapplibrary.org
SUMMARY:Magic: the Gathering
DESCRIPTION:Join us for Magic the Gathering in the Activity Room. Bring your own deck or use one of our learning decks. Everyone is welcome\, however players must be fluent readers. Players under the age of 10 must have a caregiver who is at least 14 years old on the Library premises. Join us for every session or just one – it’s up to you! \nWe will have two instructors to help get games started and assist with the rules of the game. No registration is required. Check the Library website or Facebook page if there is inclement weather.
URL:https://clapplibrary.org/event/magic-the-gathering-3/2025-11-29/
LOCATION:Clapp Memorial Library\, 19 South Main Street\, Belchertown\, MA\, 01007\, United States
CATEGORIES:Children's Events,Games,Teen Events
ATTACH;FMTTYPE=image/png:https://clapplibrary.org/wp-content/uploads/2025/10/magic-the-gathering.png
GEO:42.2761978;-72.3998528
X-APPLE-STRUCTURED-LOCATION;VALUE=URI;X-ADDRESS=Clapp Memorial Library 19 South Main Street Belchertown MA 01007 United States;X-APPLE-RADIUS=500;X-TITLE=19 South Main Street:geo:-72.3998528,42.2761978
END:VEVENT
END:VCALENDAR