BEGIN:VCALENDAR
VERSION:2.0
PRODID:-//Clapp Memorial Library - ECPv6.15.20//NONSGML v1.0//EN
CALSCALE:GREGORIAN
METHOD:PUBLISH
X-WR-CALNAME:Clapp Memorial Library
X-ORIGINAL-URL:https://clapplibrary.org
X-WR-CALDESC:Events for Clapp Memorial Library
REFRESH-INTERVAL;VALUE=DURATION:PT1H
X-Robots-Tag:noindex
X-PUBLISHED-TTL:PT1H
BEGIN:VTIMEZONE
TZID:America/New_York
BEGIN:DAYLIGHT
TZOFFSETFROM:-0500
TZOFFSETTO:-0400
TZNAME:EDT
DTSTART:20240310T070000
END:DAYLIGHT
BEGIN:STANDARD
TZOFFSETFROM:-0400
TZOFFSETTO:-0500
TZNAME:EST
DTSTART:20241103T060000
END:STANDARD
BEGIN:DAYLIGHT
TZOFFSETFROM:-0500
TZOFFSETTO:-0400
TZNAME:EDT
DTSTART:20250309T070000
END:DAYLIGHT
BEGIN:STANDARD
TZOFFSETFROM:-0400
TZOFFSETTO:-0500
TZNAME:EST
DTSTART:20251102T060000
END:STANDARD
BEGIN:DAYLIGHT
TZOFFSETFROM:-0500
TZOFFSETTO:-0400
TZNAME:EDT
DTSTART:20260308T070000
END:DAYLIGHT
BEGIN:STANDARD
TZOFFSETFROM:-0400
TZOFFSETTO:-0500
TZNAME:EST
DTSTART:20261101T060000
END:STANDARD
END:VTIMEZONE
BEGIN:VEVENT
DTSTART;TZID=America/New_York:20251024T163000
DTEND;TZID=America/New_York:20251024T173000
DTSTAMP:20260420T061606
CREATED:20250923T152021Z
LAST-MODIFIED:20250923T152021Z
UID:10004530-1761323400-1761327000@clapplibrary.org
SUMMARY:Teen Advisory Board (Oct 2025)
DESCRIPTION:The Clapp Memorial Library’s Teen Advisory Board will meet Friday\, October 24th from 4:30-5:30PM on the main floor of the library. TAB is a group of 7th-12th grade students who meet monthly during the school year to propose library programming for teens\, provide input on teen services\, volunteer\, and have fun! At this meeting\, teens will reflect on the Summer Reading Program and brainstorm ideas for next year. Teens can email clapplibrarytab@gmail.com to register. New members are welcome!
URL:https://clapplibrary.org/event/teen-advisory-board-oct-2025/
LOCATION:Clapp Memorial Library\, 19 South Main Street\, Belchertown\, MA\, 01007\, United States
CATEGORIES:Teen Events
GEO:42.2761978;-72.3998528
X-APPLE-STRUCTURED-LOCATION;VALUE=URI;X-ADDRESS=Clapp Memorial Library 19 South Main Street Belchertown MA 01007 United States;X-APPLE-RADIUS=500;X-TITLE=19 South Main Street:geo:-72.3998528,42.2761978
END:VEVENT
BEGIN:VEVENT
DTSTART;TZID=America/New_York:20251024T180000
DTEND;TZID=America/New_York:20251024T190000
DTSTAMP:20260420T061606
CREATED:20250915T161017Z
LAST-MODIFIED:20250915T161021Z
UID:10004526-1761328800-1761332400@clapplibrary.org
SUMMARY:Halloween Harvest: Ghost Stories with Davis Bates
DESCRIPTION:The Clapp Memorial Library is excited to welcome back award-winning storyteller Davis Bates on Friday\, October 24th at 6:00PM for a night of ghost stories\, supernatural songs\, and harvest tales. His performance will conclude with a workshop for teens on telling their own ghost stories. Will a certain library or local state school be a feature? Teens in grades 7-12 are asked to email clapplibrarytab@gmail.com to register. \n This program is funded in part by a grant from the Belchertown Cultural Council\, a local agency which is supported by the Mass Cultural Council\, a state agency.
URL:https://clapplibrary.org/event/halloween-harvest-ghost-stories-with-davis-bates/
LOCATION:Clapp Memorial Library\, 19 South Main Street\, Belchertown\, MA\, 01007\, United States
CATEGORIES:Concerts & Music,Lecture,Teen Events
ATTACH;FMTTYPE=image/jpeg:https://clapplibrary.org/wp-content/uploads/2022/09/pumpkins-scaled.jpg
GEO:42.2761978;-72.3998528
X-APPLE-STRUCTURED-LOCATION;VALUE=URI;X-ADDRESS=Clapp Memorial Library 19 South Main Street Belchertown MA 01007 United States;X-APPLE-RADIUS=500;X-TITLE=19 South Main Street:geo:-72.3998528,42.2761978
END:VEVENT
END:VCALENDAR