BEGIN:VCALENDAR
VERSION:2.0
PRODID:-//Clapp Memorial Library - ECPv6.15.20//NONSGML v1.0//EN
CALSCALE:GREGORIAN
METHOD:PUBLISH
X-WR-CALNAME:Clapp Memorial Library
X-ORIGINAL-URL:https://clapplibrary.org
X-WR-CALDESC:Events for Clapp Memorial Library
REFRESH-INTERVAL;VALUE=DURATION:PT1H
X-Robots-Tag:noindex
X-PUBLISHED-TTL:PT1H
BEGIN:VTIMEZONE
TZID:America/New_York
BEGIN:DAYLIGHT
TZOFFSETFROM:-0500
TZOFFSETTO:-0400
TZNAME:EDT
DTSTART:20250309T070000
END:DAYLIGHT
BEGIN:STANDARD
TZOFFSETFROM:-0400
TZOFFSETTO:-0500
TZNAME:EST
DTSTART:20251102T060000
END:STANDARD
BEGIN:DAYLIGHT
TZOFFSETFROM:-0500
TZOFFSETTO:-0400
TZNAME:EDT
DTSTART:20260308T070000
END:DAYLIGHT
BEGIN:STANDARD
TZOFFSETFROM:-0400
TZOFFSETTO:-0500
TZNAME:EST
DTSTART:20261101T060000
END:STANDARD
BEGIN:DAYLIGHT
TZOFFSETFROM:-0500
TZOFFSETTO:-0400
TZNAME:EDT
DTSTART:20270314T070000
END:DAYLIGHT
BEGIN:STANDARD
TZOFFSETFROM:-0400
TZOFFSETTO:-0500
TZNAME:EST
DTSTART:20271107T060000
END:STANDARD
END:VTIMEZONE
BEGIN:VEVENT
DTSTART;TZID=America/New_York:20260513T140000
DTEND;TZID=America/New_York:20260513T150000
DTSTAMP:20260423T144116
CREATED:20260407T180142Z
LAST-MODIFIED:20260407T180150Z
UID:10005364-1778680800-1778684400@clapplibrary.org
SUMMARY:Drama 101: The Finale!
DESCRIPTION:Teens in grades 7-12 are invited to the Clapp Memorial Library on Wednesday\, May 13th\, a BPS early release day\, for Drama 101: The Finale! From 2:00-3:00PM\, the library’s Teen Services Coordinator (a former theater kid herself) will lead teens and tweens in various theater games in the library’s Activity Room as well as host a theater-themed Jeopardy! game. This program is perfect for drama and theater enthusiasts and those looking to try their hand at acting. Email clapplibrarytab@gmail.com with any questions and to register.
URL:https://clapplibrary.org/event/drama-101-the-finale/
LOCATION:Clapp Memorial Library\, 19 South Main Street\, Belchertown\, MA\, 01007\, United States
CATEGORIES:Games,Teen Events
GEO:42.2761978;-72.3998528
X-APPLE-STRUCTURED-LOCATION;VALUE=URI;X-ADDRESS=Clapp Memorial Library 19 South Main Street Belchertown MA 01007 United States;X-APPLE-RADIUS=500;X-TITLE=19 South Main Street:geo:-72.3998528,42.2761978
END:VEVENT
BEGIN:VEVENT
DTSTART;TZID=America/New_York:20260513T160000
DTEND;TZID=America/New_York:20260513T170000
DTSTAMP:20260423T144116
CREATED:20251015T180633Z
LAST-MODIFIED:20260213T195609Z
UID:10004863-1778688000-1778691600@clapplibrary.org
SUMMARY:Anime & Manga Club
DESCRIPTION:The Clapp Memorial Library is hosting an Anime and Manga club for tweens and teens in grades 6-8! The club meets on the 2nd Wednesday of each month from 4-5pm in the library’s Activity Room. During club meetings\, we will watch 1-2 episodes of an anime\, discuss manga\, share artwork\, eat snacks\, and more! Registration is required–email macona@cwmars.org to sign up.
URL:https://clapplibrary.org/event/anime-manga-club/2026-05-13/
LOCATION:Clapp Memorial Library\, 19 South Main Street\, Belchertown\, MA\, 01007\, United States
CATEGORIES:Book Discussion Groups,Film,Teen Events
ATTACH;FMTTYPE=image/png:https://clapplibrary.org/wp-content/uploads/2016/06/movie-popcorn.png
ORGANIZER;CN="Annie Macon":MAILTO:macona@cwmars.org
GEO:42.2761978;-72.3998528
X-APPLE-STRUCTURED-LOCATION;VALUE=URI;X-ADDRESS=Clapp Memorial Library 19 South Main Street Belchertown MA 01007 United States;X-APPLE-RADIUS=500;X-TITLE=19 South Main Street:geo:-72.3998528,42.2761978
END:VEVENT
BEGIN:VEVENT
DTSTART;TZID=America/New_York:20260515T163000
DTEND;TZID=America/New_York:20260515T173000
DTSTAMP:20260423T144116
CREATED:20260330T211209Z
LAST-MODIFIED:20260406T134013Z
UID:10005348-1778862600-1778866200@clapplibrary.org
SUMMARY:Teen Advisory Board (May 2026)
DESCRIPTION:The Clapp Memorial Library’s Teen Advisory Board will have its last meeting of the school year on Friday\, May 15th from 4:30-5:30PM in the library’s Activity Room. Free pizza will be provided as we celebrate this year’s accomplishments and talk about opportunities for summer programming and volunteering. Teens who have attended any TAB meetings during the past school year are invited and can email clapplibrarytab@gmail.com to register.
URL:https://clapplibrary.org/event/teen-advisory-board-may-2026/
LOCATION:Clapp Memorial Library\, 19 South Main Street\, Belchertown\, MA\, 01007\, United States
CATEGORIES:Teen Events
GEO:42.2761978;-72.3998528
X-APPLE-STRUCTURED-LOCATION;VALUE=URI;X-ADDRESS=Clapp Memorial Library 19 South Main Street Belchertown MA 01007 United States;X-APPLE-RADIUS=500;X-TITLE=19 South Main Street:geo:-72.3998528,42.2761978
END:VEVENT
END:VCALENDAR