BEGIN:VCALENDAR
VERSION:2.0
PRODID:-//Clapp Memorial Library - ECPv6.15.20//NONSGML v1.0//EN
CALSCALE:GREGORIAN
METHOD:PUBLISH
X-WR-CALNAME:Clapp Memorial Library
X-ORIGINAL-URL:https://clapplibrary.org
X-WR-CALDESC:Events for Clapp Memorial Library
REFRESH-INTERVAL;VALUE=DURATION:PT1H
X-Robots-Tag:noindex
X-PUBLISHED-TTL:PT1H
BEGIN:VTIMEZONE
TZID:America/New_York
BEGIN:DAYLIGHT
TZOFFSETFROM:-0500
TZOFFSETTO:-0400
TZNAME:EDT
DTSTART:20250309T070000
END:DAYLIGHT
BEGIN:STANDARD
TZOFFSETFROM:-0400
TZOFFSETTO:-0500
TZNAME:EST
DTSTART:20251102T060000
END:STANDARD
BEGIN:DAYLIGHT
TZOFFSETFROM:-0500
TZOFFSETTO:-0400
TZNAME:EDT
DTSTART:20260308T070000
END:DAYLIGHT
BEGIN:STANDARD
TZOFFSETFROM:-0400
TZOFFSETTO:-0500
TZNAME:EST
DTSTART:20261101T060000
END:STANDARD
BEGIN:DAYLIGHT
TZOFFSETFROM:-0500
TZOFFSETTO:-0400
TZNAME:EDT
DTSTART:20270314T070000
END:DAYLIGHT
BEGIN:STANDARD
TZOFFSETFROM:-0400
TZOFFSETTO:-0500
TZNAME:EST
DTSTART:20271107T060000
END:STANDARD
END:VTIMEZONE
BEGIN:VEVENT
DTSTART;TZID=America/New_York:20260609T150000
DTEND;TZID=America/New_York:20260609T164500
DTSTAMP:20260423T225117
CREATED:20260406T202529Z
LAST-MODIFIED:20260406T202530Z
UID:10005360-1781017200-1781023500@clapplibrary.org
SUMMARY:Pride Movie Matinee: Were the World Mine
DESCRIPTION:Grab your popcorn for this program series! Tuesdays in June we’re showing a series of films for Pride Month in our Activity Room! Features include a Hayes-code era classic\, a teen coming of age\, parents helping their son propose\, and a documentary. Snacks provided\, no registration required. \nWere the World Mine (2008)\, TV14\, 1hr 36min\nA coming of age romance at a private boy’s school where a gay teen is cast as Puck in his school’s production of A Midsummer Night’s Dream\, ending up with a love potion that causes havoc in his conservative town. \nStarring Tanner Cohen\, Nathaniel David Becker\, Zelda Williams\, Judy McLane\, and Jill Larson. \nPublic performance rights provided through Kanopy
URL:https://clapplibrary.org/event/pride-movie-matinee-were-the-world-mine/
LOCATION:Clapp Memorial Library\, 19 South Main Street\, Belchertown\, MA\, 01007\, United States
CATEGORIES:Adult Events,Community Event,Film,Teen Events
ATTACH;FMTTYPE=image/png:https://clapplibrary.org/wp-content/uploads/2025/05/movies-banner.png
ORGANIZER;CN="Tegan M":MAILTO:tmannino@cwmars.org
GEO:42.2761978;-72.3998528
X-APPLE-STRUCTURED-LOCATION;VALUE=URI;X-ADDRESS=Clapp Memorial Library 19 South Main Street Belchertown MA 01007 United States;X-APPLE-RADIUS=500;X-TITLE=19 South Main Street:geo:-72.3998528,42.2761978
END:VEVENT
BEGIN:VEVENT
DTSTART;TZID=America/New_York:20260610T160000
DTEND;TZID=America/New_York:20260610T170000
DTSTAMP:20260423T225117
CREATED:20251015T180633Z
LAST-MODIFIED:20260213T195609Z
UID:10004864-1781107200-1781110800@clapplibrary.org
SUMMARY:Anime & Manga Club
DESCRIPTION:The Clapp Memorial Library is hosting an Anime and Manga club for tweens and teens in grades 6-8! The club meets on the 2nd Wednesday of each month from 4-5pm in the library’s Activity Room. During club meetings\, we will watch 1-2 episodes of an anime\, discuss manga\, share artwork\, eat snacks\, and more! Registration is required–email macona@cwmars.org to sign up.
URL:https://clapplibrary.org/event/anime-manga-club/2026-06-10/
LOCATION:Clapp Memorial Library\, 19 South Main Street\, Belchertown\, MA\, 01007\, United States
CATEGORIES:Book Discussion Groups,Film,Teen Events
ATTACH;FMTTYPE=image/png:https://clapplibrary.org/wp-content/uploads/2016/06/movie-popcorn.png
ORGANIZER;CN="Annie Macon":MAILTO:macona@cwmars.org
GEO:42.2761978;-72.3998528
X-APPLE-STRUCTURED-LOCATION;VALUE=URI;X-ADDRESS=Clapp Memorial Library 19 South Main Street Belchertown MA 01007 United States;X-APPLE-RADIUS=500;X-TITLE=19 South Main Street:geo:-72.3998528,42.2761978
END:VEVENT
BEGIN:VEVENT
DTSTART;TZID=America/New_York:20260613T100000
DTEND;TZID=America/New_York:20260613T110000
DTSTAMP:20260423T225117
CREATED:20260422T161920Z
LAST-MODIFIED:20260422T162013Z
UID:10005369-1781344800-1781348400@clapplibrary.org
SUMMARY:Fabric of the Revolution Workshop
DESCRIPTION:On June 13 at 10am\, local fiber artist Holly Field will be hosting an activity at the Clapp Memorial Library where participants can make their own copy of George Washington’s headquarters flag\, the Washington Standard. This flag was flown during the Revolutionary War to mark Washington’s position in camp and on the battlefield. During the activity\, participants will dye a Washington Standard of their own using a natural Indigo dye bath to color our flags blue. The cotton fabric we will be using has been pre-treated so that the dye will not stick to the area where the stars are\, creating the star pattern as if by magic when the flag is removed from the dye. The dyeing process can be messy so please dress appropriately. This activity is limited to 18 participants\, ages 10 to adult\, and will take place on the front lawn of the library. Kids under 13 need to be accompanied by an adult. Click here to sign up. \nThis program is funded in part by a grant from the Belchertown Cultural Council\, a local agency which is supported by the Mass Cultural Council\, a state agency.
URL:https://clapplibrary.org/event/fabric-of-the-revolution-workshop/
LOCATION:Clapp Memorial Library\, 19 South Main Street\, Belchertown\, MA\, 01007\, United States
CATEGORIES:Adult Events,Children's Events,Classes & Lessons,Community Event,Crafts,Teen Events,Visual Art
ORGANIZER;CN="Cyndi Harbeson":MAILTO:charbeson@cwmars.org
GEO:42.2761978;-72.3998528
X-APPLE-STRUCTURED-LOCATION;VALUE=URI;X-ADDRESS=Clapp Memorial Library 19 South Main Street Belchertown MA 01007 United States;X-APPLE-RADIUS=500;X-TITLE=19 South Main Street:geo:-72.3998528,42.2761978
END:VEVENT
END:VCALENDAR