BEGIN:VCALENDAR
VERSION:2.0
PRODID:-//Clapp Memorial Library - ECPv6.15.20//NONSGML v1.0//EN
CALSCALE:GREGORIAN
METHOD:PUBLISH
X-WR-CALNAME:Clapp Memorial Library
X-ORIGINAL-URL:https://clapplibrary.org
X-WR-CALDESC:Events for Clapp Memorial Library
REFRESH-INTERVAL;VALUE=DURATION:PT1H
X-Robots-Tag:noindex
X-PUBLISHED-TTL:PT1H
BEGIN:VTIMEZONE
TZID:America/New_York
BEGIN:DAYLIGHT
TZOFFSETFROM:-0500
TZOFFSETTO:-0400
TZNAME:EDT
DTSTART:20250309T070000
END:DAYLIGHT
BEGIN:STANDARD
TZOFFSETFROM:-0400
TZOFFSETTO:-0500
TZNAME:EST
DTSTART:20251102T060000
END:STANDARD
BEGIN:DAYLIGHT
TZOFFSETFROM:-0500
TZOFFSETTO:-0400
TZNAME:EDT
DTSTART:20260308T070000
END:DAYLIGHT
BEGIN:STANDARD
TZOFFSETFROM:-0400
TZOFFSETTO:-0500
TZNAME:EST
DTSTART:20261101T060000
END:STANDARD
BEGIN:DAYLIGHT
TZOFFSETFROM:-0500
TZOFFSETTO:-0400
TZNAME:EDT
DTSTART:20270314T070000
END:DAYLIGHT
BEGIN:STANDARD
TZOFFSETFROM:-0400
TZOFFSETTO:-0500
TZNAME:EST
DTSTART:20271107T060000
END:STANDARD
END:VTIMEZONE
BEGIN:VEVENT
DTSTART;TZID=America/New_York:20260526T173000
DTEND;TZID=America/New_York:20260526T183000
DTSTAMP:20260425T212235
CREATED:20260312T141616Z
LAST-MODIFIED:20260312T141652Z
UID:10005243-1779816600-1779820200@clapplibrary.org
SUMMARY:ViewFinder Submission Support
DESCRIPTION:Taking part in ViewFinder\, Belchertown’s all-ages photo contest? Come by the library for assistance submitting your photos online: \n\nSaturday\, May 23\, 10am-12pm\nTuesday\, May 26\, 5:30-6:30pm\nWednesday\, May 27\, 5:30-6:30pm\n\nWhat is ViewFinder? \nA juried\, all-ages\, photo contest will run from March 21 through May 30. Photographs must be taken in Belchertown. Contestants will be juried alongside their peers in youth and adult age groups\, and between wildlife\, landscape\, and macro/close up categories. \nWinning photos will be printed and exhibited at the library in July\, with a reception on July 1st at 6PM to celebrate the winners. Winners will receive a certificate and 5 postcards with their photo\, and can pick up and keep their photo after the exhibit.
URL:https://clapplibrary.org/event/viewfinder-submission-support/2026-05-26/
LOCATION:Clapp Memorial Library\, 19 South Main Street\, Belchertown\, MA\, 01007\, United States
CATEGORIES:Adult Events,Children's Events,Community Event,Teen Events,Visual Art
ATTACH;FMTTYPE=image/png:https://clapplibrary.org/wp-content/uploads/2026/03/Viewfinder-2026_CML.png
GEO:42.2761978;-72.3998528
X-APPLE-STRUCTURED-LOCATION;VALUE=URI;X-ADDRESS=Clapp Memorial Library 19 South Main Street Belchertown MA 01007 United States;X-APPLE-RADIUS=500;X-TITLE=19 South Main Street:geo:-72.3998528,42.2761978
END:VEVENT
BEGIN:VEVENT
DTSTART;TZID=America/New_York:20260527T173000
DTEND;TZID=America/New_York:20260527T183000
DTSTAMP:20260425T212236
CREATED:20260312T141616Z
LAST-MODIFIED:20260312T141652Z
UID:10005244-1779903000-1779906600@clapplibrary.org
SUMMARY:ViewFinder Submission Support
DESCRIPTION:Taking part in ViewFinder\, Belchertown’s all-ages photo contest? Come by the library for assistance submitting your photos online: \n\nSaturday\, May 23\, 10am-12pm\nTuesday\, May 26\, 5:30-6:30pm\nWednesday\, May 27\, 5:30-6:30pm\n\nWhat is ViewFinder? \nA juried\, all-ages\, photo contest will run from March 21 through May 30. Photographs must be taken in Belchertown. Contestants will be juried alongside their peers in youth and adult age groups\, and between wildlife\, landscape\, and macro/close up categories. \nWinning photos will be printed and exhibited at the library in July\, with a reception on July 1st at 6PM to celebrate the winners. Winners will receive a certificate and 5 postcards with their photo\, and can pick up and keep their photo after the exhibit.
URL:https://clapplibrary.org/event/viewfinder-submission-support/2026-05-27/
LOCATION:Clapp Memorial Library\, 19 South Main Street\, Belchertown\, MA\, 01007\, United States
CATEGORIES:Adult Events,Children's Events,Community Event,Teen Events,Visual Art
ATTACH;FMTTYPE=image/png:https://clapplibrary.org/wp-content/uploads/2026/03/Viewfinder-2026_CML.png
GEO:42.2761978;-72.3998528
X-APPLE-STRUCTURED-LOCATION;VALUE=URI;X-ADDRESS=Clapp Memorial Library 19 South Main Street Belchertown MA 01007 United States;X-APPLE-RADIUS=500;X-TITLE=19 South Main Street:geo:-72.3998528,42.2761978
END:VEVENT
BEGIN:VEVENT
DTSTART;TZID=America/New_York:20260613T100000
DTEND;TZID=America/New_York:20260613T110000
DTSTAMP:20260425T212236
CREATED:20260422T161920Z
LAST-MODIFIED:20260422T162013Z
UID:10005369-1781344800-1781348400@clapplibrary.org
SUMMARY:Fabric of the Revolution Workshop
DESCRIPTION:On June 13 at 10am\, local fiber artist Holly Field will be hosting an activity at the Clapp Memorial Library where participants can make their own copy of George Washington’s headquarters flag\, the Washington Standard. This flag was flown during the Revolutionary War to mark Washington’s position in camp and on the battlefield. During the activity\, participants will dye a Washington Standard of their own using a natural Indigo dye bath to color our flags blue. The cotton fabric we will be using has been pre-treated so that the dye will not stick to the area where the stars are\, creating the star pattern as if by magic when the flag is removed from the dye. The dyeing process can be messy so please dress appropriately. This activity is limited to 18 participants\, ages 10 to adult\, and will take place on the front lawn of the library. Kids under 13 need to be accompanied by an adult. Click here to sign up. \nThis program is funded in part by a grant from the Belchertown Cultural Council\, a local agency which is supported by the Mass Cultural Council\, a state agency.
URL:https://clapplibrary.org/event/fabric-of-the-revolution-workshop/
LOCATION:Clapp Memorial Library\, 19 South Main Street\, Belchertown\, MA\, 01007\, United States
CATEGORIES:Adult Events,Children's Events,Classes & Lessons,Community Event,Crafts,Teen Events,Visual Art
ORGANIZER;CN="Cyndi Harbeson":MAILTO:charbeson@cwmars.org
GEO:42.2761978;-72.3998528
X-APPLE-STRUCTURED-LOCATION;VALUE=URI;X-ADDRESS=Clapp Memorial Library 19 South Main Street Belchertown MA 01007 United States;X-APPLE-RADIUS=500;X-TITLE=19 South Main Street:geo:-72.3998528,42.2761978
END:VEVENT
END:VCALENDAR