BEGIN:VCALENDAR
VERSION:2.0
PRODID:-//Clapp Memorial Library - ECPv6.15.20//NONSGML v1.0//EN
CALSCALE:GREGORIAN
METHOD:PUBLISH
X-WR-CALNAME:Clapp Memorial Library
X-ORIGINAL-URL:https://clapplibrary.org
X-WR-CALDESC:Events for Clapp Memorial Library
REFRESH-INTERVAL;VALUE=DURATION:PT1H
X-Robots-Tag:noindex
X-PUBLISHED-TTL:PT1H
BEGIN:VTIMEZONE
TZID:America/New_York
BEGIN:DAYLIGHT
TZOFFSETFROM:-0500
TZOFFSETTO:-0400
TZNAME:EDT
DTSTART:20180311T070000
END:DAYLIGHT
BEGIN:STANDARD
TZOFFSETFROM:-0400
TZOFFSETTO:-0500
TZNAME:EST
DTSTART:20181104T060000
END:STANDARD
BEGIN:DAYLIGHT
TZOFFSETFROM:-0500
TZOFFSETTO:-0400
TZNAME:EDT
DTSTART:20190310T070000
END:DAYLIGHT
BEGIN:STANDARD
TZOFFSETFROM:-0400
TZOFFSETTO:-0500
TZNAME:EST
DTSTART:20191103T060000
END:STANDARD
BEGIN:DAYLIGHT
TZOFFSETFROM:-0500
TZOFFSETTO:-0400
TZNAME:EDT
DTSTART:20200308T070000
END:DAYLIGHT
BEGIN:STANDARD
TZOFFSETFROM:-0400
TZOFFSETTO:-0500
TZNAME:EST
DTSTART:20201101T060000
END:STANDARD
END:VTIMEZONE
BEGIN:VEVENT
DTSTART;VALUE=DATE:20190902
DTEND;VALUE=DATE:20190903
DTSTAMP:20260421T205003
CREATED:20181214T164348Z
LAST-MODIFIED:20181214T164348Z
UID:10000552-1567382400-1567468799@clapplibrary.org
SUMMARY:Library Closing: Labor Day 2019
DESCRIPTION:The Library will be closed in observation of Labor Day.
URL:https://clapplibrary.org/event/library-closing-labor-day-2019/
LOCATION:MA
ATTACH;FMTTYPE=image/png:https://clapplibrary.org/wp-content/uploads/2016/08/library-closing.png
END:VEVENT
BEGIN:VEVENT
DTSTART;TZID=America/New_York:20190903T120000
DTEND;TZID=America/New_York:20190903T130000
DTSTAMP:20260421T205003
CREATED:20190111T164439Z
LAST-MODIFIED:20191125T185823Z
UID:10000574-1567512000-1567515600@clapplibrary.org
SUMMARY:Lunch with Libby
DESCRIPTION:Did you get a new device or want to do more with the one you already have? Drop on by to learn how to use Libby to access library ebooks\, downloadable audiobooks\, and magazines! \nOur Technology Librarian\, Tegan\, will be hosting drop-in sessions from noon to 1 on the first Tuesday of every month. Can’t make it? Call the library and schedule a one-on-one session of your own.
URL:https://clapplibrary.org/event/lunch-with-libby-2/2019-09-03/
LOCATION:Clapp Memorial Library\, 19 South Main Street\, Belchertown\, MA\, 01007\, United States
CATEGORIES:Classes & Lessons
ATTACH;FMTTYPE=image/png:https://clapplibrary.org/wp-content/uploads/2018/04/meet-libby940x600.png
ORGANIZER;CN="Tegan M":MAILTO:tmannino@cwmars.org
GEO:42.2761978;-72.3998528
X-APPLE-STRUCTURED-LOCATION;VALUE=URI;X-ADDRESS=Clapp Memorial Library 19 South Main Street Belchertown MA 01007 United States;X-APPLE-RADIUS=500;X-TITLE=19 South Main Street:geo:-72.3998528,42.2761978
END:VEVENT
BEGIN:VEVENT
DTSTART;TZID=America/New_York:20190911T190000
DTEND;TZID=America/New_York:20190911T200000
DTSTAMP:20260421T205003
CREATED:20190813T210359Z
LAST-MODIFIED:20190813T210359Z
UID:10000351-1568228400-1568232000@clapplibrary.org
SUMMARY:Book Art Workshop
DESCRIPTION:Join us to give old books a new life! We’ll be taking weathered books and transforming them into beautiful pieces of art\, which you are welcome to take home with you or leave with us to display around the library. \nAges 18+ are invited to attend\, upstairs in the library.
URL:https://clapplibrary.org/event/book-art-workshop-2/
LOCATION:Clapp Memorial Library\, 19 South Main Street\, Belchertown\, MA\, 01007\, United States
CATEGORIES:Crafts
ATTACH;FMTTYPE=image/jpeg:https://clapplibrary.org/wp-content/uploads/2019/03/book-art-projects.jpeg
GEO:42.2761978;-72.3998528
X-APPLE-STRUCTURED-LOCATION;VALUE=URI;X-ADDRESS=Clapp Memorial Library 19 South Main Street Belchertown MA 01007 United States;X-APPLE-RADIUS=500;X-TITLE=19 South Main Street:geo:-72.3998528,42.2761978
END:VEVENT
BEGIN:VEVENT
DTSTART;TZID=America/New_York:20190918T190000
DTEND;TZID=America/New_York:20190918T203000
DTSTAMP:20260421T205003
CREATED:20190812T164753Z
LAST-MODIFIED:20190916T143815Z
UID:10000376-1568833200-1568838600@clapplibrary.org
SUMMARY:Camera Trapping
DESCRIPTION:Janet Pesaturo is a conservation biologist\, certified tracker\, and writer who travels around the country tracking and camera trapping everything from mouse to moose. \nShe is the author of Camera Trapping Guide: Tracks\, Sign\, and Behavior of Eastern Wildlife. \nCopies will be available for purchase.
URL:https://clapplibrary.org/event/camera-trapping/
LOCATION:Clapp Memorial Library\, 19 South Main Street\, Belchertown\, MA\, 01007\, United States
CATEGORIES:Lecture
ATTACH;FMTTYPE=image/jpeg:https://clapplibrary.org/wp-content/uploads/2019/08/Bobcat-Janet-Pesaturo-820x461.jpg
GEO:42.2761978;-72.3998528
X-APPLE-STRUCTURED-LOCATION;VALUE=URI;X-ADDRESS=Clapp Memorial Library 19 South Main Street Belchertown MA 01007 United States;X-APPLE-RADIUS=500;X-TITLE=19 South Main Street:geo:-72.3998528,42.2761978
END:VEVENT
BEGIN:VEVENT
DTSTART;TZID=America/New_York:20190925T190000
DTEND;TZID=America/New_York:20190925T200000
DTSTAMP:20260421T205003
CREATED:20190822T150133Z
LAST-MODIFIED:20190913T141601Z
UID:10000610-1569438000-1569441600@clapplibrary.org
SUMMARY:Climate Change & Local Ecosystems
DESCRIPTION:How can we prepare for and respond to climate change and its impact on Massachusetts ecosystems and natural resources? Climate adaptation addresses specific climate-related threats and the steps to take to limit the damage. \nScott Jackson is an Extension Associate Professor in the Department of Environmental Conservation at the University of Massachusetts\, Amherst and led a collaborative project to develop the Massachusetts Wildlife Climate Action Tool. \nCLIMATE PREPAREDNESS WEEK IS\nSEPTEMBER 24-30.
URL:https://clapplibrary.org/event/climate-change-the-pioneer-valley/
LOCATION:Clapp Memorial Library\, 19 South Main Street\, Belchertown\, MA\, 01007\, United States
CATEGORIES:Lecture
GEO:42.2761978;-72.3998528
X-APPLE-STRUCTURED-LOCATION;VALUE=URI;X-ADDRESS=Clapp Memorial Library 19 South Main Street Belchertown MA 01007 United States;X-APPLE-RADIUS=500;X-TITLE=19 South Main Street:geo:-72.3998528,42.2761978
END:VEVENT
BEGIN:VEVENT
DTSTART;TZID=America/New_York:20190930T183000
DTEND;TZID=America/New_York:20190930T200000
DTSTAMP:20260421T205003
CREATED:20190829T175907Z
LAST-MODIFIED:20191001T165846Z
UID:10000605-1569868200-1569873600@clapplibrary.org
SUMMARY:Alcohol Ink Workshop
DESCRIPTION:REGISTRATION REQUIRED – SPACE LIMITED \nNo experience necessary for this fun workshop presented by Belchertown Artist Barbara Sullivan.  If you love color\, you’ll love this workshop.  Make a unique piece of art to take home.  All supplies provided. \nRegister at the library\, program attended for individuals 18+ who have not previously taken an alcohol ink workshop. \nSeptember 30th event is full with waiting list.  We have added a second session on October 7th to accommodate the high interest. \nThis program is funded by the Friends of the Library.
URL:https://clapplibrary.org/event/alcohol-ink-workshop/2019-09-30/
LOCATION:Clapp Memorial Library\, 19 South Main Street\, Belchertown\, MA\, 01007\, United States
CATEGORIES:Crafts
ATTACH;FMTTYPE=image/jpeg:https://clapplibrary.org/wp-content/uploads/2019/03/alcohol-ink.jpg
GEO:42.2761978;-72.3998528
X-APPLE-STRUCTURED-LOCATION;VALUE=URI;X-ADDRESS=Clapp Memorial Library 19 South Main Street Belchertown MA 01007 United States;X-APPLE-RADIUS=500;X-TITLE=19 South Main Street:geo:-72.3998528,42.2761978
END:VEVENT
END:VCALENDAR