BEGIN:VCALENDAR
VERSION:2.0
PRODID:-//Clapp Memorial Library - ECPv6.15.20//NONSGML v1.0//EN
CALSCALE:GREGORIAN
METHOD:PUBLISH
X-WR-CALNAME:Clapp Memorial Library
X-ORIGINAL-URL:https://clapplibrary.org
X-WR-CALDESC:Events for Clapp Memorial Library
REFRESH-INTERVAL;VALUE=DURATION:PT1H
X-Robots-Tag:noindex
X-PUBLISHED-TTL:PT1H
BEGIN:VTIMEZONE
TZID:America/New_York
BEGIN:DAYLIGHT
TZOFFSETFROM:-0500
TZOFFSETTO:-0400
TZNAME:EDT
DTSTART:20160313T070000
END:DAYLIGHT
BEGIN:STANDARD
TZOFFSETFROM:-0400
TZOFFSETTO:-0500
TZNAME:EST
DTSTART:20161106T060000
END:STANDARD
BEGIN:DAYLIGHT
TZOFFSETFROM:-0500
TZOFFSETTO:-0400
TZNAME:EDT
DTSTART:20170312T070000
END:DAYLIGHT
BEGIN:STANDARD
TZOFFSETFROM:-0400
TZOFFSETTO:-0500
TZNAME:EST
DTSTART:20171105T060000
END:STANDARD
BEGIN:DAYLIGHT
TZOFFSETFROM:-0500
TZOFFSETTO:-0400
TZNAME:EDT
DTSTART:20180311T070000
END:DAYLIGHT
BEGIN:STANDARD
TZOFFSETFROM:-0400
TZOFFSETTO:-0500
TZNAME:EST
DTSTART:20181104T060000
END:STANDARD
END:VTIMEZONE
BEGIN:VEVENT
DTSTART;VALUE=DATE:20171009
DTEND;VALUE=DATE:20171010
DTSTAMP:20260422T015735
CREATED:20170828T165132Z
LAST-MODIFIED:20170828T165132Z
UID:10000388-1507507200-1507593599@clapplibrary.org
SUMMARY:Library closed. Columbus Day.
DESCRIPTION:
URL:https://clapplibrary.org/event/library-closed-columbus-day/
LOCATION:Clapp Memorial Library\, 19 South Main Street\, Belchertown\, MA\, 01007\, United States
GEO:42.2761978;-72.3998528
X-APPLE-STRUCTURED-LOCATION;VALUE=URI;X-ADDRESS=Clapp Memorial Library 19 South Main Street Belchertown MA 01007 United States;X-APPLE-RADIUS=500;X-TITLE=19 South Main Street:geo:-72.3998528,42.2761978
END:VEVENT
BEGIN:VEVENT
DTSTART;TZID=America/New_York:20171009T170000
DTEND;TZID=America/New_York:20171009T200000
DTSTAMP:20260422T015735
CREATED:20171005T184149Z
LAST-MODIFIED:20171005T190318Z
UID:10000411-1507568400-1507579200@clapplibrary.org
SUMMARY:Friends of the Library Book Sale
DESCRIPTION:First day of the sale is for Friends members only. Memberships will be available at the door. Come tonight for the pick of everything!
URL:https://clapplibrary.org/event/friends-of-the-library-book-sale-2/
LOCATION:Clapp Memorial Library\, 19 South Main Street\, Belchertown\, MA\, 01007\, United States
CATEGORIES:Community Event
GEO:42.2761978;-72.3998528
X-APPLE-STRUCTURED-LOCATION;VALUE=URI;X-ADDRESS=Clapp Memorial Library 19 South Main Street Belchertown MA 01007 United States;X-APPLE-RADIUS=500;X-TITLE=19 South Main Street:geo:-72.3998528,42.2761978
END:VEVENT
BEGIN:VEVENT
DTSTART;TZID=America/New_York:20171010T100000
DTEND;TZID=America/New_York:20171010T200000
DTSTAMP:20260422T015735
CREATED:20171005T184603Z
LAST-MODIFIED:20171005T184603Z
UID:10000412-1507629600-1507665600@clapplibrary.org
SUMMARY:Friends Book Sale
DESCRIPTION:Over 50\,000 items! Come see for yourself!
URL:https://clapplibrary.org/event/friends-book-sale/
LOCATION:Clapp Memorial Library\, 19 South Main Street\, Belchertown\, MA\, 01007\, United States
GEO:42.2761978;-72.3998528
X-APPLE-STRUCTURED-LOCATION;VALUE=URI;X-ADDRESS=Clapp Memorial Library 19 South Main Street Belchertown MA 01007 United States;X-APPLE-RADIUS=500;X-TITLE=19 South Main Street:geo:-72.3998528,42.2761978
END:VEVENT
BEGIN:VEVENT
DTSTART;TZID=America/New_York:20171011T100000
DTEND;TZID=America/New_York:20171011T200000
DTSTAMP:20260422T015735
CREATED:20171005T184650Z
LAST-MODIFIED:20171005T184650Z
UID:10000413-1507716000-1507752000@clapplibrary.org
SUMMARY:Friends Book Sale
DESCRIPTION:
URL:https://clapplibrary.org/event/friends-book-sale-2/
LOCATION:Clapp Memorial Library\, 19 South Main Street\, Belchertown\, MA\, 01007\, United States
GEO:42.2761978;-72.3998528
X-APPLE-STRUCTURED-LOCATION;VALUE=URI;X-ADDRESS=Clapp Memorial Library 19 South Main Street Belchertown MA 01007 United States;X-APPLE-RADIUS=500;X-TITLE=19 South Main Street:geo:-72.3998528,42.2761978
END:VEVENT
BEGIN:VEVENT
DTSTART;TZID=America/New_York:20171011T190000
DTEND;TZID=America/New_York:20171011T210000
DTSTAMP:20260422T015735
CREATED:20171005T183651Z
LAST-MODIFIED:20171005T183850Z
UID:10000410-1507748400-1507755600@clapplibrary.org
SUMMARY:Kusudama Workshop--This Event is Full
DESCRIPTION:
URL:https://clapplibrary.org/event/kusudama-workshop-this-event-is-full/
LOCATION:Clapp Memorial Library\, 19 South Main Street\, Belchertown\, MA\, 01007\, United States
GEO:42.2761978;-72.3998528
X-APPLE-STRUCTURED-LOCATION;VALUE=URI;X-ADDRESS=Clapp Memorial Library 19 South Main Street Belchertown MA 01007 United States;X-APPLE-RADIUS=500;X-TITLE=19 South Main Street:geo:-72.3998528,42.2761978
END:VEVENT
BEGIN:VEVENT
DTSTART;TZID=America/New_York:20171012T100000
DTEND;TZID=America/New_York:20171012T200000
DTSTAMP:20260422T015735
CREATED:20171005T184949Z
LAST-MODIFIED:20171005T184949Z
UID:10000414-1507802400-1507838400@clapplibrary.org
SUMMARY:Friends Book Sale
DESCRIPTION:
URL:https://clapplibrary.org/event/friends-book-sale-3/
LOCATION:Clapp Memorial Library\, 19 South Main Street\, Belchertown\, MA\, 01007\, United States
GEO:42.2761978;-72.3998528
X-APPLE-STRUCTURED-LOCATION;VALUE=URI;X-ADDRESS=Clapp Memorial Library 19 South Main Street Belchertown MA 01007 United States;X-APPLE-RADIUS=500;X-TITLE=19 South Main Street:geo:-72.3998528,42.2761978
END:VEVENT
BEGIN:VEVENT
DTSTART;TZID=America/New_York:20171013T100000
DTEND;TZID=America/New_York:20171013T200000
DTSTAMP:20260422T015735
CREATED:20171005T185122Z
LAST-MODIFIED:20171005T185122Z
UID:10000415-1507888800-1507924800@clapplibrary.org
SUMMARY:Friends Book Sale--Senior Citizen Day
DESCRIPTION:25% off all items for buyers age 60+!
URL:https://clapplibrary.org/event/friends-book-sale-senior-citizen-day/
LOCATION:Clapp Memorial Library\, 19 South Main Street\, Belchertown\, MA\, 01007\, United States
GEO:42.2761978;-72.3998528
X-APPLE-STRUCTURED-LOCATION;VALUE=URI;X-ADDRESS=Clapp Memorial Library 19 South Main Street Belchertown MA 01007 United States;X-APPLE-RADIUS=500;X-TITLE=19 South Main Street:geo:-72.3998528,42.2761978
END:VEVENT
BEGIN:VEVENT
DTSTART;TZID=America/New_York:20171014T090000
DTEND;TZID=America/New_York:20171014T150000
DTSTAMP:20260422T015735
CREATED:20171005T185331Z
LAST-MODIFIED:20171005T185331Z
UID:10000416-1507971600-1507993200@clapplibrary.org
SUMMARY:Friend Book Sale--50% off!
DESCRIPTION:Half off all items except for those with special pricing.
URL:https://clapplibrary.org/event/friend-book-sale-50-off/
LOCATION:Clapp Memorial Library\, 19 South Main Street\, Belchertown\, MA\, 01007\, United States
GEO:42.2761978;-72.3998528
X-APPLE-STRUCTURED-LOCATION;VALUE=URI;X-ADDRESS=Clapp Memorial Library 19 South Main Street Belchertown MA 01007 United States;X-APPLE-RADIUS=500;X-TITLE=19 South Main Street:geo:-72.3998528,42.2761978
END:VEVENT
END:VCALENDAR