BEGIN:VCALENDAR
VERSION:2.0
PRODID:-//Clapp Memorial Library - ECPv6.15.20//NONSGML v1.0//EN
CALSCALE:GREGORIAN
METHOD:PUBLISH
X-WR-CALNAME:Clapp Memorial Library
X-ORIGINAL-URL:https://clapplibrary.org
X-WR-CALDESC:Events for Clapp Memorial Library
REFRESH-INTERVAL;VALUE=DURATION:PT1H
X-Robots-Tag:noindex
X-PUBLISHED-TTL:PT1H
BEGIN:VTIMEZONE
TZID:America/New_York
BEGIN:DAYLIGHT
TZOFFSETFROM:-0500
TZOFFSETTO:-0400
TZNAME:EDT
DTSTART:20160313T070000
END:DAYLIGHT
BEGIN:STANDARD
TZOFFSETFROM:-0400
TZOFFSETTO:-0500
TZNAME:EST
DTSTART:20161106T060000
END:STANDARD
BEGIN:DAYLIGHT
TZOFFSETFROM:-0500
TZOFFSETTO:-0400
TZNAME:EDT
DTSTART:20170312T070000
END:DAYLIGHT
BEGIN:STANDARD
TZOFFSETFROM:-0400
TZOFFSETTO:-0500
TZNAME:EST
DTSTART:20171105T060000
END:STANDARD
BEGIN:DAYLIGHT
TZOFFSETFROM:-0500
TZOFFSETTO:-0400
TZNAME:EDT
DTSTART:20180311T070000
END:DAYLIGHT
BEGIN:STANDARD
TZOFFSETFROM:-0400
TZOFFSETTO:-0500
TZNAME:EST
DTSTART:20181104T060000
END:STANDARD
END:VTIMEZONE
BEGIN:VEVENT
DTSTART;TZID=America/New_York:20171117T150000
DTEND;TZID=America/New_York:20171117T173000
DTSTAMP:20260423T063211
CREATED:20170901T201500Z
LAST-MODIFIED:20171113T221709Z
UID:10000392-1510930800-1510939800@clapplibrary.org
SUMMARY:International Games Day
DESCRIPTION:We’re celebrating Games Day on November 17 from 3pm to 5:30 pm. Games for all ages will be set up throughout the Library. Come alone or bring a group. Let’s play!  We’ll have candy\, refreshments\, and a free raffle to win one of the best all-time board games\, “Clue”.\n \n      \n 
URL:https://clapplibrary.org/event/international-games-day-3/
LOCATION:Clapp Memorial Library\, 19 South Main Street\, Belchertown\, MA\, 01007\, United States
CATEGORIES:Children's Events,Community Event,Games
GEO:42.2761978;-72.3998528
X-APPLE-STRUCTURED-LOCATION;VALUE=URI;X-ADDRESS=Clapp Memorial Library 19 South Main Street Belchertown MA 01007 United States;X-APPLE-RADIUS=500;X-TITLE=19 South Main Street:geo:-72.3998528,42.2761978
END:VEVENT
BEGIN:VEVENT
DTSTART;TZID=America/New_York:20171118T110000
DTEND;TZID=America/New_York:20171118T120000
DTSTAMP:20260423T063211
CREATED:20171027T205726Z
LAST-MODIFIED:20171027T210308Z
UID:10000420-1511002800-1511006400@clapplibrary.org
SUMMARY:Learn to Play Ukulele for Teens and Adults
DESCRIPTION:It’s easy and fun! Learn to play songs by Ed Sheeran\, Sia\, and Bruno Mars. No experience necessary. Registration is required if you will need to borrow a ukulele. If you’re bringing your own\, just show up! For grades 7-12 and adults.
URL:https://clapplibrary.org/event/teens-learn-to-play-ukulele/
LOCATION:Clapp Memorial Library\, 19 South Main Street\, Belchertown\, MA\, 01007\, United States
CATEGORIES:Classes & Lessons,Concerts & Music,Teen Events
ATTACH;FMTTYPE=image/jpeg:https://clapplibrary.org/wp-content/uploads/2015/11/Ukes.jpg
GEO:42.2761978;-72.3998528
X-APPLE-STRUCTURED-LOCATION;VALUE=URI;X-ADDRESS=Clapp Memorial Library 19 South Main Street Belchertown MA 01007 United States;X-APPLE-RADIUS=500;X-TITLE=19 South Main Street:geo:-72.3998528,42.2761978
END:VEVENT
BEGIN:VEVENT
DTSTART;TZID=America/New_York:20171118T130000
DTEND;TZID=America/New_York:20171118T140000
DTSTAMP:20260423T063211
CREATED:20171113T221236Z
LAST-MODIFIED:20171113T221236Z
UID:10000010-1511010000-1511013600@clapplibrary.org
SUMMARY:Who Doesn't Like Penguins? Meet Author Eric Bennett
DESCRIPTION:Eric Bennett will read from his critically acclaimed story\, “Noodles’ & Albie’s Birthday Surprise” on Saturday\, November 18 at 1:15pm. Reading followed by an activity and book signing. 
URL:https://clapplibrary.org/event/who-doesnt-like-penguins-meet-author-eric-bennett/
LOCATION:Clapp Memorial Library\, 19 South Main Street\, Belchertown\, MA\, 01007\, United States
CATEGORIES:Children's Events
GEO:42.2761978;-72.3998528
X-APPLE-STRUCTURED-LOCATION;VALUE=URI;X-ADDRESS=Clapp Memorial Library 19 South Main Street Belchertown MA 01007 United States;X-APPLE-RADIUS=500;X-TITLE=19 South Main Street:geo:-72.3998528,42.2761978
END:VEVENT
END:VCALENDAR