BEGIN:VCALENDAR
VERSION:2.0
PRODID:-//Clapp Memorial Library - ECPv6.15.20//NONSGML v1.0//EN
CALSCALE:GREGORIAN
METHOD:PUBLISH
X-ORIGINAL-URL:https://clapplibrary.org
X-WR-CALDESC:Events for Clapp Memorial Library
REFRESH-INTERVAL;VALUE=DURATION:PT1H
X-Robots-Tag:noindex
X-PUBLISHED-TTL:PT1H
BEGIN:VTIMEZONE
TZID:America/New_York
BEGIN:DAYLIGHT
TZOFFSETFROM:-0500
TZOFFSETTO:-0400
TZNAME:EDT
DTSTART:20180311T070000
END:DAYLIGHT
BEGIN:STANDARD
TZOFFSETFROM:-0400
TZOFFSETTO:-0500
TZNAME:EST
DTSTART:20181104T060000
END:STANDARD
BEGIN:DAYLIGHT
TZOFFSETFROM:-0500
TZOFFSETTO:-0400
TZNAME:EDT
DTSTART:20190310T070000
END:DAYLIGHT
BEGIN:STANDARD
TZOFFSETFROM:-0400
TZOFFSETTO:-0500
TZNAME:EST
DTSTART:20191103T060000
END:STANDARD
BEGIN:DAYLIGHT
TZOFFSETFROM:-0500
TZOFFSETTO:-0400
TZNAME:EDT
DTSTART:20200308T070000
END:DAYLIGHT
BEGIN:STANDARD
TZOFFSETFROM:-0400
TZOFFSETTO:-0500
TZNAME:EST
DTSTART:20201101T060000
END:STANDARD
END:VTIMEZONE
BEGIN:VEVENT
DTSTART;TZID=America/New_York:20190604T120000
DTEND;TZID=America/New_York:20190604T130000
DTSTAMP:20260421T034042
CREATED:20190111T164439Z
LAST-MODIFIED:20191125T185823Z
UID:10000571-1559649600-1559653200@clapplibrary.org
SUMMARY:Lunch with Libby
DESCRIPTION:Did you get a new device or want to do more with the one you already have? Drop on by to learn how to use Libby to access library ebooks\, downloadable audiobooks\, and magazines! \nOur Technology Librarian\, Tegan\, will be hosting drop-in sessions from noon to 1 on the first Tuesday of every month. Can’t make it? Call the library and schedule a one-on-one session of your own.
URL:https://clapplibrary.org/event/lunch-with-libby-2/2019-06-04/
LOCATION:Clapp Memorial Library\, 19 South Main Street\, Belchertown\, MA\, 01007\, United States
CATEGORIES:Classes & Lessons
ATTACH;FMTTYPE=image/png:https://clapplibrary.org/wp-content/uploads/2018/04/meet-libby940x600.png
ORGANIZER;CN="Tegan M":MAILTO:tmannino@cwmars.org
GEO:42.2761978;-72.3998528
X-APPLE-STRUCTURED-LOCATION;VALUE=URI;X-ADDRESS=Clapp Memorial Library 19 South Main Street Belchertown MA 01007 United States;X-APPLE-RADIUS=500;X-TITLE=19 South Main Street:geo:-72.3998528,42.2761978
END:VEVENT
BEGIN:VEVENT
DTSTART;TZID=America/New_York:20190606T190000
DTEND;TZID=America/New_York:20190606T200000
DTSTAMP:20260421T034042
CREATED:20190528T222555Z
LAST-MODIFIED:20190529T142901Z
UID:10000394-1559847600-1559851200@clapplibrary.org
SUMMARY:Song Workshop
DESCRIPTION:For teachers\, parents\, librarians and caregivers \nWith Dorothy Cresswell  Thursday\, June 6th 7:00 pm  Clapp Memorial Library \nParents\, librarians and teachers\, like the children\, need fresh material to keep their lives and jobs stimulating.  We are all multi-sensory\, and music wakes up the senses. It lowers the tension level. Certain songs can build social skills and create an inclusive welcoming atmosphere and affirm all children’s ideas. Zipper songs\, movement songs\, funny songs\, peaceful songs can all help a classroom or home to stay a positive learning environment. With original songs and resources from the national teacher/song-writer organization the Children’s Music Network\, Dorothy can offer a wealth of music.  Classic songs have their place\, but new music opens new doorways of the mind and heart. \nDorothy Cresswell is a retired early childhood teacher with over 30 years of classroom experience.  Dorothy created a local children’s tv show “The Curious Giraffe Show” that is in its third year and has over 40 programs recorded so far. In 2018 her two CDs of original music earned the Preferred Choice Award and the Seal of Excellence from Creative Child Magazine\, from a panel of parents and educators. \nThis program is supported in part by a grant from the Belchertown Cultural Council\, a local agency which is supported by the Mass Cultural Council\, a state agency.
URL:https://clapplibrary.org/event/song-workshop/
LOCATION:Clapp Memorial Library\, 19 South Main Street\, Belchertown\, MA\, 01007\, United States
CATEGORIES:Classes & Lessons,Concerts & Music
GEO:42.2761978;-72.3998528
X-APPLE-STRUCTURED-LOCATION;VALUE=URI;X-ADDRESS=Clapp Memorial Library 19 South Main Street Belchertown MA 01007 United States;X-APPLE-RADIUS=500;X-TITLE=19 South Main Street:geo:-72.3998528,42.2761978
END:VEVENT
END:VCALENDAR