BEGIN:VCALENDAR
VERSION:2.0
PRODID:-//Clapp Memorial Library - ECPv6.15.20//NONSGML v1.0//EN
CALSCALE:GREGORIAN
METHOD:PUBLISH
X-ORIGINAL-URL:https://clapplibrary.org
X-WR-CALDESC:Events for Clapp Memorial Library
REFRESH-INTERVAL;VALUE=DURATION:PT1H
X-Robots-Tag:noindex
X-PUBLISHED-TTL:PT1H
BEGIN:VTIMEZONE
TZID:America/New_York
BEGIN:DAYLIGHT
TZOFFSETFROM:-0500
TZOFFSETTO:-0400
TZNAME:EDT
DTSTART:20180311T070000
END:DAYLIGHT
BEGIN:STANDARD
TZOFFSETFROM:-0400
TZOFFSETTO:-0500
TZNAME:EST
DTSTART:20181104T060000
END:STANDARD
BEGIN:DAYLIGHT
TZOFFSETFROM:-0500
TZOFFSETTO:-0400
TZNAME:EDT
DTSTART:20190310T070000
END:DAYLIGHT
BEGIN:STANDARD
TZOFFSETFROM:-0400
TZOFFSETTO:-0500
TZNAME:EST
DTSTART:20191103T060000
END:STANDARD
BEGIN:DAYLIGHT
TZOFFSETFROM:-0500
TZOFFSETTO:-0400
TZNAME:EDT
DTSTART:20200308T070000
END:DAYLIGHT
BEGIN:STANDARD
TZOFFSETFROM:-0400
TZOFFSETTO:-0500
TZNAME:EST
DTSTART:20201101T060000
END:STANDARD
END:VTIMEZONE
BEGIN:VEVENT
DTSTART;TZID=America/New_York:20190617T183000
DTEND;TZID=America/New_York:20190617T200000
DTSTAMP:20260423T143027
CREATED:20190520T183040Z
LAST-MODIFIED:20190528T154217Z
UID:10000089-1560796200-1560801600@clapplibrary.org
SUMMARY:Teen Murder Mystery Night
DESCRIPTION:The year is 1874\, the place is Lord Archibald Weatherby’s reclusive estate on the English countryside\, and you have been cordially invited to a dinner that is simply to die for. Join us at the Clapp Memorial Library to solve the murder of one of our honored guests in a game in which your choices completely determine the outcome. Do you have what it takes to become a world-renowned Victorian sleuth\, or will your follies lead to your destruction? Join us and find out! \nThis program is open to students entering grades 7-12. Registration is required as characters are limited. Please register at the library circulation desk in person or by calling 323-0417\, or by emailing clapplibrarytab@gmail.com. Pizza and drinks will be provided\, please let us know of any food allergies.
URL:https://clapplibrary.org/event/teen-murder-mystery-night/
LOCATION:Clapp Memorial Library\, 19 South Main Street\, Belchertown\, MA\, 01007\, United States
CATEGORIES:Games,Teen Events
ATTACH;FMTTYPE=image/png:https://clapplibrary.org/wp-content/uploads/2019/05/Screen-Shot-2019-05-20-at-1.23.31-PM.png
GEO:42.2761978;-72.3998528
X-APPLE-STRUCTURED-LOCATION;VALUE=URI;X-ADDRESS=Clapp Memorial Library 19 South Main Street Belchertown MA 01007 United States;X-APPLE-RADIUS=500;X-TITLE=19 South Main Street:geo:-72.3998528,42.2761978
END:VEVENT
BEGIN:VEVENT
DTSTART;TZID=America/New_York:20190619T160000
DTEND;TZID=America/New_York:20190619T170000
DTSTAMP:20260423T143027
CREATED:20190612T194732Z
LAST-MODIFIED:20190612T194732Z
UID:10000655-1560960000-1560963600@clapplibrary.org
SUMMARY:Book Reading: Lola\, the Roving Reporter
DESCRIPTION:Children’s author\, puppeteer\, and educator Essie Laflamme will be visiting the Clapp Memorial Library! \nEssie’s “Sweet Echo Stories” foster the spirit of caring for others with great love\, kindness\, and humor.
URL:https://clapplibrary.org/event/book-reading-lola-the-roving-reporter/
LOCATION:Clapp Memorial Library\, 19 South Main Street\, Belchertown\, MA\, 01007\, United States
CATEGORIES:Children's Events
GEO:42.2761978;-72.3998528
X-APPLE-STRUCTURED-LOCATION;VALUE=URI;X-ADDRESS=Clapp Memorial Library 19 South Main Street Belchertown MA 01007 United States;X-APPLE-RADIUS=500;X-TITLE=19 South Main Street:geo:-72.3998528,42.2761978
END:VEVENT
BEGIN:VEVENT
DTSTART;TZID=America/New_York:20190621T160000
DTEND;TZID=America/New_York:20190621T210000
DTSTAMP:20260423T143027
CREATED:20190520T165727Z
LAST-MODIFIED:20190520T165727Z
UID:10000395-1561132800-1561150800@clapplibrary.org
SUMMARY:Food Truck Friday
DESCRIPTION:Food Truck Fridays return to Belchertown – and we’ll be there to celebrate with you.  Games\, coloring\, reading\, and summer reading registration!
URL:https://clapplibrary.org/event/food-truck-friday/
LOCATION:Clapp Memorial Library\, 19 South Main Street\, Belchertown\, MA\, 01007\, United States
CATEGORIES:Community Event
ATTACH;FMTTYPE=image/jpeg:https://clapplibrary.org/wp-content/uploads/2018/07/cultural-council.jpg
GEO:42.2761978;-72.3998528
X-APPLE-STRUCTURED-LOCATION;VALUE=URI;X-ADDRESS=Clapp Memorial Library 19 South Main Street Belchertown MA 01007 United States;X-APPLE-RADIUS=500;X-TITLE=19 South Main Street:geo:-72.3998528,42.2761978
END:VEVENT
END:VCALENDAR