BEGIN:VCALENDAR
VERSION:2.0
PRODID:-//Clapp Memorial Library - ECPv6.15.20//NONSGML v1.0//EN
CALSCALE:GREGORIAN
METHOD:PUBLISH
X-WR-CALNAME:Clapp Memorial Library
X-ORIGINAL-URL:https://clapplibrary.org
X-WR-CALDESC:Events for Clapp Memorial Library
REFRESH-INTERVAL;VALUE=DURATION:PT1H
X-Robots-Tag:noindex
X-PUBLISHED-TTL:PT1H
BEGIN:VTIMEZONE
TZID:America/New_York
BEGIN:DAYLIGHT
TZOFFSETFROM:-0500
TZOFFSETTO:-0400
TZNAME:EDT
DTSTART:20180311T070000
END:DAYLIGHT
BEGIN:STANDARD
TZOFFSETFROM:-0400
TZOFFSETTO:-0500
TZNAME:EST
DTSTART:20181104T060000
END:STANDARD
BEGIN:DAYLIGHT
TZOFFSETFROM:-0500
TZOFFSETTO:-0400
TZNAME:EDT
DTSTART:20190310T070000
END:DAYLIGHT
BEGIN:STANDARD
TZOFFSETFROM:-0400
TZOFFSETTO:-0500
TZNAME:EST
DTSTART:20191103T060000
END:STANDARD
BEGIN:DAYLIGHT
TZOFFSETFROM:-0500
TZOFFSETTO:-0400
TZNAME:EDT
DTSTART:20200308T070000
END:DAYLIGHT
BEGIN:STANDARD
TZOFFSETFROM:-0400
TZOFFSETTO:-0500
TZNAME:EST
DTSTART:20201101T060000
END:STANDARD
END:VTIMEZONE
BEGIN:VEVENT
DTSTART;TZID=America/New_York:20191007T183000
DTEND;TZID=America/New_York:20191007T200000
DTSTAMP:20260422T050507
CREATED:20190829T175907Z
LAST-MODIFIED:20191001T165846Z
UID:10000606-1570473000-1570478400@clapplibrary.org
SUMMARY:Alcohol Ink Workshop
DESCRIPTION:REGISTRATION REQUIRED – SPACE LIMITED \nNo experience necessary for this fun workshop presented by Belchertown Artist Barbara Sullivan.  If you love color\, you’ll love this workshop.  Make a unique piece of art to take home.  All supplies provided. \nRegister at the library\, program attended for individuals 18+ who have not previously taken an alcohol ink workshop. \nSeptember 30th event is full with waiting list.  We have added a second session on October 7th to accommodate the high interest. \nThis program is funded by the Friends of the Library.
URL:https://clapplibrary.org/event/alcohol-ink-workshop/2019-10-07/
LOCATION:Clapp Memorial Library\, 19 South Main Street\, Belchertown\, MA\, 01007\, United States
CATEGORIES:Crafts
ATTACH;FMTTYPE=image/jpeg:https://clapplibrary.org/wp-content/uploads/2019/03/alcohol-ink.jpg
GEO:42.2761978;-72.3998528
X-APPLE-STRUCTURED-LOCATION;VALUE=URI;X-ADDRESS=Clapp Memorial Library 19 South Main Street Belchertown MA 01007 United States;X-APPLE-RADIUS=500;X-TITLE=19 South Main Street:geo:-72.3998528,42.2761978
END:VEVENT
BEGIN:VEVENT
DTSTART;TZID=America/New_York:20191009T190000
DTEND;TZID=America/New_York:20191009T200000
DTSTAMP:20260422T050507
CREATED:20190913T211905Z
LAST-MODIFIED:20190918T134252Z
UID:10000007-1570647600-1570651200@clapplibrary.org
SUMMARY:Design and Construction of Windsor Chairs
DESCRIPTION:Join Patrick Perkins as he shares his knowledge and experience designing and building Windsor chairs. Topics include types of woods and antique-style tools used\, how logged wood is fashioned into finished chair parts\, and combining milk paint and oil for a durable finish. \nPatrick Perkins built his first Windsor chair in the early 1980s. He has since built many Windsor chairs in several different styles using the same techniques and tools used throughout the 18th century. \nThis program is funded by the Friends of the Library.
URL:https://clapplibrary.org/event/design-and-construction-of-windsor-chairs/
LOCATION:Clapp Memorial Library\, 19 South Main Street\, Belchertown\, MA\, 01007\, United States
CATEGORIES:Lecture
GEO:42.2761978;-72.3998528
X-APPLE-STRUCTURED-LOCATION;VALUE=URI;X-ADDRESS=Clapp Memorial Library 19 South Main Street Belchertown MA 01007 United States;X-APPLE-RADIUS=500;X-TITLE=19 South Main Street:geo:-72.3998528,42.2761978
END:VEVENT
END:VCALENDAR