BEGIN:VCALENDAR
VERSION:2.0
PRODID:-//Clapp Memorial Library - ECPv6.15.20//NONSGML v1.0//EN
CALSCALE:GREGORIAN
METHOD:PUBLISH
X-ORIGINAL-URL:https://clapplibrary.org
X-WR-CALDESC:Events for Clapp Memorial Library
REFRESH-INTERVAL;VALUE=DURATION:PT1H
X-Robots-Tag:noindex
X-PUBLISHED-TTL:PT1H
BEGIN:VTIMEZONE
TZID:America/New_York
BEGIN:DAYLIGHT
TZOFFSETFROM:-0500
TZOFFSETTO:-0400
TZNAME:EDT
DTSTART:20200308T070000
END:DAYLIGHT
BEGIN:STANDARD
TZOFFSETFROM:-0400
TZOFFSETTO:-0500
TZNAME:EST
DTSTART:20201101T060000
END:STANDARD
BEGIN:DAYLIGHT
TZOFFSETFROM:-0500
TZOFFSETTO:-0400
TZNAME:EDT
DTSTART:20210314T070000
END:DAYLIGHT
BEGIN:STANDARD
TZOFFSETFROM:-0400
TZOFFSETTO:-0500
TZNAME:EST
DTSTART:20211107T060000
END:STANDARD
BEGIN:DAYLIGHT
TZOFFSETFROM:-0500
TZOFFSETTO:-0400
TZNAME:EDT
DTSTART:20220313T070000
END:DAYLIGHT
BEGIN:STANDARD
TZOFFSETFROM:-0400
TZOFFSETTO:-0500
TZNAME:EST
DTSTART:20221106T060000
END:STANDARD
END:VTIMEZONE
BEGIN:VEVENT
DTSTART;VALUE=DATE:20210705
DTEND;VALUE=DATE:20210706
DTSTAMP:20260419T111036
CREATED:20210603T205530Z
LAST-MODIFIED:20210603T205530Z
UID:10000977-1625443200-1625529599@clapplibrary.org
SUMMARY:Library Closing: Independence Day 2021
DESCRIPTION:The Library will be closed in observation of Independence Day
URL:https://clapplibrary.org/event/library-closing-independence-day-2021/
LOCATION:Clapp Memorial Library\, 19 South Main Street\, Belchertown\, MA\, 01007\, United States
ATTACH;FMTTYPE=image/png:https://clapplibrary.org/wp-content/uploads/2016/08/library-closing.png
GEO:42.2761978;-72.3998528
X-APPLE-STRUCTURED-LOCATION;VALUE=URI;X-ADDRESS=Clapp Memorial Library 19 South Main Street Belchertown MA 01007 United States;X-APPLE-RADIUS=500;X-TITLE=19 South Main Street:geo:-72.3998528,42.2761978
END:VEVENT
BEGIN:VEVENT
DTSTART;TZID=America/New_York:20210707T103000
DTEND;TZID=America/New_York:20210707T113000
DTSTAMP:20260419T111036
CREATED:20210629T200111Z
LAST-MODIFIED:20210629T200111Z
UID:10000988-1625653800-1625657400@clapplibrary.org
SUMMARY:Sing Along with Jacques "Pop" Hooten
DESCRIPTION:Wednesdays at 10:30am – July 7th\, 14th\, & 21st \nFamilies with children participating in our Tails & Tales Summer Reading Program are invited to register for music on the Library lawn with Pop. Bring chairs and/or blankets. Enjoy a morning of listening\, singing\, and dancing to songs from Raffi to the Beatles. \nRegistration required – sign up at https://clapplibrary.beanstack.org \nFunded by CountryBank
URL:https://clapplibrary.org/event/sing-along-with-jacques-pop-hooten/2021-07-07/
LOCATION:Clapp Memorial Library\, 19 South Main Street\, Belchertown\, MA\, 01007\, United States
CATEGORIES:Children's Events,Concerts & Music
ATTACH;FMTTYPE=image/jpeg:https://clapplibrary.org/wp-content/uploads/2017/09/Pops-Hooten.jpg
GEO:42.2761978;-72.3998528
X-APPLE-STRUCTURED-LOCATION;VALUE=URI;X-ADDRESS=Clapp Memorial Library 19 South Main Street Belchertown MA 01007 United States;X-APPLE-RADIUS=500;X-TITLE=19 South Main Street:geo:-72.3998528,42.2761978
END:VEVENT
BEGIN:VEVENT
DTSTART;TZID=America/New_York:20210707T180000
DTEND;TZID=America/New_York:20210707T190000
DTSTAMP:20260419T111036
CREATED:20210628T140850Z
LAST-MODIFIED:20210628T140850Z
UID:10000272-1625680800-1625684400@clapplibrary.org
SUMMARY:Virtual Teen Trivia Night (July 2021)
DESCRIPTION:The Clapp Memorial Library is hosting a virtual Teen Trivia Night on Wednesday\, July\, 7th at 6:00PM. Test your knowledge on everything from animals\, to movies\, to how well you know Belchertown! The winner of the program will receive a gift card to a local business\, and all attendees will earn a raffle ticket for the Teen Summer Reading Program! Teens ages 12-19 must email clapplibrarytab@gmail.com to register for this virtual program.
URL:https://clapplibrary.org/event/virtual-teen-trivia-night-july-2021/
LOCATION:Virtual\, MA
CATEGORIES:Games,Teen Events
END:VEVENT
END:VCALENDAR