BEGIN:VCALENDAR
VERSION:2.0
PRODID:-//Clapp Memorial Library - ECPv6.15.20//NONSGML v1.0//EN
CALSCALE:GREGORIAN
METHOD:PUBLISH
X-WR-CALNAME:Clapp Memorial Library
X-ORIGINAL-URL:https://clapplibrary.org
X-WR-CALDESC:Events for Clapp Memorial Library
REFRESH-INTERVAL;VALUE=DURATION:PT1H
X-Robots-Tag:noindex
X-PUBLISHED-TTL:PT1H
BEGIN:VTIMEZONE
TZID:America/New_York
BEGIN:DAYLIGHT
TZOFFSETFROM:-0500
TZOFFSETTO:-0400
TZNAME:EDT
DTSTART:20200308T070000
END:DAYLIGHT
BEGIN:STANDARD
TZOFFSETFROM:-0400
TZOFFSETTO:-0500
TZNAME:EST
DTSTART:20201101T060000
END:STANDARD
BEGIN:DAYLIGHT
TZOFFSETFROM:-0500
TZOFFSETTO:-0400
TZNAME:EDT
DTSTART:20210314T070000
END:DAYLIGHT
BEGIN:STANDARD
TZOFFSETFROM:-0400
TZOFFSETTO:-0500
TZNAME:EST
DTSTART:20211107T060000
END:STANDARD
BEGIN:DAYLIGHT
TZOFFSETFROM:-0500
TZOFFSETTO:-0400
TZNAME:EDT
DTSTART:20220313T070000
END:DAYLIGHT
BEGIN:STANDARD
TZOFFSETFROM:-0400
TZOFFSETTO:-0500
TZNAME:EST
DTSTART:20221106T060000
END:STANDARD
END:VTIMEZONE
BEGIN:VEVENT
DTSTART;TZID=America/New_York:20211110T190000
DTEND;TZID=America/New_York:20211110T200000
DTSTAMP:20260419T164151
CREATED:20211021T225030Z
LAST-MODIFIED:20211021T225030Z
UID:10001067-1636570800-1636574400@clapplibrary.org
SUMMARY:Teen Write Night
DESCRIPTION:Calling all young writers\, poets\, playwrights\, and novelists! \nTeens in grades 7-12 are invited to attend weekly\, virtual Teen Write Nights throughout November as part of the library’s annual program for young writers during National Novel Writing Month. This is a great opportunity for teen writers to get feedback\, build community\, participate in writing exercises\, and grow their word count! \nCan’t make one of the dates? No problem! Attend as many of our Teen Write Nights as you want! Keep in mind that frequent attendance means more chances to win at our final party in December! \nYoung writers should e-mail clapplibrarytab@gmail.com for more information about the program and to register.
URL:https://clapplibrary.org/event/teen-write-night-2/2021-11-10/
LOCATION:Virtual\, MA
CATEGORIES:Teen Events,Writing Groups
ATTACH;FMTTYPE=image/png:https://clapplibrary.org/wp-content/uploads/2020/01/teens-planning.png
END:VEVENT
BEGIN:VEVENT
DTSTART;VALUE=DATE:20211111
DTEND;VALUE=DATE:20211112
DTSTAMP:20260419T164151
CREATED:20201113T170021Z
LAST-MODIFIED:20201113T170021Z
UID:10000967-1636588800-1636675199@clapplibrary.org
SUMMARY:Library Closing: Veterans Day 2021
DESCRIPTION:The Library will be closed in observation of Veterans Day
URL:https://clapplibrary.org/event/library-closing-veterans-day-2021/
LOCATION:Clapp Memorial Library\, 19 South Main Street\, Belchertown\, MA\, 01007\, United States
ATTACH;FMTTYPE=image/png:https://clapplibrary.org/wp-content/uploads/2016/08/library-closing.png
GEO:42.2761978;-72.3998528
X-APPLE-STRUCTURED-LOCATION;VALUE=URI;X-ADDRESS=Clapp Memorial Library 19 South Main Street Belchertown MA 01007 United States;X-APPLE-RADIUS=500;X-TITLE=19 South Main Street:geo:-72.3998528,42.2761978
END:VEVENT
END:VCALENDAR